BEGIN:VCALENDAR
VERSION:2.0
PRODID:-//Lydia Cevidalli - Musicista - ECPv6.15.20//NONSGML v1.0//EN
CALSCALE:GREGORIAN
METHOD:PUBLISH
X-ORIGINAL-URL:https://www.lydiacevidalli.it
X-WR-CALDESC:Eventi per Lydia Cevidalli - Musicista
REFRESH-INTERVAL;VALUE=DURATION:PT1H
X-Robots-Tag:noindex
X-PUBLISHED-TTL:PT1H
BEGIN:VTIMEZONE
TZID:Europe/Rome
BEGIN:DAYLIGHT
TZOFFSETFROM:+0100
TZOFFSETTO:+0200
TZNAME:CEST
DTSTART:20170326T010000
END:DAYLIGHT
BEGIN:STANDARD
TZOFFSETFROM:+0200
TZOFFSETTO:+0100
TZNAME:CET
DTSTART:20171029T010000
END:STANDARD
BEGIN:DAYLIGHT
TZOFFSETFROM:+0100
TZOFFSETTO:+0200
TZNAME:CEST
DTSTART:20180325T010000
END:DAYLIGHT
BEGIN:STANDARD
TZOFFSETFROM:+0200
TZOFFSETTO:+0100
TZNAME:CET
DTSTART:20181028T010000
END:STANDARD
BEGIN:DAYLIGHT
TZOFFSETFROM:+0100
TZOFFSETTO:+0200
TZNAME:CEST
DTSTART:20190331T010000
END:DAYLIGHT
BEGIN:STANDARD
TZOFFSETFROM:+0200
TZOFFSETTO:+0100
TZNAME:CET
DTSTART:20191027T010000
END:STANDARD
BEGIN:DAYLIGHT
TZOFFSETFROM:+0100
TZOFFSETTO:+0200
TZNAME:CEST
DTSTART:20200329T010000
END:DAYLIGHT
BEGIN:STANDARD
TZOFFSETFROM:+0200
TZOFFSETTO:+0100
TZNAME:CET
DTSTART:20201025T010000
END:STANDARD
BEGIN:DAYLIGHT
TZOFFSETFROM:+0100
TZOFFSETTO:+0200
TZNAME:CEST
DTSTART:20210328T010000
END:DAYLIGHT
BEGIN:STANDARD
TZOFFSETFROM:+0200
TZOFFSETTO:+0100
TZNAME:CET
DTSTART:20211031T010000
END:STANDARD
END:VTIMEZONE
BEGIN:VEVENT
DTSTART;TZID=Europe/Rome:20200308T160000
DTEND;TZID=Europe/Rome:20200308T173000
DTSTAMP:20260420T170521
CREATED:20200216T155451Z
LAST-MODIFIED:20200301T231414Z
UID:30540-1583683200-1583688600@www.lydiacevidalli.it
SUMMARY:Destinatario sconosciuto - Cancellato causa emergenza
DESCRIPTION:Olocausto di un’amicizia.\nLa Storia raccontata attraverso la Musica: 8 marzo\, al termine della replica\, incontro con Rosario Tedesco\, Nicola Bortolotti e la prof. Lydia Cevidalli del Conservatorio G. Verdi di Milano – ore 16 \nTeatro Elfo Puccini \n\n\n\n\n\n\nSALA FASSBINDER | 3 – 8 MARZO 2020\nMAR-SAB: 21:00 / DOM: 16:30\n\nDESTINATARIO SCONOSCIUTO\n\ndi Katherine Kressmann-Taylor\n\nadattamento e regia di Rosario Tedesco\n\ncon la partecipazione del Coro “F. Gaffurio” del Conservatorio Giuseppe Verdi di Milano\, diretto dal Maestro Edoardo Cazzaniga\nluci Giuliano Almerighi\ncon Nicola Bortolotti e Rosario Tedesco\n\nproduzione Teatro dell’Elfo\ncon il patrocinio del Goethe-Institut Mailand\ne con la partecipazione degli studenti di Teoria e Tecnica della traduzione inglese della Dott.ssa Elisa Pantaleo dell’Università degli Studi di Milano\n\n\n\n\n«Dopo 10 anni di repliche de Il Vicario di Rolf Hochhuth\, ho sentito il bisogno di ritornare su quel periodo storico\, sui fatti che hanno travagliato la Germania e l’Europa durante il periodo del nazismo. La mia attenzione si è rivolta a una fase precedente il conflitto\, il 1933\, il momento dell’ascesa al potere di Hitler\, il momento in cui le ombre si stendevano su un’intera nazione\, ancora ignara delle conseguenze di quello che è stato definito un delirio\, e in modo non meno ipocrita come un’infatuazione.\nHo scelto questo romanzo breve di K. Kressmann-Taylor\, Destinatario Sconosciuto\, forse per il suo carattere privato\, dapprima intimo e poi morboso. La grande amicizia che lega i due protagonisti e il suo progressivo disfarsi\, come sintomo di una trasformazione – discesa agli inferi – dell’idea stessa di umanità\, valori\, cultura.\nEd è sorprendente come un testo breve riesca così bene a illuminare e dissolvere gli enigmi della Storia.\nFin dalla prima lettura ho voluto che la “partita a scacchi” che si gioca tra i due protagonisti avesse un contrappunto musicale – non un accompagnamento\, ma una struttura che si intrecci al testo stesso.\nLe musiche selezionate sono di Mozart\, Gideon Klein e Ilse Weber. Un percorso nella Storia tedesca che racconta meglio di mille parole ciò che resta “indicibile”. Il primo brano\, di Mozart\, Bona Nox\, descrive con tutta la sua leggerezza e scanzonata goliardia\, la Germania prima del nazismo; il secondo brano\, di Gideon Klein\, Bachuri’le\, è un esempio di quella Entartete Musik (Musica degenerata) che apre uno squarcio su la censura e sul vero volto del regime; il terzo e ultimo brano è di Ilse Weber\, Wiegala\, una ninna nanna che ci conduce direttamente alle soglie delle camere a gas».\nRosario Tedesco \n\n\n\nIntero €33 / 65 anni € 17.50 / under 18 € 13.50 \n  \n 
URL:https://www.lydiacevidalli.it/eventi/destinatario-sconosciuto/
LOCATION:Teatro Elfo Puccini\, C.SO BUENOS AIRES 33\, MILANO\, 20124\, Italia
CATEGORIES:Lydia Cevidalli
ATTACH;FMTTYPE=image/png:https://www.lydiacevidalli.it/wp-content/uploads/2018/11/Locandina.png
END:VEVENT
BEGIN:VEVENT
DTSTART;VALUE=DATE:20181211
DTEND;VALUE=DATE:20181224
DTSTAMP:20260420T170521
CREATED:20181117T225223Z
LAST-MODIFIED:20181209T144201Z
UID:30091-1544486400-1545609599@www.lydiacevidalli.it
SUMMARY:Destinatario sconosciuto al Teatro dell'Elfo di Milano
DESCRIPTION:Collaborazione con Rosario Tedesco – dibattito a conclusione dello spettacolo di domenica 16 dicembre 2018 – ore 16\,30 \nSALA FASSBINDER | 11 – 23 DICEMBRE 2018\nMAR-SAB: 21:00 / DOM: 16:30\n\nDESTINATARIO SCONOSCIUTO\ndi Katherine Kressmann-Taylor\nadattamento e regia di Rosario Tedesco\ncon la partecipazione del Coro “F. Gaffurio” del Conservatorio Giuseppe Verdi di Milano\, diretto dal Maestro Edoardo Cazzaniga\nluci Giuliano Almerighi\ncon Nicola Bortolotti e Rosario Tedesco\nproduzione Teatro dell’Elfo\n\n«Dopo 10 anni di repliche de Il Vicario di Rolf Hochhuth\, ho sentito il bisogno di ritornare su quel periodo storico\, sui fatti che hanno travagliato la Germania e l’Europa durante il periodo del nazismo. La mia attenzione si è rivolta a una fase precedente il conflitto\, il 1933\, il momento dell’ascesa al potere di Hitler\, il momento in cui le ombre si stendevano su un’intera nazione\, ancora ignara delle conseguenze di quello che è stato definito un delirio\, e in modo non meno ipocrita come un’infatuazione.\nHo scelto questo romanzo breve di K. Kressmann-Taylor\, Destinatario Sconosciuto\, forse per il suo carattere privato\, dapprima intimo e poi morboso. La grande amicizia che lega i due protagonisti e il suo progressivo disfarsi\, come sintomo di una trasformazione – discesa agli inferi – dell’idea stessa di umanità\, valori\, cultura.\nEd è sorprendente come un testo breve riesca così bene a illuminare e dissolvere gli enigmi della Storia. Fin dalla prima lettura ho voluto che la “partita a scacchi” che si gioca tra i due protagonisti avesse un contrappunto musicale – non un accompagnamento\, ma una struttura che si intrecci al testo stesso. Le musiche selezionate sono di Mozart\, Gideon Klein e Ilse Weber. Un percorso nella Storia tedesca che racconta meglio di mille parole ciò che resta “indicibile”. Il primo brano\, di Mozart\, Bona Nox\, descrive con tutta la sua leggerezza e scanzonata goliardia\, la Germania prima del nazismo; il secondo brano\, di Gideon Klein\, Bachuri’le\, è un esempio di quella Entartete Musik (Musica degenerata) che apre uno squarcio su la censura e sul vero volto del regime; il terzo e ultimo brano è di Ilse Weber\, Wiegala\, una ninna nanna che ci conduce direttamente alle soglie delle camere a gas».\nRosario Tedesco\n\nOrari: mar-sab 21:00 / dom 16:30\n• Durata: 60′\n• Prezzi: intero € 32.50 / martedì posto unico € 21.50 / rid. <25 anni – >65 anni € 17 / under 18 € 12 / scuole € 12
URL:https://www.lydiacevidalli.it/eventi/destinatario-sconosciuto-al-teatro-dellelfo-di-milano/
CATEGORIES:Lydia Cevidalli
ATTACH;FMTTYPE=image/jpeg:https://www.lydiacevidalli.it/wp-content/uploads/2018/11/Foto-Rosario-Tedesco.jpg
END:VEVENT
END:VCALENDAR