BEGIN:VCALENDAR
VERSION:2.0
PRODID:-//Lydia Cevidalli - Musicista - ECPv6.15.20//NONSGML v1.0//EN
CALSCALE:GREGORIAN
METHOD:PUBLISH
X-ORIGINAL-URL:https://www.lydiacevidalli.it
X-WR-CALDESC:Eventi per Lydia Cevidalli - Musicista
REFRESH-INTERVAL;VALUE=DURATION:PT1H
X-Robots-Tag:noindex
X-PUBLISHED-TTL:PT1H
BEGIN:VTIMEZONE
TZID:Europe/Rome
BEGIN:DAYLIGHT
TZOFFSETFROM:+0100
TZOFFSETTO:+0200
TZNAME:CEST
DTSTART:20230326T010000
END:DAYLIGHT
BEGIN:STANDARD
TZOFFSETFROM:+0200
TZOFFSETTO:+0100
TZNAME:CET
DTSTART:20231029T010000
END:STANDARD
BEGIN:DAYLIGHT
TZOFFSETFROM:+0100
TZOFFSETTO:+0200
TZNAME:CEST
DTSTART:20240331T010000
END:DAYLIGHT
BEGIN:STANDARD
TZOFFSETFROM:+0200
TZOFFSETTO:+0100
TZNAME:CET
DTSTART:20241027T010000
END:STANDARD
BEGIN:DAYLIGHT
TZOFFSETFROM:+0100
TZOFFSETTO:+0200
TZNAME:CEST
DTSTART:20250330T010000
END:DAYLIGHT
BEGIN:STANDARD
TZOFFSETFROM:+0200
TZOFFSETTO:+0100
TZNAME:CET
DTSTART:20251026T010000
END:STANDARD
END:VTIMEZONE
BEGIN:VEVENT
DTSTART;TZID=Europe/Rome:20240123T080000
DTEND;TZID=Europe/Rome:20240930T233000
DTSTAMP:20260420T061058
CREATED:20240123T222322Z
LAST-MODIFIED:20240725T162640Z
UID:32828-1705996800-1727739000@www.lydiacevidalli.it
SUMMARY:27 gennaio 2024 - Culture Ebraiche lungo la via Emilia
DESCRIPTION:Vedi il programma su Raiplay\n  \nL’Ensemble Salomone Rossi partecipa al\n documentario di Bruna Bertani\nCulture Ebraiche lungo la via Emilia \n\nIn onda su RAI 5 – Canale 23 del Digitale Terrestre\nSabato 27 gennaio 2024 alle 21.45 e\ndomenica 28 gennaio 2024 alle 16.50\n\n\n\n\nQuesto racconto ripercorre i luoghi lungo la Via Emilia\, luoghi di scambio di cultura\, idee\, arte\, ma anche di discriminazioni e di persecuzioni. Il documentario mette in luce quegli spazi dell’Emilia Romagna costellati dalle comunità ebraiche\, non solo in un continuo confronto tra presente e passato\, ma anche in una prospettiva di fiducia nel futuro e nella vita che i valori ebraici continuano a trasmettere giorno dopo giorno. Bisogna raccontare le storie di ebrei vivi\, di ebrei immersi nelle comunità ebraiche ancora vitali e produttive\, i quali hanno contaminato e sono stati contaminati da arte\, musica\, cucina\, idee e personaggi. \n\n\nLeggi l’articolo intero su Shalom del 24 gennaio 2024\nLeggi l’articolo su Jomag del 26 gennaio 2024\nLeggi la presentazione su Moked del 23 gennaio 2024\n\n\nBuona visione\n\n 
URL:https://www.lydiacevidalli.it/eventi/culture-ebraiche-lungo-la-via-emilia/
LOCATION:Rai 5\, Italia
CATEGORIES:Ensemble Salomone Rossi
ATTACH;FMTTYPE=image/jpeg:https://www.lydiacevidalli.it/wp-content/uploads/2024/01/Locandina-27.1.2024-su-Rai5.jpg
END:VEVENT
END:VCALENDAR