BEGIN:VCALENDAR
VERSION:2.0
PRODID:-//Lydia Cevidalli - Musicista - ECPv6.15.20//NONSGML v1.0//EN
CALSCALE:GREGORIAN
METHOD:PUBLISH
X-ORIGINAL-URL:https://www.lydiacevidalli.it
X-WR-CALDESC:Eventi per Lydia Cevidalli - Musicista
REFRESH-INTERVAL;VALUE=DURATION:PT1H
X-Robots-Tag:noindex
X-PUBLISHED-TTL:PT1H
BEGIN:VTIMEZONE
TZID:Europe/Rome
BEGIN:DAYLIGHT
TZOFFSETFROM:+0100
TZOFFSETTO:+0200
TZNAME:CEST
DTSTART:20220327T010000
END:DAYLIGHT
BEGIN:STANDARD
TZOFFSETFROM:+0200
TZOFFSETTO:+0100
TZNAME:CET
DTSTART:20221030T010000
END:STANDARD
BEGIN:DAYLIGHT
TZOFFSETFROM:+0100
TZOFFSETTO:+0200
TZNAME:CEST
DTSTART:20230326T010000
END:DAYLIGHT
BEGIN:STANDARD
TZOFFSETFROM:+0200
TZOFFSETTO:+0100
TZNAME:CET
DTSTART:20231029T010000
END:STANDARD
BEGIN:DAYLIGHT
TZOFFSETFROM:+0100
TZOFFSETTO:+0200
TZNAME:CEST
DTSTART:20240331T010000
END:DAYLIGHT
BEGIN:STANDARD
TZOFFSETFROM:+0200
TZOFFSETTO:+0100
TZNAME:CET
DTSTART:20241027T010000
END:STANDARD
END:VTIMEZONE
BEGIN:VEVENT
DTSTART;TZID=Europe/Rome:20230606T080000
DTEND;TZID=Europe/Rome:20231202T233000
DTSTAMP:20260419T213405
CREATED:20230305T001652Z
LAST-MODIFIED:20231226T214655Z
UID:32305-1686038400-1701559800@www.lydiacevidalli.it
SUMMARY:#Ravenna Festival - domenica 11 giugno 2023 ore 21\,30
DESCRIPTION:L’Ensemble Salomone Rossi\ncelebra i 400 anni dall’edizione dei\n“Canti di Salomone” di Salomone Rossi\nVenezia\, 1622 – 1623\nPrima esecuzione in Italia per Ravenna Festival\nVedi programma del Ravenna Festival 2023\nVedi programma dell’Ensemble Salomone Rossi\n  \nDomenica 11 giugno 2023 – ore 21\,30 – Basilica di San Vitale\n\nFiori musicali dal barocco ebraico\n  \nDomenica 11 giugno 2023 – ore 11\,30 – San Giovanni Evangelista\n\nIn templo Domini\nNicolò Balducci sopranista\nLydia Cevidalli e Jamiang Santi violino e viola\nMaria Calvo violoncello\nGiovanni Togni clavicembalo \nMusiche di Salomone Rossi\, Abraham Caceres\, Anonimo (XVIII sec.)\, George Friedrich Händel\, Benedetto Marcello\, Antonio Vivaldi\, Cristiano Giuseppe Lidarti\n \nLeggi la recensione al concerto di Giulia Clai su Sipario\nRead the review to the concert\, by Giulia Clai du Sipario \nFoto di Luca Concas \n \n \n \n \n \n \n \n \n\n\nTra 1622 e il 1623\, viene stampata la raccolta I canti di Salomone\, trentatré salmi\, inni e canti sinagogali su testi ebraici composti da Salomone Rossi\, suonatore di viola da braccio e compositore ebreo per anni al servizio dei Gonzaga in Mantova. A interpretarli non poteva che essere il prestigioso Ensemble che prende il suo nome\, e che da oltre trent’anni pazientemente indaga il contributo ebraico alla musica occidentale\, dal barocco in poi. Nella raccolta\, spicca lo scritto teorico con cui il rabbino Leone da Modena giustifica l’audace adozione della polifonia vocale nella liturgia ebraica al posto del canto monodico e della cantillazione dei testi biblici\, di cui sono esempio\, invece\, le Intonazioni ebraiche che Benedetto Marcello un secolo dopo include nel suo Estro poetico e armonico\, frammenti di tradizione orale ascoltati forse nelle sinagoghe di Venezia. \nFoto di Giovanni Bindellini \n   \nLeggi la presentazione del Festival su Ravenna Web TV \n#Ravennafestival #baroquemusic #barocco #jewishmusic #salomonerossi #benedettomarcello #cantidisalomone #estropoeticoarmonico \n[download-attachments]
URL:https://www.lydiacevidalli.it/eventi/ravenna-festival-domenica-11-giugno-2023/
CATEGORIES:Ensemble Salomone Rossi
ATTACH;FMTTYPE=image/jpeg:https://www.lydiacevidalli.it/wp-content/uploads/2023/03/3-Ensemble-Salomone-Rossi-credit-Giovanni-Bindellini-scaled.jpg
ORGANIZER;CN="Ravenna Festival":MAILTO:tickets@ravennafestival.org
END:VEVENT
END:VCALENDAR