BEGIN:VCALENDAR
VERSION:2.0
PRODID:-//Lydia Cevidalli - Musicista - ECPv6.15.20//NONSGML v1.0//EN
CALSCALE:GREGORIAN
METHOD:PUBLISH
X-WR-CALNAME:Lydia Cevidalli - Musicista
X-ORIGINAL-URL:https://www.lydiacevidalli.it
X-WR-CALDESC:Eventi per Lydia Cevidalli - Musicista
REFRESH-INTERVAL;VALUE=DURATION:PT1H
X-Robots-Tag:noindex
X-PUBLISHED-TTL:PT1H
BEGIN:VTIMEZONE
TZID:Europe/Rome
BEGIN:DAYLIGHT
TZOFFSETFROM:+0100
TZOFFSETTO:+0200
TZNAME:CEST
DTSTART:20200329T010000
END:DAYLIGHT
BEGIN:STANDARD
TZOFFSETFROM:+0200
TZOFFSETTO:+0100
TZNAME:CET
DTSTART:20201025T010000
END:STANDARD
BEGIN:DAYLIGHT
TZOFFSETFROM:+0100
TZOFFSETTO:+0200
TZNAME:CEST
DTSTART:20210328T010000
END:DAYLIGHT
BEGIN:STANDARD
TZOFFSETFROM:+0200
TZOFFSETTO:+0100
TZNAME:CET
DTSTART:20211031T010000
END:STANDARD
BEGIN:DAYLIGHT
TZOFFSETFROM:+0100
TZOFFSETTO:+0200
TZNAME:CEST
DTSTART:20220327T010000
END:DAYLIGHT
BEGIN:STANDARD
TZOFFSETFROM:+0200
TZOFFSETTO:+0100
TZNAME:CET
DTSTART:20221030T010000
END:STANDARD
END:VTIMEZONE
BEGIN:VEVENT
DTSTART;TZID=Europe/Rome:20210131T080000
DTEND;TZID=Europe/Rome:20210131T170000
DTSTAMP:20260420T074851
CREATED:20220130T212241Z
LAST-MODIFIED:20220130T212446Z
UID:31630-1612080000-1612112400@www.lydiacevidalli.it
SUMMARY:Rai 2\, Sorgente di vita - Giorno della Memoria 2021
DESCRIPTION:Nella trasmissione dedicata al Giorno della Memoria\, presentazione del programma dedicato alle musiche che Ennio Morricone ha composto per alcuni film dedicati al tema della Shoah \nSorgente di vita \nEvento promosso da UCEI\, Unione Comunità Ebraiche Italiane\nCon il patrocinio della Presidenza del Consiglio\nEvento ufficiale della città di Milano\, trasmesso da Rai 5 il giorno 27 gennaio 2021\nRegistrato da Rai Cultura nella Sala Verdi del Conservatorio di Musica G. Verdi di Milano \nGiorno della Memoria 2021 – 2021 –  “La Memoria in Musica. Morricone e la Shoah” \nOrganizzazione: Associazione Figli della Shoah\, Conservatorio di musica G. Verdi di Milano\, CDEC (Centro di documentazione ebraica contemporanea)\, Comunità ebraica di Milano\, Fondazione Memoriale della Shoah di Milano\nIn collaborazione con Braincircle Italia e Musadoc\nMediapartner: Rai Cultura e Rai 5\, ClosetoMedia\nPatrocini: Comune di Milano e Regione Lombardia\nCon il supporto di Bancaintesa\, Gariwo e Equita\nLuogo: Sala Verdi del Conservatorio di Milano \nProgramma: Serata dedicata al ricordo di Ennio Morricone e al suo contributo musicale ai temi\ndella Shoah\nTesti di Viviana Kassam\, letture a cura di Peppe Servillo\nPresentazione: Claudio Vercelli\nInterventi: Roberto Faenza\nEsecuzione delle colonne sonore tratte dai film: Iona che visse nella Balena\, Gli occhiali d’oro\, Senza Destino\, Perlasca\, un eroe italiano\, oltre al brano scritto per accompagnare la lettura di “Se questo è un uomo” di Primo Levi\ncon la partecipazione di Peppe Servillo\nL’esecuzione è a cura della Jazz Verdi Orchestra diretta da Pino Jodice\nElaborazioni a cura di Pino Jodice
URL:https://www.lydiacevidalli.it/eventi/rai-2-sorgente-di-vita-giorno-della-memoria-2021/
LOCATION:Rai 1 Sorgente di vita
CATEGORIES:Lydia Cevidalli
ATTACH;FMTTYPE=image/jpeg:https://www.lydiacevidalli.it/wp-content/uploads/2022/01/Sorgente-di-vita.jpg
END:VEVENT
END:VCALENDAR