BEGIN:VCALENDAR
VERSION:2.0
PRODID:-//Lydia Cevidalli - Musicista - ECPv6.15.20//NONSGML v1.0//EN
CALSCALE:GREGORIAN
METHOD:PUBLISH
X-ORIGINAL-URL:https://www.lydiacevidalli.it
X-WR-CALDESC:Eventi per Lydia Cevidalli - Musicista
REFRESH-INTERVAL;VALUE=DURATION:PT1H
X-Robots-Tag:noindex
X-PUBLISHED-TTL:PT1H
BEGIN:VTIMEZONE
TZID:Europe/Rome
BEGIN:DAYLIGHT
TZOFFSETFROM:+0100
TZOFFSETTO:+0200
TZNAME:CEST
DTSTART:20190331T010000
END:DAYLIGHT
BEGIN:STANDARD
TZOFFSETFROM:+0200
TZOFFSETTO:+0100
TZNAME:CET
DTSTART:20191027T010000
END:STANDARD
BEGIN:DAYLIGHT
TZOFFSETFROM:+0100
TZOFFSETTO:+0200
TZNAME:CEST
DTSTART:20200329T010000
END:DAYLIGHT
BEGIN:STANDARD
TZOFFSETFROM:+0200
TZOFFSETTO:+0100
TZNAME:CET
DTSTART:20201025T010000
END:STANDARD
BEGIN:DAYLIGHT
TZOFFSETFROM:+0100
TZOFFSETTO:+0200
TZNAME:CEST
DTSTART:20210328T010000
END:DAYLIGHT
BEGIN:STANDARD
TZOFFSETFROM:+0200
TZOFFSETTO:+0100
TZNAME:CET
DTSTART:20211031T010000
END:STANDARD
BEGIN:DAYLIGHT
TZOFFSETFROM:+0100
TZOFFSETTO:+0200
TZNAME:CEST
DTSTART:20220327T010000
END:DAYLIGHT
BEGIN:STANDARD
TZOFFSETFROM:+0200
TZOFFSETTO:+0100
TZNAME:CET
DTSTART:20221030T010000
END:STANDARD
END:VTIMEZONE
BEGIN:VEVENT
DTSTART;TZID=Europe/Rome:20210222T190000
DTEND;TZID=Europe/Rome:20210630T233000
DTSTAMP:20260420T081003
CREATED:20210222T152336Z
LAST-MODIFIED:20210425T125057Z
UID:31201-1614020400-1625095800@www.lydiacevidalli.it
SUMMARY:Radio Classica\, Stravaganza barocca con Gabriele Formenti
DESCRIPTION:Alle 19 e alle 23 di lunedì 22 febbraio 2021\, a Radio Classica\, nel programma Stravaganza barocca \nAscolta il podcast \n\nDal minuto 0\,47 a 28\,21\n\nGabriele Formenti presenta il nuovo CD “Benedetto Marcello Psalms and Sonatas” dell’Ensemble Salomone Rossi\, edito da\n\n\nDynamic opera and classical music\n\n\nIntervista a Lydia Cevidalli\net\n\n\n[download-attachments]
URL:https://www.lydiacevidalli.it/eventi/radio-classica-stravaganza-barocca-con-gabriele-formenti/
LOCATION:Radio Classica
CATEGORIES:Ensemble Salomone Rossi
ATTACH;FMTTYPE=image/png:https://www.lydiacevidalli.it/wp-content/uploads/2021/02/radio-classica.png
ORGANIZER;CN="Radio Classica":MAILTO:radioclassica@class.it
END:VEVENT
BEGIN:VEVENT
DTSTART;TZID=Europe/Rome:20200123T160000
DTEND;TZID=Europe/Rome:20200123T170000
DTSTAMP:20260420T081003
CREATED:20200122T220559Z
LAST-MODIFIED:20200126T190740Z
UID:30509-1579795200-1579798800@www.lydiacevidalli.it
SUMMARY:Intervista a Radio Classica
DESCRIPTION:Intervista per il programma Top Ten\nRadio Classica\, per il Giorno della Memoria\, con Gabriele Formenti\nGiovedì 23 Gennaio 2020 – tra le 16 e le 17\nVedi le frequenze\nPodcast: al minuto 56.30\n \n 
URL:https://www.lydiacevidalli.it/eventi/intervista-radio-classica/
LOCATION:Radio Classica
CATEGORIES:Lydia Cevidalli
ATTACH;FMTTYPE=image/jpeg:https://www.lydiacevidalli.it/wp-content/uploads/2019/03/Lydia-Cevidalli-ritratti-7302.jpg
END:VEVENT
END:VCALENDAR