BEGIN:VCALENDAR
VERSION:2.0
PRODID:-//Lydia Cevidalli - Musicista - ECPv6.15.20//NONSGML v1.0//EN
CALSCALE:GREGORIAN
METHOD:PUBLISH
X-WR-CALNAME:Lydia Cevidalli - Musicista
X-ORIGINAL-URL:https://www.lydiacevidalli.it
X-WR-CALDESC:Eventi per Lydia Cevidalli - Musicista
REFRESH-INTERVAL;VALUE=DURATION:PT1H
X-Robots-Tag:noindex
X-PUBLISHED-TTL:PT1H
BEGIN:VTIMEZONE
TZID:Europe/Rome
BEGIN:DAYLIGHT
TZOFFSETFROM:+0100
TZOFFSETTO:+0200
TZNAME:CEST
DTSTART:20190331T010000
END:DAYLIGHT
BEGIN:STANDARD
TZOFFSETFROM:+0200
TZOFFSETTO:+0100
TZNAME:CET
DTSTART:20191027T010000
END:STANDARD
BEGIN:DAYLIGHT
TZOFFSETFROM:+0100
TZOFFSETTO:+0200
TZNAME:CEST
DTSTART:20200329T010000
END:DAYLIGHT
BEGIN:STANDARD
TZOFFSETFROM:+0200
TZOFFSETTO:+0100
TZNAME:CET
DTSTART:20201025T010000
END:STANDARD
BEGIN:DAYLIGHT
TZOFFSETFROM:+0100
TZOFFSETTO:+0200
TZNAME:CEST
DTSTART:20210328T010000
END:DAYLIGHT
BEGIN:STANDARD
TZOFFSETFROM:+0200
TZOFFSETTO:+0100
TZNAME:CET
DTSTART:20211031T010000
END:STANDARD
END:VTIMEZONE
BEGIN:VEVENT
DTSTART;TZID=Europe/Rome:20200128T080000
DTEND;TZID=Europe/Rome:20200128T233000
DTSTAMP:20260420T082435
CREATED:20200128T222521Z
LAST-MODIFIED:20200128T222521Z
UID:30534-1580198400-1580254200@www.lydiacevidalli.it
SUMMARY:XX Giorno della Memoria 2020
DESCRIPTION:Intervista con Paola D’Urso di Rai 3 Radio Classica per gli eventi organizzati al Conservatorio di Milano – XX Giorno della Memoria 2020. \nRai3 Gr Classica
URL:https://www.lydiacevidalli.it/eventi/xx-giorno-della-memoria-2020-2/
LOCATION:Rai3 Radio Classica
CATEGORIES:Lydia Cevidalli
ATTACH;FMTTYPE=image/jpeg:https://www.lydiacevidalli.it/wp-content/uploads/2020/01/LYDIA-Copia-1024x577-1.jpg
END:VEVENT
BEGIN:VEVENT
DTSTART;TZID=Europe/Rome:20200127T080000
DTEND;TZID=Europe/Rome:20200127T220000
DTSTAMP:20260420T082435
CREATED:20200126T212556Z
LAST-MODIFIED:20200126T212556Z
UID:30531-1580112000-1580162400@www.lydiacevidalli.it
SUMMARY:Rai3 Radio Classica\, intervista
DESCRIPTION:  \nIntervista con Paola D’Urso per Rai3 Radio Classica\nXX Giorno della Memoria\, evento ufficiale della città di Milano al Conservatorio di Milano \n  \n  \n 
URL:https://www.lydiacevidalli.it/eventi/rai3-radio-classica-intervista/
LOCATION:Rai3 Radio Classica
CATEGORIES:Lydia Cevidalli
ATTACH;FMTTYPE=image/jpeg:https://www.lydiacevidalli.it/wp-content/uploads/2018/03/Lydia-Cevidalli-prove-7710.jpg
END:VEVENT
END:VCALENDAR