BEGIN:VCALENDAR
VERSION:2.0
PRODID:-//Lydia Cevidalli - Musicista - ECPv6.15.20//NONSGML v1.0//EN
CALSCALE:GREGORIAN
METHOD:PUBLISH
X-ORIGINAL-URL:https://www.lydiacevidalli.it
X-WR-CALDESC:Eventi per Lydia Cevidalli - Musicista
REFRESH-INTERVAL;VALUE=DURATION:PT1H
X-Robots-Tag:noindex
X-PUBLISHED-TTL:PT1H
BEGIN:VTIMEZONE
TZID:Europe/Rome
BEGIN:DAYLIGHT
TZOFFSETFROM:+0100
TZOFFSETTO:+0200
TZNAME:CEST
DTSTART:20230326T010000
END:DAYLIGHT
BEGIN:STANDARD
TZOFFSETFROM:+0200
TZOFFSETTO:+0100
TZNAME:CET
DTSTART:20231029T010000
END:STANDARD
BEGIN:DAYLIGHT
TZOFFSETFROM:+0100
TZOFFSETTO:+0200
TZNAME:CEST
DTSTART:20240331T010000
END:DAYLIGHT
BEGIN:STANDARD
TZOFFSETFROM:+0200
TZOFFSETTO:+0100
TZNAME:CET
DTSTART:20241027T010000
END:STANDARD
BEGIN:DAYLIGHT
TZOFFSETFROM:+0100
TZOFFSETTO:+0200
TZNAME:CEST
DTSTART:20250330T010000
END:DAYLIGHT
BEGIN:STANDARD
TZOFFSETFROM:+0200
TZOFFSETTO:+0100
TZNAME:CET
DTSTART:20251026T010000
END:STANDARD
END:VTIMEZONE
BEGIN:VEVENT
DTSTART;TZID=Europe/Rome:20241123T213000
DTEND;TZID=Europe/Rome:20241123T213000
DTSTAMP:20260419T232752
CREATED:20240725T161831Z
LAST-MODIFIED:20241205T142614Z
UID:32972-1732397400-1732397400@www.lydiacevidalli.it
SUMMARY:23 novembre 2024 - TORINO PALAZZO CARIGNANO
DESCRIPTION:Scarica il Libretto Di Sala 600 ANNI\nL’Ensemble Salomone Rossi in concerto per i \n 600 anni di presenza ebraica\n Torino 1424 – 2024\nPalazzo Carignano\, 23 Novembre 2024 – ore 21\,30 \nVincenzo Di Donato\, tenore\nLydia Cevidalli\, violino e direzione\nGianfranco Ricci\, violino\nMarlise Goidanich\, violoncello\nFabio Longo\, contrabbasso\nGiovanni Togni\, clavicembalo \nEntrata libera con prenotazione\, fino a esurimento posti\nprenotazioni@torinoebraica.it \nIl concerto sarò preceduto dal saluto alle autorità alle 19 \ndalla lectio magistralis di Giovanni Levi alle 19\,30 \ne da un breve rinfresco alle 20\,45; \nalle 21\,30 il concerto\n\na conclusione degli eventi di apertura delle celebrazioni \nAscolta la registrazione del concerto dal minuto 1.09.42 \n 
URL:https://www.lydiacevidalli.it/eventi/torino-museo-del-risorgimento/
LOCATION:Museo del Risorgimento Torino\, Piazza Carlo Alberto\, Torino\, Italia
CATEGORIES:Ensemble Salomone Rossi
ATTACH;FMTTYPE=image/png:https://www.lydiacevidalli.it/wp-content/uploads/2024/07/Collage-Torino-01.png
END:VEVENT
END:VCALENDAR