BEGIN:VCALENDAR
VERSION:2.0
PRODID:-//Lydia Cevidalli - Musicista - ECPv6.15.20//NONSGML v1.0//EN
CALSCALE:GREGORIAN
METHOD:PUBLISH
X-ORIGINAL-URL:https://www.lydiacevidalli.it
X-WR-CALDESC:Eventi per Lydia Cevidalli - Musicista
REFRESH-INTERVAL;VALUE=DURATION:PT1H
X-Robots-Tag:noindex
X-PUBLISHED-TTL:PT1H
BEGIN:VTIMEZONE
TZID:Europe/Rome
BEGIN:DAYLIGHT
TZOFFSETFROM:+0100
TZOFFSETTO:+0200
TZNAME:CEST
DTSTART:20200329T010000
END:DAYLIGHT
BEGIN:STANDARD
TZOFFSETFROM:+0200
TZOFFSETTO:+0100
TZNAME:CET
DTSTART:20201025T010000
END:STANDARD
BEGIN:DAYLIGHT
TZOFFSETFROM:+0100
TZOFFSETTO:+0200
TZNAME:CEST
DTSTART:20210328T010000
END:DAYLIGHT
BEGIN:STANDARD
TZOFFSETFROM:+0200
TZOFFSETTO:+0100
TZNAME:CET
DTSTART:20211031T010000
END:STANDARD
BEGIN:DAYLIGHT
TZOFFSETFROM:+0100
TZOFFSETTO:+0200
TZNAME:CEST
DTSTART:20220327T010000
END:DAYLIGHT
BEGIN:STANDARD
TZOFFSETFROM:+0200
TZOFFSETTO:+0100
TZNAME:CET
DTSTART:20221030T010000
END:STANDARD
BEGIN:DAYLIGHT
TZOFFSETFROM:+0100
TZOFFSETTO:+0200
TZNAME:CEST
DTSTART:20230326T010000
END:DAYLIGHT
BEGIN:STANDARD
TZOFFSETFROM:+0200
TZOFFSETTO:+0100
TZNAME:CET
DTSTART:20231029T010000
END:STANDARD
END:VTIMEZONE
BEGIN:VEVENT
DTSTART;TZID=Europe/Rome:20220530T153000
DTEND;TZID=Europe/Rome:20220630T233000
DTSTAMP:20260420T024731
CREATED:20220412T210119Z
LAST-MODIFIED:20220529T210536Z
UID:31787-1653924600-1656631800@www.lydiacevidalli.it
SUMMARY:Due dentro ad un foco - Pietre d'inciampo
DESCRIPTION:Percorso tra le Pietre d’inciampo – Evento collegato a “Milano è memoria” \n30 maggio 2022\, ore 18 – ritrovo al sagrato di S. Maria delle Grazie\n \nLeggi articolo di presentazione Mosaico \nLeggi articolo di presentazione Manifesto\nÈ obbligatoria la prenotazione inviando una email a info@letracce.org (indicando nome\, cognome e numero di telefono). \n10 giugno 2022\, Sala Puccini del Conservatorio di Milano \n\n\n\n\ncon la partecipazione del Conservatorio Giuseppe Verdi di Milano\n\n\n\nMarta Brandolini\, canto – Paolo Camporesi\, fisarmonica\ndocenti coinvolti: Lydia Cevidalli e Nicoletta Mainardi\, in collaborazione con il Maestro Sergio Scappini \n#tracce / #pietredinciampo #vittimecarnefici #milano \n \n \n \n[download-attachments]
URL:https://www.lydiacevidalli.it/eventi/due-dentro-ad-un-foco-pietre-dinciampo/
LOCATION:Milano S. Maria delle Grazie\, Corso Magenta
CATEGORIES:Lydia Cevidalli
ATTACH;FMTTYPE=image/jpeg:https://www.lydiacevidalli.it/wp-content/uploads/2022/04/Cartolina-memoria-1.jpg
END:VEVENT
BEGIN:VEVENT
DTSTART;TZID=Europe/Rome:20210519T080000
DTEND;TZID=Europe/Rome:20210630T233000
DTSTAMP:20260420T024731
CREATED:20210519T210900Z
LAST-MODIFIED:20210519T211126Z
UID:31387-1621411200-1625095800@www.lydiacevidalli.it
SUMMARY:Due dentro ad un foco - Storie di pietra
DESCRIPTION:Progetto narrativo di Rosario Tedesco \nAttraversamenti urbani sulle tracce delle Pietre d’inciampo da un’idea di Rossella Tansini \nTesto\, adattamento e regia di Rosario Tedesco \nProduzione Tracce Associazione culturale \nVideo di presentazione del progetto e interviste a cura di Rosario Tedesco \nPartecipano i musicisti del Conservatorio con l’esecuzione di un repertorio di brani di J.S.Bach:\n.1 Bach\, Aria dalla suite orchestrale n. 3\, BWV 1068\n.2 Bach\, Arte della fuga\, Contrapunctus 1\, BWV 1080\n.3 Bach\, Partita n. 2\, BWV 1004\, Sarabanda\n.4 Bach\, Partita n. 2\, BWV 1004\, Allemanda prima parte\n.5 Bach\, Partita n. 2\, BWV 1004\, Allemanda 2 seconda parte\n.6 Bach\, Gottes Zeit ist die allerbeste Zeit –Sonatina actus tragicus\, BWV 106\n.7 Bach\, Partita n. 2\, BWV 1004\, Ciaccona \nPrenotazioni: info@letracce.org \n 
URL:https://www.lydiacevidalli.it/eventi/due-dentro-ad-un-foco-storie-di-pietra/
LOCATION:Tracce Associazione Culturale\, Milano\, Italia
CATEGORIES:Lydia Cevidalli
END:VEVENT
END:VCALENDAR