BEGIN:VCALENDAR
VERSION:2.0
PRODID:-//Lydia Cevidalli - Musicista - ECPv6.15.20//NONSGML v1.0//EN
CALSCALE:GREGORIAN
METHOD:PUBLISH
X-WR-CALNAME:Lydia Cevidalli - Musicista
X-ORIGINAL-URL:https://www.lydiacevidalli.it
X-WR-CALDESC:Eventi per Lydia Cevidalli - Musicista
REFRESH-INTERVAL;VALUE=DURATION:PT1H
X-Robots-Tag:noindex
X-PUBLISHED-TTL:PT1H
BEGIN:VTIMEZONE
TZID:Europe/Rome
BEGIN:DAYLIGHT
TZOFFSETFROM:+0100
TZOFFSETTO:+0200
TZNAME:CEST
DTSTART:20160327T010000
END:DAYLIGHT
BEGIN:STANDARD
TZOFFSETFROM:+0200
TZOFFSETTO:+0100
TZNAME:CET
DTSTART:20161030T010000
END:STANDARD
BEGIN:DAYLIGHT
TZOFFSETFROM:+0100
TZOFFSETTO:+0200
TZNAME:CEST
DTSTART:20170326T010000
END:DAYLIGHT
BEGIN:STANDARD
TZOFFSETFROM:+0200
TZOFFSETTO:+0100
TZNAME:CET
DTSTART:20171029T010000
END:STANDARD
BEGIN:DAYLIGHT
TZOFFSETFROM:+0100
TZOFFSETTO:+0200
TZNAME:CEST
DTSTART:20180325T010000
END:DAYLIGHT
BEGIN:STANDARD
TZOFFSETFROM:+0200
TZOFFSETTO:+0100
TZNAME:CET
DTSTART:20181028T010000
END:STANDARD
BEGIN:DAYLIGHT
TZOFFSETFROM:+0100
TZOFFSETTO:+0200
TZNAME:CEST
DTSTART:20190331T010000
END:DAYLIGHT
BEGIN:STANDARD
TZOFFSETFROM:+0200
TZOFFSETTO:+0100
TZNAME:CET
DTSTART:20191027T010000
END:STANDARD
END:VTIMEZONE
BEGIN:VEVENT
DTSTART;TZID=Europe/Rome:20180927T080000
DTEND;TZID=Europe/Rome:20180927T170000
DTSTAMP:20260420T131106
CREATED:20180926T231049Z
LAST-MODIFIED:20180926T231201Z
UID:30041-1538035200-1538067600@www.lydiacevidalli.it
SUMMARY:I luoghi della Memoria
DESCRIPTION:Da un’idea di Stefania Consenti\, un progetto di CastagnaRavelli\nregia a cura di Paolo Castagna\, con gli attori del Piccolo Teatro di Milano–Teatro d’Europa\nLorenzo De Maria\, Pasquale Di Filippo\, Elena Rivoltini\, Bruna Rossi\, Giulia Vecchio\nI musicisti del Conservatorio Giuseppe Verdi di Milano: Ernesto De Nittis\, violino – Gioele Pes\, violoncello – Paolo Sartori\, clarinetto – Paolo Camporesi\, fisarmonica; con la partecipazione della violinista Alessandra Romano che suonerà il violino della Shoah\, gentilmente concesso dall’Ing. Carlo Alberto Carutti e custodito presso “Le stanze per la musica” del Museo civico di Cremona\nCoordinamento della parte musicale a cura di Lydia Cevidalli \nLo spettacolo I luoghi della Memoria conduce il pubblico negli ambienti della Stazione Centrale\, dove centinaia di persone\, caricate su vagoni merci e stipate in spazi ristretti\, furono avviate a un destino di morte\, nei campi di concentramento e sterminio. Il percorso si apre con un prologo a cura della Fondazione Memoriale della Shoah. Quindi gli spettatori ascolteranno testimonianze di sopravvissuti all’Olocausto e alla deportazione politica e operaia\, recitate da attori del Piccolo Teatro e accompagnate da musiche eseguite da artisti del Conservatorio; saranno poi guidati all’interno di uno dei vagoni conservati\, luogo dove i prigionieri venivano rinchiusi per essere deportati.
URL:https://www.lydiacevidalli.it/eventi/luoghi-della-memoria-3/
LOCATION:Memoriale della Shoah\, Milano\, Piazza Edmond J. Safra 1\, Milano\, Italia
CATEGORIES:Lydia Cevidalli
ATTACH;FMTTYPE=image/jpeg:https://www.lydiacevidalli.it/wp-content/uploads/2018/09/Locandina-1-1.jpg
END:VEVENT
BEGIN:VEVENT
DTSTART;TZID=Europe/Rome:20170907T203000
DTEND;TZID=Europe/Rome:20170907T220000
DTSTAMP:20260420T131106
CREATED:20170829T205757Z
LAST-MODIFIED:20170902T215840Z
UID:29755-1504816200-1504821600@www.lydiacevidalli.it
SUMMARY:I Luoghi della Memoria
DESCRIPTION:Eventi al Memoriale della Shoah\nGiovedì 7 settembre e Domenica 10 Settembre 2017 dalle ore 20.30 \n \nda un’idea di Stefania Consenti\, un progetto di CastagnaRavelli\nregia a cura di Paolo Castagna\ncon gli attori del Piccolo Teatro di Milano–Teatro d’Europa\nSergio Leone\, Lucia Marinsalta\, David Meden\, Franca Nuti\, Giorgia Senesi\ni musicisti del Conservatorio Giuseppe Verdi di Milano: Michele Mazzini\, clarinetto – Ivo Martinenghi\, violoncello – Marco Maggi\, violoncello – Mattia Lecchi\, fisarmonica – con la partecipazione della violinista Alessandra Romano che suonerà il violino della Shoah\, gentilmente concesso dall’Ing.Carlo Alberto Carutti e custodito presso “Le stanze per la musica”del Museo civico di Cremona.\nCoordinamento della parte musicale a cura di Lydia Cevidalli\n\nTesti: Primo Levi\, dall’adattamento teatrale di Se questo è un uomo\, Einaudi\, Torino\, 1966\nGoti Bauer\, Quello che ho fatto. Trent’anni di lotte e di ricordi\, Laterza\, Bari\, 1987\nLudovico Barbiano di Belgiojoso\, Notte\, Nebbia – Racconto di Gusen\, Hoepli\, Milano\, 2009\nDaniela Padoan\, Come una rana d’inverno. Conversazioni con tre donne sopravvissute ad Auschwitz: Liliana Segre\,\nGoti Bauer\, Giuliana Tedeschi\, Bompiani\, Milano\, 2003\nLeopoldo Gasparotto\, Diario di Fossoli (a cura di Mimmo Franzinelli)\, Bollati Boringhieri\, Torino\, 2007 \nIngresso gratuito con prenotazione al link www.piccoloteatro.org/IT/memoria\nPer informazioni: comunicazione@piccoloteatromilano.it \nIl Memoriale della Shoah di Milano\, per il terzo anno consecutivo\, nella ricorrenza del 74° anniversario dell’8 settembre 1943 e dell’inizio della Resistenza armata contro il nazifascismo\, ospita un evento straordinario a ricordo del tragico destino di quanti partirono dai sotterranei della Stazione Centrale di Milano\, per mai più fare ritorno. Nato da un’idea di Stefania Consenti (dal libro Luoghi della Memoria di Milano della stessa autrice) e messo in scena da Castagna Ravelli\, con la regia di Paolo Castagna\, lo spettacolo\, itinerante\, conduce il pubblico negli ambienti della Stazione Centrale\, dove centinaia di persone\, caricate su vagoni merci e stipate in spazi ristretti\, furono avviate a un destino di morte\, nei campi di concentramento e sterminio. Il percorso si apre con un prologo a cura della Fondazione Memoriale della Shoah. Quindi gli spettatori ascolteranno testimonianze di sopravvissuti all’Olocausto e alla deportazione politica e operaia\, recitate da attori del Piccolo Teatro e accompagnate da musiche eseguite da artisti del Conservatorio; saranno poi guidati all’interno di uno dei vagoni conservati\, luogo dove i prigionieri venivano rinchiusi per essere deportati. Sovente si tende a sottovalutare la portata della Resistenza\, della deportazione politica e della Shoah sul territorio italiano. È di fondamentale importanza ricordare che le leggi razziali emanate dal governo fascista nel 1938\, la retata organizzata dalle SS a Roma il 16 ottobre del 1943\, quel che accadde nel biennio 1943-1945 (dopo l’8 settembre e prima della fine della guerra) ebbero conseguenze gravissime per la comunità ebraica italiana. La repressione nazifascista\, dopo l’8 settembre 1943\, colpì duramente migliaia di oppositori politici e lavoratori. Nelle grandi fabbriche di Milano\, Sesto San Giovanni e della provincia\, centinaia di lavoratori e di oppositori politici furono arrestati e deportati in seguito allo sciopero generale del marzo 1944. Le cifre di quanti persero la vita su tutto il territorio italiano per le persecuzioni\, gli omicidi a sfondo razziale\, politico e le deportazioni sono impressionanti\, così come si sa che di tutti gli esponenti della comunità ebraica catturati a Roma la mattina del 16 ottobre 1943 – oltre 1.000 persone – solo 16 fecero ritorno dai campi e tra questi una sola donna.\nAttorno al binario 21\, simbolo della Shoah in Italia e della deportazione politica e operaia\, è nato il Memoriale della Shoah di Milano\, il luogo della Memoria delle deportazioni dove ricordare diventa presupposto irrinunciabile per progettare il futuro. I luoghi della Memoria nasce e si svolge in questo luogo perché\, come spiega Ferruccio De Bortoli\, Presidente della Fondazione Memoriale della Shoah di Milano\, «Il ricordo è un esercizio salutare: apre la mente e i cuori… è protezione dalle suggestioni ideologiche\, dalle ondate di odio e sospetti. La memoria è il vaccino culturale che ci rende immuni dai batteri dell’antisemitismo e del razzismo».\nhttps://www.facebook.com/events/325079294584704/?active_tab=about\nhttp://www.consmilano.it/it/#agenda \n 
URL:https://www.lydiacevidalli.it/eventi/luoghi-della-memoria-2/
LOCATION:Memoriale della Shoah\, Milano\, Piazza Edmond J. Safra 1\, Milano\, Italia
ATTACH;FMTTYPE=image/png:https://www.lydiacevidalli.it/wp-content/uploads/2017/08/Treno.png
END:VEVENT
END:VCALENDAR