BEGIN:VCALENDAR
VERSION:2.0
PRODID:-//Lydia Cevidalli - Musicista - ECPv6.15.20//NONSGML v1.0//EN
CALSCALE:GREGORIAN
METHOD:PUBLISH
X-ORIGINAL-URL:https://www.lydiacevidalli.it
X-WR-CALDESC:Eventi per Lydia Cevidalli - Musicista
REFRESH-INTERVAL;VALUE=DURATION:PT1H
X-Robots-Tag:noindex
X-PUBLISHED-TTL:PT1H
BEGIN:VTIMEZONE
TZID:Europe/Rome
BEGIN:DAYLIGHT
TZOFFSETFROM:+0100
TZOFFSETTO:+0200
TZNAME:CEST
DTSTART:20170326T010000
END:DAYLIGHT
BEGIN:STANDARD
TZOFFSETFROM:+0200
TZOFFSETTO:+0100
TZNAME:CET
DTSTART:20171029T010000
END:STANDARD
BEGIN:DAYLIGHT
TZOFFSETFROM:+0100
TZOFFSETTO:+0200
TZNAME:CEST
DTSTART:20180325T010000
END:DAYLIGHT
BEGIN:STANDARD
TZOFFSETFROM:+0200
TZOFFSETTO:+0100
TZNAME:CET
DTSTART:20181028T010000
END:STANDARD
BEGIN:DAYLIGHT
TZOFFSETFROM:+0100
TZOFFSETTO:+0200
TZNAME:CEST
DTSTART:20190331T010000
END:DAYLIGHT
BEGIN:STANDARD
TZOFFSETFROM:+0200
TZOFFSETTO:+0100
TZNAME:CET
DTSTART:20191027T010000
END:STANDARD
END:VTIMEZONE
BEGIN:VEVENT
DTSTART;TZID=Europe/Rome:20181104T170000
DTEND;TZID=Europe/Rome:20181104T170000
DTSTAMP:20260420T183128
CREATED:20181024T212203Z
LAST-MODIFIED:20190213T223602Z
UID:30070-1541350800-1541350800@www.lydiacevidalli.it
SUMMARY:Nuovo CD "Benedetto Marcello - Salmi e Sonate"
DESCRIPTION:In occasione del concerto dell’Ensemble Salomone Rossi alla sala Alessi di Palazzo Marino\ndomenica 4 novembre 2018\, ore 17 presentazione dell’uscita del CD edito da Concerto Classics\nSegreti incontri veneziani\nentrata libera con documento di identità fino ad esaurimento dei posti\, oppure con accredito al link:\nwww.comune.milano.it/salaalessi \nPresentato alla Stanza della Musica di Radio3\, 25 gennaio 2019 \nPresentato il 13 febbraio 2019 a Primo Movimento di Radio3
URL:https://www.lydiacevidalli.it/eventi/nuovo-cd-benedetto-marcello-salmi-e-sonate/
LOCATION:Palazzo Marino a Milano\, Piazza Scala\, 2\, Milano\, 20121\, Italia
CATEGORIES:Ensemble Salomone Rossi
ATTACH;FMTTYPE=image/jpeg:https://www.lydiacevidalli.it/wp-content/uploads/2018/09/5-Cd-Marcello-presentazione.jpg
END:VEVENT
END:VCALENDAR