BEGIN:VCALENDAR
VERSION:2.0
PRODID:-//Lydia Cevidalli - Musicista - ECPv6.15.20//NONSGML v1.0//EN
CALSCALE:GREGORIAN
METHOD:PUBLISH
X-WR-CALNAME:Lydia Cevidalli - Musicista
X-ORIGINAL-URL:https://www.lydiacevidalli.it
X-WR-CALDESC:Eventi per Lydia Cevidalli - Musicista
REFRESH-INTERVAL;VALUE=DURATION:PT1H
X-Robots-Tag:noindex
X-PUBLISHED-TTL:PT1H
BEGIN:VTIMEZONE
TZID:Europe/Rome
BEGIN:DAYLIGHT
TZOFFSETFROM:+0100
TZOFFSETTO:+0200
TZNAME:CEST
DTSTART:20210328T010000
END:DAYLIGHT
BEGIN:STANDARD
TZOFFSETFROM:+0200
TZOFFSETTO:+0100
TZNAME:CET
DTSTART:20211031T010000
END:STANDARD
BEGIN:DAYLIGHT
TZOFFSETFROM:+0100
TZOFFSETTO:+0200
TZNAME:CEST
DTSTART:20220327T010000
END:DAYLIGHT
BEGIN:STANDARD
TZOFFSETFROM:+0200
TZOFFSETTO:+0100
TZNAME:CET
DTSTART:20221030T010000
END:STANDARD
BEGIN:DAYLIGHT
TZOFFSETFROM:+0100
TZOFFSETTO:+0200
TZNAME:CEST
DTSTART:20230326T010000
END:DAYLIGHT
BEGIN:STANDARD
TZOFFSETFROM:+0200
TZOFFSETTO:+0100
TZNAME:CET
DTSTART:20231029T010000
END:STANDARD
END:VTIMEZONE
BEGIN:VEVENT
DTSTART;TZID=Europe/Rome:20221022T080000
DTEND;TZID=Europe/Rome:20221231T233000
DTSTAMP:20260420T110813
CREATED:20221016T162342Z
LAST-MODIFIED:20221114T233319Z
UID:31962-1666425600-1672529400@www.lydiacevidalli.it
SUMMARY:Camminare nella Memoria
DESCRIPTION:Vedi trasmissione Sorgente di vita di Rai3 del 6 novembre 2022\, al minuto 20.14 \nProgetti per Camminare nella Memoria\na cura dell’Associazione Leracce \n22-23 ottobre 2022\, ore 16.00\npartenza da Santa Maria delle Grazie\nDUE DENTRO AD UN FOCO\nSTORIE DI PIETRA \nprogetto narrativo di\nRosario Tedesco\nattraversamenti urbani sulle tracce delle pietre d’inciampo\nda un’idea di Rossella Tansini\ntesto adattamento e regia di\nRosario Tedesco \ncon la partecipazione del\nConservatorio Giuseppe Verdi di Milano\ndocenti coinvolti: Lydia Cevidalli e Nicoletta Mainardi \nmusicisti: Marta Brandolini voce / Davide Ballanti chitarra \nleggi articolo su “Eventi culturali”\nLeggi Moked \n* costo: 10 euro / prenotazione obbligatoria: info@letracce.org (indicare nome\, cognome e numero di telefono)
URL:https://www.lydiacevidalli.it/eventi/camminare-nella-memoria/
LOCATION:Milano S. Maria delle Grazie\, Corso Magenta
CATEGORIES:Lydia Cevidalli
ATTACH;FMTTYPE=image/jpeg:https://www.lydiacevidalli.it/wp-content/uploads/2022/10/Pietre-dinciampo-10.2022-1.jpg
ORGANIZER;CN="Le Tracce Associazione Culturale":MAILTO:info@letracce.org
END:VEVENT
BEGIN:VEVENT
DTSTART;TZID=Europe/Rome:20220910T200000
DTEND;TZID=Europe/Rome:20220911T233000
DTSTAMP:20260420T110813
CREATED:20220905T205641Z
LAST-MODIFIED:20220905T212317Z
UID:31889-1662840000-1662939000@www.lydiacevidalli.it
SUMMARY:I luoghi della Memoria
DESCRIPTION:Il Piccolo Teatro – Teatro d’Europa presenta \nI luoghi della Memoria\, 10 e 11 SETTEMBRE 2022\npresso la Fondazione Memoriale della Shoah di Milano – Piazza Edmond J. Safra 1 \nIl percorso si snoda nelle varie parti del Memoriale\nGli ingressi sono differenziati per quattro gruppi di circa 30 persone\nI gruppi verranno fatti entrare a distanza di 15 minuti \nOrari ingressi alle ore\n20:30 / 20:45 / 21:00 / 21:15\nIngresso gratuito – prenota sul sito www.piccoloteatro.org \nCon gli attori del Piccolo Teatro di Milano –Teatro d’Europa\nGabriele Brunelli\, Sergio Leone\, David Meden\, Giorgia Senesi\, Beatrice Verzotti \nI musicisti del Conservatorio\nAugusto Tenuta\, violino\nMariami Maisuradze\, violoncello\nLetizia Ballotta\, clarinetto\nPaolo Camporesi\, fisarmonica \nCon la partecipazione della violinista Alessandra Romano\, che suonerà il violino della Shoah a lei donato dall’Ingegner Carlo Alberto Carutti \nCoordinamento della parte musicale a cura di Lydia Cevidalli e Nicoletta Mainardi \nda un’idea di Stefania Consenti\, un progetto di CastagnaRavelli – regia a cura di Paolo Castagna \n         \n[download-attachments]
URL:https://www.lydiacevidalli.it/eventi/i-luoghi-della-memoria-2/
LOCATION:Memoriale della Shoah\, Milano\, Piazza Edmond J. Safra 1\, Milano\, Italia
CATEGORIES:Lydia Cevidalli
ATTACH;FMTTYPE=image/jpeg:https://www.lydiacevidalli.it/wp-content/uploads/2022/09/0001.jpg
ORGANIZER;CN="Piccolo Teatro di Milano":MAILTO:https://www.piccoloteatro.org/it/memoria19
END:VEVENT
BEGIN:VEVENT
DTSTART;TZID=Europe/Rome:20220326T080000
DTEND;TZID=Europe/Rome:20220327T233000
DTSTAMP:20260420T110813
CREATED:20220322T111050Z
LAST-MODIFIED:20220322T111050Z
UID:31775-1648281600-1648423800@www.lydiacevidalli.it
SUMMARY:Percorso tra le Pietre d'inciampo
DESCRIPTION:#tracce / #pietredinciampo #vittimecarnefici #milano\n\n\nTornano gli attraversamenti urbani di “DUE DENTRO AD UN FOCO”:\necco le date di marzo 2022\n\n\nSabato 26 e domenica 27 marzo 2022\, a Milano tornano i percorsi di Tracce dedicati alle “pietre d’inciampo”\, con il progetto narrativo di Rosario Tedesco “DUE DENTRO AD UN FOCO / Storie di pietra”.\n\n\nTrovate tutte le informazioni sul progetto alla pagina dedicata: https://www.letracce.org/progetti/due-dentro-ad-un-foco/\n\n\nÈ obbligatoria la prenotazione inviando una email a info@letracce.org (indicando nome\, cognome e numero di telefono).\n\n\n\ncon la partecipazione del Conservatorio Giuseppe Verdi di Milano\nPaolo Camporesi\, fisarmonica\ndocenti coinvolti: Lydia Cevidalli e Nicoletta Mainardi\, in collaborazione con il Maestro Sergio Scappini\n \nBRANI musicali \na. J.S. Bach\, Preludio BWV 871\nb. J.S. Bach\, Fuga BWV 876\nc. Ilse Weber\, Und der Regen rinnt\nd. Ilse Weber\, Wiegala \nPartenza dai Giardini di Via Morgagni 20 (lato Consolato Repubblica Ceca)\n10 euro per l’attraversamento urbano\n10 euro adulti\, 5 euro studenti e over 65 per l’ingresso e la visita guidata al Memoriale \nI soci di TRACCE possono partecipare gratuitamente alla marcia\, pagando unicamente l’ingresso al Memoriale. È ovviamente gradita\, a loro discrezione\, un’elargizione liberale. \n* Consigliamo scarpe comode e portare con sé acqua \n\nDUE DENTRO AD UN FOCO\n/ Storie di pietra\n\n\nprogetto narrativo di\nRosario Tedesco\n\n\nattraversamenti urbani sulle tracce delle pietre d’inciampo\nda un’idea di Rossella Tansini\n\n\ntesto adattamento e regia di\nRosario Tedesco\n\n\nproduzione\nTRACCE associazione culturale\n\n\ncon il contributo di\nUNIVERSITÀ DEGLI STUDI DI MILANO\n\n\nin collaborazione con\nCASA DELLA MEMORIA – COMUNE DI MILANO\n\n\ncon la partecipazione di\nCONSERVATORIO GIUSEPPE VERDI DI MILANO\n\n\ncon il patrocinio di\nANED / ANPI PROVINCIALE MILANO / ASSOCIAZIONE FIGLI DELLA SHOAH / CDEC / COMITATO PIETRE D’INCIAMPO MILANO / ISTITUTO NAZIONALE FERRUCCIO PARRI MILANO / MEMORIALE DELLA SHOAH MILANO / TEATRO ELFO PUCCINI\nRassegna stampa:\nhttps://www.letracce.org/news/due-dentro-ad-un-foco-presentato-dal-conservatorio-verdi-di-milano/\nhttps://www.youtube.com/clip/Ugkx4Dl_v-bRWu5en2jARnE3iKsYQTYo2a3g\nhttps://www.letracce.org/rassegna-stampa/percorrere-la-storia-lorrore/
URL:https://www.lydiacevidalli.it/eventi/percorso-tra-le-pietre-dinciampo/
LOCATION:Memoriale della Shoah\, Milano\, Piazza Edmond J. Safra 1\, Milano\, Italia
CATEGORIES:Lydia Cevidalli
ATTACH;FMTTYPE=image/jpeg:https://www.lydiacevidalli.it/wp-content/uploads/2022/03/Immagine-di-copertina.jpg
ORGANIZER;CN="Le Tracce":MAILTO:info@letracce.org
END:VEVENT
BEGIN:VEVENT
DTSTART;TZID=Europe/Rome:20220127T080000
DTEND;TZID=Europe/Rome:20220228T233000
DTSTAMP:20260420T110813
CREATED:20220126T222438Z
LAST-MODIFIED:20220424T131808Z
UID:31621-1643270400-1646091000@www.lydiacevidalli.it
SUMMARY:XXII Giorno della Memoria 
DESCRIPTION:Giovedì 27 gennaio 2022 – ore 20\,30\n“La musica proibita come strumento di resistenza: blues\, swing e jazz”\n\nSala Verdi del Conservatorio di Milano\nVideo completo della serata \nVisibile su Facebook \nImpercettibile o assordante\, mesta o gioiosa\, la musica si intreccia con la Storia e con le storie\, in un flusso inarrestabile nel bene e nel male. \nAttraverso la musica vogliamo raccontare alcuni momenti del Male assoluto\, la Shoah.  Una colonna sonora di suoni\, voci\, musiche che raccontano un crescendo drammatico che inizia quasi sommessamente con le leggi razziali nazifasciste del 1933 e del 1938\, e si spinge sino agli orrori dello sterminio nella sua fase finale.  Una colonna sonora che vorremmo non fosse mai stata scritta.   Quello che vogliamo raccontare è ben poco\, ma è pur sempre un sassolino messo sulla tomba della Memoria. Per non dimenticare\, per ricordare\, si deve prima conoscere. E alla conoscenza e al ricordo servono anche le storie della musica allora perseguitata\, proibita\, dimenticata al di qua e al di là delle Alpi: quella composta o eseguita da ebrei\, il blues e il jazz quale musica “negroide” sostenuta dal cosiddetto “giudaismo nordamericano”.  La “pura tradizione musicale germanica” e “l’italica purezza melodica” sono in pericolo! Ma la “musica degenerata” vive e sopravvive al nazifascismo\, eseguita con poche mascherature un po’ ovunque nei locali e alla radio. Anche nei lager\, talvolta voluta e organizzata dagli stessi nazisti. \nSul palcoscenico della Sala Grande del Conservatorio di Milano montiamo un cantiere-laboratorio aperto e duttile\, al limite dell’improvvisazione\, seguendo la musica come filo conduttore: musica dal vivo\, interventi registrati* e dal vivo\,  ricostruzioni di ambienti\, suoni\, rumori. (Claudio Ricordi) \n*Con le voci di Nedo Fiano\, Peter Kammerer\, James Conlon\, Virgilio Savona\, Franco Cerri \nIntervengono:\nRaffaello Vignali Presidente del Conservatorio di Milano\nCristina Frosini Direttore del Conservatorio di Milano\nAnna Scavuzzo Vice sindaco di Milano\nStefano Bolognini Assessore allo Sviluppo Città metropolitana\,\nGiovani e Comunicazione di Regione Lombardia\nWalker Meghnagi Presidente della Comunità Ebraica di Milano\nRoberto Jarach Direttore della Fondazione Memoriale della Shoah di Milano\nRav Alfonso Arbib Rabbino Capo della Comunità Ebraica di Milano \nVerdi Jazz Orchestra\, Pino Jodice direzione e arrangiamenti\nClaudio Ricordi e Mariella Zanetti\, autori e regia\nIra Rubini\, Luca Bragalini\, presentazione\nClaudio Moneta\, letture \nIdeazione del progetto a cura dell’Associazione Figli della Shoah e del Conservatorio di Milano\nOrganizzazione del Giorno della Memoria per il Conservatorio di Milano a cura di\nLydia Cevidalli e Nicoletta Mainardi \nIn collaborazione con:\nUnione Comunità Ebraiche Italiane \, Conservatorio di musica G. Verdi di Milano\, Centro di Documentazione Ebraica Contemporanea\, Comunità Ebraica di MilanoCoC \nIngresso solo con green pass rafforzato e obbligo di mascherina FFP2\nRegistrazioni all’indirizzo biglietteriachiostro@consmilano.it \n[download-attachments]
URL:https://www.lydiacevidalli.it/eventi/xxii-giorno-della-memoria/
LOCATION:Milano\, Sala Verdi del Conservatorio di Musica\, Via Conservatorio 12\, Milano \, 20122\, Italia
CATEGORIES:Lydia Cevidalli
ATTACH;FMTTYPE=image/jpeg:https://www.lydiacevidalli.it/wp-content/uploads/2022/01/POSTER-SHOA-scaled.jpg
ORGANIZER;CN="Associazione Figli della Shoah":MAILTO:info@figlidellashoah.org
END:VEVENT
BEGIN:VEVENT
DTSTART;TZID=Europe/Rome:20220126T080000
DTEND;TZID=Europe/Rome:20220228T233000
DTSTAMP:20260420T110813
CREATED:20220128T145731Z
LAST-MODIFIED:20220128T154952Z
UID:31625-1643184000-1646091000@www.lydiacevidalli.it
SUMMARY:Radio Popolare\, presentazione del Giorno della Memoria
DESCRIPTION:Intervista con Ira Rubini per Radio Popolare – presentazione dell’evento del Giorno della Memoria al Conservatorio di Milano\nRadio Popolare\ndal minuto 6\,26 al minuto 14\,55
URL:https://www.lydiacevidalli.it/eventi/radio-popolare-presentazione-del-giorno-della-memoria/
LOCATION:Milano\, Sala Verdi del Conservatorio di Musica\, Via Conservatorio 12\, Milano \, 20122\, Italia
CATEGORIES:Lydia Cevidalli
ATTACH;FMTTYPE=image/jpeg:https://www.lydiacevidalli.it/wp-content/uploads/2022/01/POSTER-SHOA-scaled.jpg
ORGANIZER;CN="Associazione Figli della Shoah":MAILTO:info@figlidellashoah.org
END:VEVENT
END:VCALENDAR