BEGIN:VCALENDAR
VERSION:2.0
PRODID:-//Lydia Cevidalli - Musicista - ECPv6.15.20//NONSGML v1.0//EN
CALSCALE:GREGORIAN
METHOD:PUBLISH
X-WR-CALNAME:Lydia Cevidalli - Musicista
X-ORIGINAL-URL:https://www.lydiacevidalli.it
X-WR-CALDESC:Eventi per Lydia Cevidalli - Musicista
REFRESH-INTERVAL;VALUE=DURATION:PT1H
X-Robots-Tag:noindex
X-PUBLISHED-TTL:PT1H
BEGIN:VTIMEZONE
TZID:Europe/Rome
BEGIN:DAYLIGHT
TZOFFSETFROM:+0100
TZOFFSETTO:+0200
TZNAME:CEST
DTSTART:20200329T010000
END:DAYLIGHT
BEGIN:STANDARD
TZOFFSETFROM:+0200
TZOFFSETTO:+0100
TZNAME:CET
DTSTART:20201025T010000
END:STANDARD
BEGIN:DAYLIGHT
TZOFFSETFROM:+0100
TZOFFSETTO:+0200
TZNAME:CEST
DTSTART:20210328T010000
END:DAYLIGHT
BEGIN:STANDARD
TZOFFSETFROM:+0200
TZOFFSETTO:+0100
TZNAME:CET
DTSTART:20211031T010000
END:STANDARD
BEGIN:DAYLIGHT
TZOFFSETFROM:+0100
TZOFFSETTO:+0200
TZNAME:CEST
DTSTART:20220327T010000
END:DAYLIGHT
BEGIN:STANDARD
TZOFFSETFROM:+0200
TZOFFSETTO:+0100
TZNAME:CET
DTSTART:20221030T010000
END:STANDARD
END:VTIMEZONE
BEGIN:VEVENT
DTSTART;TZID=Europe/Rome:20210312T080000
DTEND;TZID=Europe/Rome:20210630T233000
DTSTAMP:20260420T112645
CREATED:20210404T221117Z
LAST-MODIFIED:20220320T223013Z
UID:31232-1615536000-1625095800@www.lydiacevidalli.it
SUMMARY:Radio Vaticana presenta il CD "Benedetto Marcello Psalms and Sonatas"
DESCRIPTION:Pierluigi Morelli presenta a Radio Vaticana il nuovo Cd dell’Ensemble Salomone Rossi nel programma “Lo scrigno musicale”\nvenerdì 12 marzo 2021 \ndal minuto 0\,28 fino a 1.03.14 \nAscolta il podcast \n[download-attachments]
URL:https://www.lydiacevidalli.it/eventi/radio-vaticana-presenta-il-cd-benedetto-marcello-psalms-and-sonatas/
CATEGORIES:Ensemble Salomone Rossi,Lydia Cevidalli
ATTACH;FMTTYPE=image/png:https://www.lydiacevidalli.it/wp-content/uploads/2021/03/radio-vaticana.png
END:VEVENT
END:VCALENDAR