BEGIN:VCALENDAR
VERSION:2.0
PRODID:-//Lydia Cevidalli - Musicista - ECPv6.15.20//NONSGML v1.0//EN
CALSCALE:GREGORIAN
METHOD:PUBLISH
X-ORIGINAL-URL:https://www.lydiacevidalli.it
X-WR-CALDESC:Eventi per Lydia Cevidalli - Musicista
REFRESH-INTERVAL;VALUE=DURATION:PT1H
X-Robots-Tag:noindex
X-PUBLISHED-TTL:PT1H
BEGIN:VTIMEZONE
TZID:Europe/Rome
BEGIN:DAYLIGHT
TZOFFSETFROM:+0100
TZOFFSETTO:+0200
TZNAME:CEST
DTSTART:20210328T010000
END:DAYLIGHT
BEGIN:STANDARD
TZOFFSETFROM:+0200
TZOFFSETTO:+0100
TZNAME:CET
DTSTART:20211031T010000
END:STANDARD
BEGIN:DAYLIGHT
TZOFFSETFROM:+0100
TZOFFSETTO:+0200
TZNAME:CEST
DTSTART:20220327T010000
END:DAYLIGHT
BEGIN:STANDARD
TZOFFSETFROM:+0200
TZOFFSETTO:+0100
TZNAME:CET
DTSTART:20221030T010000
END:STANDARD
BEGIN:DAYLIGHT
TZOFFSETFROM:+0100
TZOFFSETTO:+0200
TZNAME:CEST
DTSTART:20230326T010000
END:DAYLIGHT
BEGIN:STANDARD
TZOFFSETFROM:+0200
TZOFFSETTO:+0100
TZNAME:CET
DTSTART:20231029T010000
END:STANDARD
BEGIN:DAYLIGHT
TZOFFSETFROM:+0100
TZOFFSETTO:+0200
TZNAME:CEST
DTSTART:20240331T010000
END:DAYLIGHT
BEGIN:STANDARD
TZOFFSETFROM:+0200
TZOFFSETTO:+0100
TZNAME:CET
DTSTART:20241027T010000
END:STANDARD
BEGIN:DAYLIGHT
TZOFFSETFROM:+0100
TZOFFSETTO:+0200
TZNAME:CEST
DTSTART:20250330T010000
END:DAYLIGHT
BEGIN:STANDARD
TZOFFSETFROM:+0200
TZOFFSETTO:+0100
TZNAME:CET
DTSTART:20251026T010000
END:STANDARD
END:VTIMEZONE
BEGIN:VEVENT
DTSTART;TZID=Europe/Rome:20231109T080000
DTEND;TZID=Europe/Rome:20240629T233000
DTSTAMP:20260420T061501
CREATED:20231105T220742Z
LAST-MODIFIED:20240725T155201Z
UID:32725-1699516800-1719703800@www.lydiacevidalli.it
SUMMARY:Musica e Popolo Ebraico\, secondo corso - anno accademico 2023-2024
DESCRIPTION:Il Laboratorio di musica tradizionale e popolare per l’anno 2023 si articolerà in\nquattro incontri online\, secondo il seguente calendario: \nGiovedì   9 novembre – ore 15\,45-17\,15\nIsraele dopo il 1948\, intreccio di poesia e musica\n \nGiovedì 16 novembre – ore 15\,45-17\,15\nMusica pop\, rock e folk in Israele \nGiovedì 23 novembre – ore 15\,45-17\,15\nIl successo della tradizione mizrahi in Israele \nGiovedì 30 novembre – ore 15\,45-17\,15\nMusicisti e mondo ebraico nella diaspora dal XIX al XXI secolo \nPer informazioni ed iscrizioni contattare la professoressa Elena Bartolini:\nElenaLea.Bartolini@docenti.limec-ssml.com \nCon il sostegno di\n Associazione Italiana Amici dell’Università di Gerusalemme\nBet Magazine Mosaico \nIl Corso di Alta Formazione Post-diploma di laurea in Studi Ebraici\, si\ncolloca nell’ambito della mediazione linguistica e culturale\, e nasce con\nl’obiettivo di fornire conoscenze e competenze relative alla lingua e alla\ncultura ebraica. Per la varietà dei temi trattati e la modalità didattica tailor\nmade\, possono partecipare al percorso anche i non laureati appassionati\nalla materia che vogliono conoscere lingua\, culture e sfumature del mondo\nebraico. Per tutti i partecipanti il progetto didattico offre l’acquisizione di: \nCOMPETENZE LINGUISTICHE\nCOMPETENZE CULTURALI \nPer raggiungere tali obiettivi il Corso si avvale della\ncollaborazione di Docenti\, Esperti e Insegnanti madrelingua sia\nin ambito linguistico che culturale\, con il patrocinio\ndell’Università Pedagogium di Varsavia\, dell’Institute of\nTechnology Development of Canada\, dell’Ulpan di Milano –\nScuola di lingua ebraica\, storia e pensiero – e\ndell’Associazione Italiana Amici dell’Università di Gerusalemme. \nCORPO DOCENTI\nElena Lea Bartolini\nAndrea Bienati\nLydia Cevidalli\nSara Ferrari\nRoi Giladi\nNicol Imberti\nRaffaella Scardi\nClaudio Vercelli \nÈ data la possibilità anche di iscriversi a singoli moduli\, che\npossono essere certificati come competenze acquisite previo\nsuperamento di una prova d’esame. \nVia Adelaide Bono Cairoli\, 34\n20127 – Milano\nT. 02 54 60 857\nsegreteria.generale@limec-ssml.com\nlimec-ssml.com \n[download-attachments]
URL:https://www.lydiacevidalli.it/eventi/musica-e-popolo-ebraico-anno-accademico-2023-2024/
CATEGORIES:Lydia Cevidalli
ATTACH;FMTTYPE=image/png:https://www.lydiacevidalli.it/wp-content/uploads/2023/11/Locandina-Musica-e-popolo-ebraico.png
ORGANIZER;CN="Limec SSML":MAILTO:info@limec-ssml.com
END:VEVENT
BEGIN:VEVENT
DTSTART;TZID=Europe/Rome:20230423T080000
DTEND;TZID=Europe/Rome:20240630T170000
DTSTAMP:20260420T061501
CREATED:20220713T174549Z
LAST-MODIFIED:20240725T154746Z
UID:31861-1682236800-1719766800@www.lydiacevidalli.it
SUMMARY:MUSICA E POPOLO EBRAICO
DESCRIPTION:Il Laboratorio di musica tradizionale e popolare per l’anno 2023 si articolerà in quattro incontri\,\nsecondo il seguente calendario: \nMercoledì 10 maggio – ore 17\,30-19\nLa musica nella tradizione sinagogale – Primi esempi di “Musica ebraica” nel XVII e XVIII secolo \nMercoledì 17 maggio – ore 17\,30-19\nMusicisti girovaghi: niggunim\, hazzanim\, musica klezmer \nMercoledì 24 maggio – ore 17\,30-19\nMusicisti ebrei negli Stati Uniti – Musica nei campi di concentramento \nMercoledì 31 maggio – ore 17\,30-19\nCompositori ebrei di musica classica e famosi esecutori nel XIX e XX secolo\n \nVerranno svolti i seguenti argomenti: \n\nLa musica nella tradizione sinagogale – Primi esempi di “musica ebraica” nel XVII e XVIII secolo\nMusicisti girovaghi: niggunim\, hazzanim\, musica klezmer\nMusicisti ebrei negli Stati Uniti – Musica nei campi di concentramento\nCompositori ebrei di musica classica e famosi esecutori nel XIX e XX secolo\n\n  \nPer informazioni ed iscrizioni contattare la professoressa Elena Bartolini:\nElenaLea.Bartolini@docenti.limec-ssml.com \nAssociazione Italiana Amici dell’Università di Gerusalemme \nBet Magazine Mosaico \nIl Corso di Alta Formazione Post-diploma di laurea in Studi Ebraici\, si\ncolloca nell’ambito della mediazione linguistica e culturale\, e nasce con\nl’obiettivo di fornire conoscenze e competenze relative alla lingua e alla\ncultura ebraica. Per la varietà dei temi trattati e la modalità didattica tailor\nmade\, possono partecipare al percorso anche i non laureati appassionati\nalla materia che vogliono conoscere lingua\, culture e sfumature del mondo\nebraico. Per tutti i partecipanti il progetto didattico offre l’acquisizione di: \nCOMPETENZE LINGUISTICHE\nCOMPETENZE CULTURALI \nhttps://www.limec-ssml.com/it/alta-formazione/corso-di-alta-formazione-in-studi-ebraici  \nIscrizioni entro il giorno 20 ottobre 2022\nci sono ancora posti disponibili! \nPer raggiungere tali obiettivi il Corso si avvale della\ncollaborazione di Docenti\, Esperti e Insegnanti madrelingua sia\nin ambito linguistico che culturale\, con il patrocinio\ndell’Università Pedagogium di Varsavia\, dell’Institute of\nTechnology Development of Canada\, dell’Ulpan di Milano –\nScuola di lingua ebraica\, storia e pensiero – e\ndell’Associazione Amici dell’Università di Gerusalemme. \nCORPO DOCENTI\nElena Lea Bartolini\nAndrea Bienati\nLydia Cevidalli\nSara Ferrari\nRoi Giladi\nNicol Imberti\nRaffaella Scardi\nClaudio Vercelli \nIl Corso di Alta Formazione in Studi Ebraici si rivolge a tutti\ncoloro che desiderano approfondire lo studio della Lingua e\ndella Cultura ebraica (Studenti\, Traduttori\, Mediatori Culturali\,\nDocenti\, Giornalisti\, Appassionati e Studiosi):\n• I partecipanti in possesso di una Laurea Triennale o Magistrale\nal termine del percorso conseguiranno un Diploma del Corso di\nAlta Formazione;\n• I partecipanti in possesso di Diploma di Maturità\nconseguiranno al termine del percorso un Attestato con la\ncertificazione delle competenze acquisite nei singoli moduli.\nLe richieste di partecipazione provenienti da persone con un\npercorso formativo differente saranno valutate singolarmente\nprevio invio del curriculum vitae all’indirizzo e-mail\nsegreteria.generale@limec-ssml.com.\nIl Diploma del Corso di Alta Formazione per i laureati e per tutti\ngli altri prevede l’attestato di partecipazione con certificazione delle\ncompetenze acquisite nei moduli si conseguono con il\nsuperamento delle prove conclusive di ogni corso e laboratorio\,\ncompletato il tirocinio (100 ore) e dopo la discussione della prova\nfinale.\nÈ data la possibilità anche di iscriversi a singoli moduli\, che\npossono essere certificati come competenze acquisite previo\nsuperamento di una prova d’esame. \nVia Adelaide Bono Cairoli\, 34\n20127 – Milano\nT. 02 54 60 857\nsegreteria.generale@limec-ssml.com\nlimec-ssml.com \nCi sarà anche un laboratorio di Musica tradizionale e popolare\, tenuto da Lydia Cevidalli e Elena Bartolini De Angeli \n\n\nVedi articolo di presentazione dei corsi su Mosaico\nVedi sito Associazione Italiana Amici dell’Università di Gerusalemme\nVedi sito Israele.net\n\n\n[download-attachments]
URL:https://www.lydiacevidalli.it/eventi/limec-corso-di-alta-formazione-in-studi-ebraici/
LOCATION:Milano\, Via Adelaide Bono Cairoli\, 34\, Milano\, 20127
CATEGORIES:Lydia Cevidalli
ATTACH;FMTTYPE=image/png:https://www.lydiacevidalli.it/wp-content/uploads/2022/07/LOCANDINA-Laboratorio-musica.png
ORGANIZER;CN="limec":MAILTO:info@limec-ssml.com
END:VEVENT
BEGIN:VEVENT
DTSTART;TZID=Europe/Rome:20220125T080000
DTEND;TZID=Europe/Rome:20220228T233000
DTSTAMP:20260420T061501
CREATED:20220214T133211Z
LAST-MODIFIED:20220214T152806Z
UID:31663-1643097600-1646091000@www.lydiacevidalli.it
SUMMARY:Note di Memoria: La musica della tradizione ebraica e la musica occidentale
DESCRIPTION:Incontro-lezione interattiva in area ZOOM \nLa musica della tradizione ebraica e la musica occidentale\n25 gennaio 2022 alle ore 10:30 con\nLydia Cevidalli\, concertista e docente di violino al Conservatorio di Musica G. Verdi di Milano \nStorie e Memoria con\nAndrea Bienati\, Direttore Didattico LIMEC SSML \nCoordinatrice dell’evento\nElena Lea Bartolini De Angeli \n[download-attachments]
URL:https://www.lydiacevidalli.it/eventi/note-di-memoria-la-musica-della-tradizione-ebraica-e-la-musica-occidentale/
CATEGORIES:Lydia Cevidalli
ATTACH;FMTTYPE=image/jpeg:https://www.lydiacevidalli.it/wp-content/uploads/2022/02/Locandina-senza-link-scaled.jpg
ORGANIZER;CN="Limec SSML":MAILTO:info@limec-ssml.com
END:VEVENT
END:VCALENDAR