BEGIN:VCALENDAR
VERSION:2.0
PRODID:-//Lydia Cevidalli - Musicista - ECPv6.15.20//NONSGML v1.0//EN
CALSCALE:GREGORIAN
METHOD:PUBLISH
X-ORIGINAL-URL:https://www.lydiacevidalli.it
X-WR-CALDESC:Eventi per Lydia Cevidalli - Musicista
REFRESH-INTERVAL;VALUE=DURATION:PT1H
X-Robots-Tag:noindex
X-PUBLISHED-TTL:PT1H
BEGIN:VTIMEZONE
TZID:Europe/Rome
BEGIN:DAYLIGHT
TZOFFSETFROM:+0100
TZOFFSETTO:+0200
TZNAME:CEST
DTSTART:20190331T010000
END:DAYLIGHT
BEGIN:STANDARD
TZOFFSETFROM:+0200
TZOFFSETTO:+0100
TZNAME:CET
DTSTART:20191027T010000
END:STANDARD
BEGIN:DAYLIGHT
TZOFFSETFROM:+0100
TZOFFSETTO:+0200
TZNAME:CEST
DTSTART:20200329T010000
END:DAYLIGHT
BEGIN:STANDARD
TZOFFSETFROM:+0200
TZOFFSETTO:+0100
TZNAME:CET
DTSTART:20201025T010000
END:STANDARD
BEGIN:DAYLIGHT
TZOFFSETFROM:+0100
TZOFFSETTO:+0200
TZNAME:CEST
DTSTART:20210328T010000
END:DAYLIGHT
BEGIN:STANDARD
TZOFFSETFROM:+0200
TZOFFSETTO:+0100
TZNAME:CET
DTSTART:20211031T010000
END:STANDARD
BEGIN:DAYLIGHT
TZOFFSETFROM:+0100
TZOFFSETTO:+0200
TZNAME:CEST
DTSTART:20220327T010000
END:DAYLIGHT
BEGIN:STANDARD
TZOFFSETFROM:+0200
TZOFFSETTO:+0100
TZNAME:CET
DTSTART:20221030T010000
END:STANDARD
BEGIN:DAYLIGHT
TZOFFSETFROM:+0100
TZOFFSETTO:+0200
TZNAME:CEST
DTSTART:20230326T010000
END:DAYLIGHT
BEGIN:STANDARD
TZOFFSETFROM:+0200
TZOFFSETTO:+0100
TZNAME:CET
DTSTART:20231029T010000
END:STANDARD
END:VTIMEZONE
BEGIN:VEVENT
DTSTART;TZID=Europe/Rome:20220330T120000
DTEND;TZID=Europe/Rome:20220401T233000
DTSTAMP:20260420T101615
CREATED:20220328T210653Z
LAST-MODIFIED:20220330T194312Z
UID:31779-1648641600-1648855800@www.lydiacevidalli.it
SUMMARY:Radio Popolare - intervista
DESCRIPTION:Mercoledì 30 marzo 2022\, a Radio Popolare\, ore 12\,15 per il programma Cult \nPresentazione – intervista di Ira Rubini a Lydia Cevidalli\ndal minuto 49.02 a 54.36\nPresentazione del concerto all’Auditorium Gaber di Palazzo Pirelli\, a Milano\, organizzato dal Consiglio Regionale Lombardo:\nSerata Klezmer – Omaggio a Marc Chagall\nIn occasione della mostra in onore di Marc Chagall\, inaugurata il 16 marzo 2022 al Mudec di Milano\nhttps://www.mudec.it/…/marc-chagall-una-storia-di-due…/ \nSpettacolo di Maria Proja de Santis\nMusiche klezmer con Klezsfardit e Trio Magistrelli\nLydia Cevidalli\, violino – Luigi Magistrelli\, Laura Magistrelli e Cristina Romanò\, clarinetti\n\n#klezmermusic\n#Jewishmusic\n#jewishculture\n#Mudec\n\n[download-attachments]
URL:https://www.lydiacevidalli.it/eventi/radio-popolare-intervista/
CATEGORIES:Lydia Cevidalli
ATTACH;FMTTYPE=image/jpeg:https://www.lydiacevidalli.it/wp-content/uploads/2022/03/Klezsfardit-Gabriele-Coen-Lydia-Cevidalli-e-Sergio-Scappini.jpg
END:VEVENT
BEGIN:VEVENT
DTSTART;TZID=Europe/Rome:20220126T080000
DTEND;TZID=Europe/Rome:20220228T233000
DTSTAMP:20260420T101615
CREATED:20220128T145731Z
LAST-MODIFIED:20220128T154952Z
UID:31625-1643184000-1646091000@www.lydiacevidalli.it
SUMMARY:Radio Popolare\, presentazione del Giorno della Memoria
DESCRIPTION:Intervista con Ira Rubini per Radio Popolare – presentazione dell’evento del Giorno della Memoria al Conservatorio di Milano\nRadio Popolare\ndal minuto 6\,26 al minuto 14\,55
URL:https://www.lydiacevidalli.it/eventi/radio-popolare-presentazione-del-giorno-della-memoria/
LOCATION:Milano\, Sala Verdi del Conservatorio di Musica\, Via Conservatorio 12\, Milano \, 20122\, Italia
CATEGORIES:Lydia Cevidalli
ATTACH;FMTTYPE=image/jpeg:https://www.lydiacevidalli.it/wp-content/uploads/2022/01/POSTER-SHOA-scaled.jpg
ORGANIZER;CN="Associazione Figli della Shoah":MAILTO:info@figlidellashoah.org
END:VEVENT
BEGIN:VEVENT
DTSTART;TZID=Europe/Rome:20200401T080000
DTEND;TZID=Europe/Rome:20200401T233000
DTSTAMP:20260420T101615
CREATED:20200331T195511Z
LAST-MODIFIED:20200331T211348Z
UID:30574-1585728000-1585783800@www.lydiacevidalli.it
SUMMARY:Intervista a Radio Popolare\, al programma Cult
DESCRIPTION:Ira Rubini intervista Lydia Cevidalli e presenta il CD “Salmi e Sonate di Benedetto Marcello” \n1 Aprile 2020\, alle 12 su Radio Popolare – frequenze \n\n91.400 Mandello Lario\, Bellagio\n104.700 Mantova\n105.200 Sondrio\n107.500 Alta Valsassina\, Parma\n107.600 Milano\, Brescia\, Pavia\, Alessandria\, Vercelli\, Piacenza\, Cremona\, Novara\, Bormio\, Boario Terme (Val Cavallina)\, Edolo (Valcamonica)\, Gardone Valtrompia\n107.700 Varese\, Como\, Bergamo\, Morbegno\, Colico\, Verbania\n107.800 Lecco\, Collio Valtrompia\, Valsassina\n107.900 Ponte di Legno (Valcamonica)
URL:https://www.lydiacevidalli.it/eventi/intervista-radio-popolare-al-programma-cult/
LOCATION:Radio Popolare
CATEGORIES:Ensemble Salomone Rossi,Lydia Cevidalli
ATTACH;FMTTYPE=image/jpeg:https://www.lydiacevidalli.it/wp-content/uploads/2018/11/benedetto-marcello-salmi-sonate-web.jpg
END:VEVENT
BEGIN:VEVENT
DTSTART;TZID=Europe/Rome:20200126T223000
DTEND;TZID=Europe/Rome:20200126T233000
DTSTAMP:20260420T101615
CREATED:20200126T211229Z
LAST-MODIFIED:20200126T211229Z
UID:30522-1580077800-1580081400@www.lydiacevidalli.it
SUMMARY:Radio Popolare\, Cult - intervista
DESCRIPTION:Podcast di Radio Popolare\, intervista con Ira Rubini\, presentazione del Giorno della Memoria\, evento al Conservatorio di Milano\, 24.1.2020\nAl minuto 1’13”\nhttps://pod.radiopopolare.it/cult_24_01_2020_2.mp3polare
URL:https://www.lydiacevidalli.it/eventi/radio-popolare-cult-intervista/
LOCATION:Radio Popolare
CATEGORIES:Lydia Cevidalli
ATTACH;FMTTYPE=image/jpeg:https://www.lydiacevidalli.it/wp-content/uploads/2016/09/ritratto-lydia-cevidalli.jpg
END:VEVENT
END:VCALENDAR