BEGIN:VCALENDAR
VERSION:2.0
PRODID:-//Lydia Cevidalli - Musicista - ECPv6.15.20//NONSGML v1.0//EN
CALSCALE:GREGORIAN
METHOD:PUBLISH
X-ORIGINAL-URL:https://www.lydiacevidalli.it
X-WR-CALDESC:Eventi per Lydia Cevidalli - Musicista
REFRESH-INTERVAL;VALUE=DURATION:PT1H
X-Robots-Tag:noindex
X-PUBLISHED-TTL:PT1H
BEGIN:VTIMEZONE
TZID:Europe/Rome
BEGIN:DAYLIGHT
TZOFFSETFROM:+0100
TZOFFSETTO:+0200
TZNAME:CEST
DTSTART:20200329T010000
END:DAYLIGHT
BEGIN:STANDARD
TZOFFSETFROM:+0200
TZOFFSETTO:+0100
TZNAME:CET
DTSTART:20201025T010000
END:STANDARD
BEGIN:DAYLIGHT
TZOFFSETFROM:+0100
TZOFFSETTO:+0200
TZNAME:CEST
DTSTART:20210328T010000
END:DAYLIGHT
BEGIN:STANDARD
TZOFFSETFROM:+0200
TZOFFSETTO:+0100
TZNAME:CET
DTSTART:20211031T010000
END:STANDARD
BEGIN:DAYLIGHT
TZOFFSETFROM:+0100
TZOFFSETTO:+0200
TZNAME:CEST
DTSTART:20220327T010000
END:DAYLIGHT
BEGIN:STANDARD
TZOFFSETFROM:+0200
TZOFFSETTO:+0100
TZNAME:CET
DTSTART:20221030T010000
END:STANDARD
END:VTIMEZONE
BEGIN:VEVENT
DTSTART;TZID=Europe/Rome:20210102T080000
DTEND;TZID=Europe/Rome:20210701T233000
DTSTAMP:20260420T061128
CREATED:20210227T223613Z
LAST-MODIFIED:20210612T222026Z
UID:31205-1609574400-1625182200@www.lydiacevidalli.it
SUMMARY:Radio1 INVIATO SPECIALE 2 gennaio 2021
DESCRIPTION:Ascolta il podcast:\nRadio 1\, INVIATO SPECIALE del 2 gennaio 2021\nAl minuto 46.15\, intervista di Paola D’Urso e presentazione del nuovo CD dell’Ensemble Salomone Rossi\, in uscita il 22 gennaio 2021\n“Benedetto Marcello Psalms and Sonatas”\, edito da Dynamics\n\n\n\n\n\n\n[download-attachments]
URL:https://www.lydiacevidalli.it/eventi/radio1-inviato-speciale-2-gennaio-2021/
CATEGORIES:Ensemble Salomone Rossi,Lydia Cevidalli
ATTACH;FMTTYPE=image/jpeg:https://www.lydiacevidalli.it/wp-content/uploads/2021/02/Ensemble-Salomone-Rossi-Foto-Giovanni-Bindellini-Copia-ridimensionata.jpg
END:VEVENT
END:VCALENDAR