BEGIN:VCALENDAR
VERSION:2.0
PRODID:-//Lydia Cevidalli - Musicista - ECPv6.15.20//NONSGML v1.0//EN
CALSCALE:GREGORIAN
METHOD:PUBLISH
X-ORIGINAL-URL:https://www.lydiacevidalli.it
X-WR-CALDESC:Eventi per Lydia Cevidalli - Musicista
REFRESH-INTERVAL;VALUE=DURATION:PT1H
X-Robots-Tag:noindex
X-PUBLISHED-TTL:PT1H
BEGIN:VTIMEZONE
TZID:Europe/Rome
BEGIN:DAYLIGHT
TZOFFSETFROM:+0100
TZOFFSETTO:+0200
TZNAME:CEST
DTSTART:20220327T010000
END:DAYLIGHT
BEGIN:STANDARD
TZOFFSETFROM:+0200
TZOFFSETTO:+0100
TZNAME:CET
DTSTART:20221030T010000
END:STANDARD
BEGIN:DAYLIGHT
TZOFFSETFROM:+0100
TZOFFSETTO:+0200
TZNAME:CEST
DTSTART:20230326T010000
END:DAYLIGHT
BEGIN:STANDARD
TZOFFSETFROM:+0200
TZOFFSETTO:+0100
TZNAME:CET
DTSTART:20231029T010000
END:STANDARD
BEGIN:DAYLIGHT
TZOFFSETFROM:+0100
TZOFFSETTO:+0200
TZNAME:CEST
DTSTART:20240331T010000
END:DAYLIGHT
BEGIN:STANDARD
TZOFFSETFROM:+0200
TZOFFSETTO:+0100
TZNAME:CET
DTSTART:20241027T010000
END:STANDARD
BEGIN:DAYLIGHT
TZOFFSETFROM:+0100
TZOFFSETTO:+0200
TZNAME:CEST
DTSTART:20250330T010000
END:DAYLIGHT
BEGIN:STANDARD
TZOFFSETFROM:+0200
TZOFFSETTO:+0100
TZNAME:CET
DTSTART:20251026T010000
END:STANDARD
END:VTIMEZONE
BEGIN:VEVENT
DTSTART;TZID=Europe/Rome:20231109T080000
DTEND;TZID=Europe/Rome:20240629T233000
DTSTAMP:20260420T024619
CREATED:20231105T220742Z
LAST-MODIFIED:20240725T155201Z
UID:32725-1699516800-1719703800@www.lydiacevidalli.it
SUMMARY:Musica e Popolo Ebraico\, secondo corso - anno accademico 2023-2024
DESCRIPTION:Il Laboratorio di musica tradizionale e popolare per l’anno 2023 si articolerà in\nquattro incontri online\, secondo il seguente calendario: \nGiovedì   9 novembre – ore 15\,45-17\,15\nIsraele dopo il 1948\, intreccio di poesia e musica\n \nGiovedì 16 novembre – ore 15\,45-17\,15\nMusica pop\, rock e folk in Israele \nGiovedì 23 novembre – ore 15\,45-17\,15\nIl successo della tradizione mizrahi in Israele \nGiovedì 30 novembre – ore 15\,45-17\,15\nMusicisti e mondo ebraico nella diaspora dal XIX al XXI secolo \nPer informazioni ed iscrizioni contattare la professoressa Elena Bartolini:\nElenaLea.Bartolini@docenti.limec-ssml.com \nCon il sostegno di\n Associazione Italiana Amici dell’Università di Gerusalemme\nBet Magazine Mosaico \nIl Corso di Alta Formazione Post-diploma di laurea in Studi Ebraici\, si\ncolloca nell’ambito della mediazione linguistica e culturale\, e nasce con\nl’obiettivo di fornire conoscenze e competenze relative alla lingua e alla\ncultura ebraica. Per la varietà dei temi trattati e la modalità didattica tailor\nmade\, possono partecipare al percorso anche i non laureati appassionati\nalla materia che vogliono conoscere lingua\, culture e sfumature del mondo\nebraico. Per tutti i partecipanti il progetto didattico offre l’acquisizione di: \nCOMPETENZE LINGUISTICHE\nCOMPETENZE CULTURALI \nPer raggiungere tali obiettivi il Corso si avvale della\ncollaborazione di Docenti\, Esperti e Insegnanti madrelingua sia\nin ambito linguistico che culturale\, con il patrocinio\ndell’Università Pedagogium di Varsavia\, dell’Institute of\nTechnology Development of Canada\, dell’Ulpan di Milano –\nScuola di lingua ebraica\, storia e pensiero – e\ndell’Associazione Italiana Amici dell’Università di Gerusalemme. \nCORPO DOCENTI\nElena Lea Bartolini\nAndrea Bienati\nLydia Cevidalli\nSara Ferrari\nRoi Giladi\nNicol Imberti\nRaffaella Scardi\nClaudio Vercelli \nÈ data la possibilità anche di iscriversi a singoli moduli\, che\npossono essere certificati come competenze acquisite previo\nsuperamento di una prova d’esame. \nVia Adelaide Bono Cairoli\, 34\n20127 – Milano\nT. 02 54 60 857\nsegreteria.generale@limec-ssml.com\nlimec-ssml.com \n[download-attachments]
URL:https://www.lydiacevidalli.it/eventi/musica-e-popolo-ebraico-anno-accademico-2023-2024/
CATEGORIES:Lydia Cevidalli
ATTACH;FMTTYPE=image/png:https://www.lydiacevidalli.it/wp-content/uploads/2023/11/Locandina-Musica-e-popolo-ebraico.png
ORGANIZER;CN="Limec SSML":MAILTO:info@limec-ssml.com
END:VEVENT
END:VCALENDAR