BEGIN:VCALENDAR
VERSION:2.0
PRODID:-//Lydia Cevidalli - Musicista - ECPv6.15.20//NONSGML v1.0//EN
CALSCALE:GREGORIAN
METHOD:PUBLISH
X-WR-CALNAME:Lydia Cevidalli - Musicista
X-ORIGINAL-URL:https://www.lydiacevidalli.it
X-WR-CALDESC:Eventi per Lydia Cevidalli - Musicista
REFRESH-INTERVAL;VALUE=DURATION:PT1H
X-Robots-Tag:noindex
X-PUBLISHED-TTL:PT1H
BEGIN:VTIMEZONE
TZID:Europe/Rome
BEGIN:DAYLIGHT
TZOFFSETFROM:+0100
TZOFFSETTO:+0200
TZNAME:CEST
DTSTART:20230326T010000
END:DAYLIGHT
BEGIN:STANDARD
TZOFFSETFROM:+0200
TZOFFSETTO:+0100
TZNAME:CET
DTSTART:20231029T010000
END:STANDARD
BEGIN:DAYLIGHT
TZOFFSETFROM:+0100
TZOFFSETTO:+0200
TZNAME:CEST
DTSTART:20240331T010000
END:DAYLIGHT
BEGIN:STANDARD
TZOFFSETFROM:+0200
TZOFFSETTO:+0100
TZNAME:CET
DTSTART:20241027T010000
END:STANDARD
BEGIN:DAYLIGHT
TZOFFSETFROM:+0100
TZOFFSETTO:+0200
TZNAME:CEST
DTSTART:20250330T010000
END:DAYLIGHT
BEGIN:STANDARD
TZOFFSETFROM:+0200
TZOFFSETTO:+0100
TZNAME:CET
DTSTART:20251026T010000
END:STANDARD
END:VTIMEZONE
BEGIN:VEVENT
DTSTART;TZID=Europe/Rome:20240723T080000
DTEND;TZID=Europe/Rome:20240830T233000
DTSTAMP:20260420T115327
CREATED:20240213T084151Z
LAST-MODIFIED:20240725T162744Z
UID:32858-1721721600-1725060600@www.lydiacevidalli.it
SUMMARY:18 febbraio 2024 - Benedetto Marcello e Fondazione Levi a Venezia
DESCRIPTION:Domenica 18 febbraio 2024 alla Fondazione Levi\n\n\nS. Marco\, 2893\, 30124 Venezia\n Convegno internazionale\n“Suoni di una memoria frammentata – Repertori musicali ebraici in Italia” \nNella sessione tra le 9\,30 e le 11\, intervento di Giovanni Togni\nclavicembalista dell’Ensemble Salomone Rossi\n“Verso un cambio di sensibilità? La raccolta dell’Estro Poetico-Armonico di\nBenedetto Marcello” \nProgramma completo del convegno \nUn argomento al centro delle attività dell’Ensemble Salomone Rossi \ne del Benedetto Marcello Project \n  \nwww.lydiacevidalli.it \n \n[download-attachments]
URL:https://www.lydiacevidalli.it/eventi/benedetto-marcello-e-fondazione-levi-a-venezia/
CATEGORIES:Ensemble Salomone Rossi
ATTACH;FMTTYPE=image/png:https://www.lydiacevidalli.it/wp-content/uploads/2024/02/Locandina.png
END:VEVENT
END:VCALENDAR