BEGIN:VCALENDAR
VERSION:2.0
PRODID:-//Lydia Cevidalli - Musicista - ECPv6.15.20//NONSGML v1.0//EN
CALSCALE:GREGORIAN
METHOD:PUBLISH
X-ORIGINAL-URL:https://www.lydiacevidalli.it
X-WR-CALDESC:Eventi per Lydia Cevidalli - Musicista
REFRESH-INTERVAL;VALUE=DURATION:PT1H
X-Robots-Tag:noindex
X-PUBLISHED-TTL:PT1H
BEGIN:VTIMEZONE
TZID:Europe/Rome
BEGIN:DAYLIGHT
TZOFFSETFROM:+0100
TZOFFSETTO:+0200
TZNAME:CEST
DTSTART:20170326T010000
END:DAYLIGHT
BEGIN:STANDARD
TZOFFSETFROM:+0200
TZOFFSETTO:+0100
TZNAME:CET
DTSTART:20171029T010000
END:STANDARD
BEGIN:DAYLIGHT
TZOFFSETFROM:+0100
TZOFFSETTO:+0200
TZNAME:CEST
DTSTART:20180325T010000
END:DAYLIGHT
BEGIN:STANDARD
TZOFFSETFROM:+0200
TZOFFSETTO:+0100
TZNAME:CET
DTSTART:20181028T010000
END:STANDARD
BEGIN:DAYLIGHT
TZOFFSETFROM:+0100
TZOFFSETTO:+0200
TZNAME:CEST
DTSTART:20190331T010000
END:DAYLIGHT
BEGIN:STANDARD
TZOFFSETFROM:+0200
TZOFFSETTO:+0100
TZNAME:CET
DTSTART:20191027T010000
END:STANDARD
END:VTIMEZONE
BEGIN:VEVENT
DTSTART;TZID=Europe/Rome:20180722T090000
DTEND;TZID=Europe/Rome:20180728T140000
DTSTAMP:20260420T184026
CREATED:20180320T222118Z
LAST-MODIFIED:20180418T212447Z
UID:29943-1532250000-1532786400@www.lydiacevidalli.it
SUMMARY:Urbino\, musica antica 2018
DESCRIPTION:Urbino\, musica giovani dal 22 al 28 luglio 2018 \nDedicato ai ragazzi tra i 14 e i 18 anni\, che amano e desiderano suonare la musica del periodo barocco.\nSi affronta il repertorio sugli strumenti moderni\, con informazioni storiche di prassi esecutiva.\nMusica da camera al mattino e orchestra al pomeriggio.\nConcerti finali nei giorni 27 e 28 luglio \nPresentazione dei docenti e curriculum vitae\nPresentazione dei corsi\ninfo per iscrizioni 
URL:https://www.lydiacevidalli.it/eventi/urbino-musica-antica-2018/
LOCATION:Italia\, Urbino
CATEGORIES:Lydia Cevidalli
ATTACH;FMTTYPE=image/jpeg:https://www.lydiacevidalli.it/wp-content/uploads/2018/03/Lydia-Cevidalli-prove-7710.jpg
ORGANIZER;CN="Fondazione Italiana per la musica antica":MAILTO:biblio.fima@libero.it
END:VEVENT
END:VCALENDAR