BEGIN:VCALENDAR
VERSION:2.0
PRODID:-//Lydia Cevidalli - Musicista - ECPv6.15.20//NONSGML v1.0//EN
CALSCALE:GREGORIAN
METHOD:PUBLISH
X-ORIGINAL-URL:https://www.lydiacevidalli.it
X-WR-CALDESC:Eventi per Lydia Cevidalli - Musicista
REFRESH-INTERVAL;VALUE=DURATION:PT1H
X-Robots-Tag:noindex
X-PUBLISHED-TTL:PT1H
BEGIN:VTIMEZONE
TZID:Europe/Rome
BEGIN:DAYLIGHT
TZOFFSETFROM:+0100
TZOFFSETTO:+0200
TZNAME:CEST
DTSTART:20220327T010000
END:DAYLIGHT
BEGIN:STANDARD
TZOFFSETFROM:+0200
TZOFFSETTO:+0100
TZNAME:CET
DTSTART:20221030T010000
END:STANDARD
BEGIN:DAYLIGHT
TZOFFSETFROM:+0100
TZOFFSETTO:+0200
TZNAME:CEST
DTSTART:20230326T010000
END:DAYLIGHT
BEGIN:STANDARD
TZOFFSETFROM:+0200
TZOFFSETTO:+0100
TZNAME:CET
DTSTART:20231029T010000
END:STANDARD
BEGIN:DAYLIGHT
TZOFFSETFROM:+0100
TZOFFSETTO:+0200
TZNAME:CEST
DTSTART:20240331T010000
END:DAYLIGHT
BEGIN:STANDARD
TZOFFSETFROM:+0200
TZOFFSETTO:+0100
TZNAME:CET
DTSTART:20241027T010000
END:STANDARD
BEGIN:DAYLIGHT
TZOFFSETFROM:+0100
TZOFFSETTO:+0200
TZNAME:CEST
DTSTART:20250330T010000
END:DAYLIGHT
BEGIN:STANDARD
TZOFFSETFROM:+0200
TZOFFSETTO:+0100
TZNAME:CET
DTSTART:20251026T010000
END:STANDARD
END:VTIMEZONE
BEGIN:VEVENT
DTSTART;TZID=Europe/Rome:20231213T080000
DTEND;TZID=Europe/Rome:20240630T170000
DTSTAMP:20260419T234642
CREATED:20231220T221255Z
LAST-MODIFIED:20240725T161936Z
UID:32801-1702454400-1719766800@www.lydiacevidalli.it
SUMMARY:Ensemble Salomone Rossi al MaMu di Milano
DESCRIPTION:Foto di Lamberto Morosini \nNel panorama ricchissimo della storia musicale veneziana\, l’Ensemble Salomone Rossi con “Benedetto Marcello Project” vuole divulgare la presenza di testimonianze musicali legate o ispirate al mondo ebraico nel XVII e XVIII secolo\, impegnandosi nella registrazione dell’integrale dei Salmi musicati da Benedetto Marcello nell’opera L’Estro poetico armonico. Le composizioni di Salomone Rossi (Venezia 1620)\, Benedetto Marcello (Venezia 1724) e Matteo Lucchini (Praga 1729) rappresentano\, con le loro specificità\, un atteggiamento aperto\, capace di integrare tradizioni diverse dando vita a un “dialogo fra culture in musica” e coltivando quella capacità di comunicare che è propria dell’arte. (Giovanni Togni) \nENSEMBLE SALOMONE ROSSI e Ira Rubini\nLydia Cevidalli (direzione e violino)\, Marta Fumagalli (mezzo soprano)\, Giacomo Coletti (violino e viola)\, Marco Frezzato (violoncello) e Giovanni Togni (clavicembalo) eseguiranno musiche di Benedetto Marcello\, Antonio Vivaldi\, Matteo Lucchini.\nLa parte divulgativa è affidata a Ira Rubini\, conduttrice di Radio Popolare. \nAscolta l’intervista a Radio Popolare di lunedì 11 dicembre 2023\, dal minuto 29\,49 a 42 \n[Ingresso libero per i soci]
URL:https://www.lydiacevidalli.it/eventi/ensemble-salomone-rossi-a-mamu-di-milano/
LOCATION:MaMu di Milano\, Via Francesco Soave\, 3\,\, Milano MI\, 20135\, Italia
CATEGORIES:Ensemble Salomone Rossi
ATTACH;FMTTYPE=image/jpeg:https://www.lydiacevidalli.it/wp-content/uploads/2023/12/DSC3275-scaled.jpg
END:VEVENT
END:VCALENDAR