BEGIN:VCALENDAR
VERSION:2.0
PRODID:-//Lydia Cevidalli - Musicista - ECPv6.15.20//NONSGML v1.0//EN
CALSCALE:GREGORIAN
METHOD:PUBLISH
X-ORIGINAL-URL:https://www.lydiacevidalli.it
X-WR-CALDESC:Eventi per Lydia Cevidalli - Musicista
REFRESH-INTERVAL;VALUE=DURATION:PT1H
X-Robots-Tag:noindex
X-PUBLISHED-TTL:PT1H
BEGIN:VTIMEZONE
TZID:Europe/Rome
BEGIN:DAYLIGHT
TZOFFSETFROM:+0100
TZOFFSETTO:+0200
TZNAME:CEST
DTSTART:20190331T010000
END:DAYLIGHT
BEGIN:STANDARD
TZOFFSETFROM:+0200
TZOFFSETTO:+0100
TZNAME:CET
DTSTART:20191027T010000
END:STANDARD
BEGIN:DAYLIGHT
TZOFFSETFROM:+0100
TZOFFSETTO:+0200
TZNAME:CEST
DTSTART:20200329T010000
END:DAYLIGHT
BEGIN:STANDARD
TZOFFSETFROM:+0200
TZOFFSETTO:+0100
TZNAME:CET
DTSTART:20201025T010000
END:STANDARD
BEGIN:DAYLIGHT
TZOFFSETFROM:+0100
TZOFFSETTO:+0200
TZNAME:CEST
DTSTART:20210328T010000
END:DAYLIGHT
BEGIN:STANDARD
TZOFFSETFROM:+0200
TZOFFSETTO:+0100
TZNAME:CET
DTSTART:20211031T010000
END:STANDARD
END:VTIMEZONE
BEGIN:VEVENT
DTSTART;TZID=Europe/Rome:20200426T170000
DTEND;TZID=Europe/Rome:20200426T180000
DTSTAMP:20260420T053714
CREATED:20200301T231127Z
LAST-MODIFIED:20200331T211519Z
UID:30544-1587920400-1587924000@www.lydiacevidalli.it
SUMMARY:Ensemble Salomone Rossi a Bergamo - Evento cancellato causa emergenza
DESCRIPTION:Foto di Giovanni Bindellini \nIn collaborazione con il coro della Cattedrale di Bergamo\, diretto da Cristian Gentilini\, concerto per Effettobibbia in Santa Maria Maggiore – Musiche di Benedetto Marcello \nEnsemble Salomone Rossi\nMarta Fumagalli\, mezzosoprano\nThomas Chigioni\, violoncello\nDiego Cantalupi\, tiorba\nCarlo Calegari\, contrabbasso\nGiovanni Togni\, clavicembalo \nCoro della cattedrale di Bergamo\, diretto da Cristian Gentilini \n  \n 
URL:https://www.lydiacevidalli.it/eventi/ensemble-salomone-rossi-bergamo/
LOCATION:Santa Maria Maggiore\, Piazza Duomo\, Bergamo\, 24129\, Italia
CATEGORIES:Ensemble Salomone Rossi
ATTACH;FMTTYPE=image/jpeg:https://www.lydiacevidalli.it/wp-content/uploads/2020/03/GBphoto_633-Copia-1024x683-1.jpg
END:VEVENT
END:VCALENDAR