BEGIN:VCALENDAR
VERSION:2.0
PRODID:-//Lydia Cevidalli - Musicista - ECPv6.15.20//NONSGML v1.0//EN
CALSCALE:GREGORIAN
METHOD:PUBLISH
X-ORIGINAL-URL:https://www.lydiacevidalli.it
X-WR-CALDESC:Eventi per Lydia Cevidalli - Musicista
REFRESH-INTERVAL;VALUE=DURATION:PT1H
X-Robots-Tag:noindex
X-PUBLISHED-TTL:PT1H
BEGIN:VTIMEZONE
TZID:Europe/Rome
BEGIN:DAYLIGHT
TZOFFSETFROM:+0100
TZOFFSETTO:+0200
TZNAME:CEST
DTSTART:20180325T010000
END:DAYLIGHT
BEGIN:STANDARD
TZOFFSETFROM:+0200
TZOFFSETTO:+0100
TZNAME:CET
DTSTART:20181028T010000
END:STANDARD
BEGIN:DAYLIGHT
TZOFFSETFROM:+0100
TZOFFSETTO:+0200
TZNAME:CEST
DTSTART:20190331T010000
END:DAYLIGHT
BEGIN:STANDARD
TZOFFSETFROM:+0200
TZOFFSETTO:+0100
TZNAME:CET
DTSTART:20191027T010000
END:STANDARD
BEGIN:DAYLIGHT
TZOFFSETFROM:+0100
TZOFFSETTO:+0200
TZNAME:CEST
DTSTART:20200329T010000
END:DAYLIGHT
BEGIN:STANDARD
TZOFFSETFROM:+0200
TZOFFSETTO:+0100
TZNAME:CET
DTSTART:20201025T010000
END:STANDARD
END:VTIMEZONE
BEGIN:VEVENT
DTSTART;TZID=Europe/Rome:20190125T150000
DTEND;TZID=Europe/Rome:20190125T170000
DTSTAMP:20260420T064834
CREATED:20190107T225613Z
LAST-MODIFIED:20190107T230012Z
UID:30128-1548428400-1548435600@www.lydiacevidalli.it
SUMMARY:"Quando la patria uccide"
DESCRIPTION:Le vittime altoatesine della Shoah vennero sorvegliate ed espulse dalle autorità fasciste e in gran parte perseguitate e deportate da nazisti locali. Dopo il 1945 a molti dei sopravvissuti fu negato il risarcimento dei danni materiali e il ricordo delle vittime venne rimosso. “Quando la patria uccide” documenta le molteplici forme in cui si manifestò in Sudtirolo l’antisemitismo\, profondamente radicato in questa terra\, racconta le sofferenze di tante vittime della Shoah e dà un nome a colpevoli e profittatori. Le vittime sudtirolesi del nazismo amavano la loro Heimat (patria) e hanno dato un importante contributo nel campo della medicina\, dell’economia\, delle infrastrutture\, della cultura\, del turismo\, del giornalismo e della vita sociale. Riportare alla luce le tracce lasciate dalla comunità ebraica nella storia dell’Alto Adige significa dare loro un riconoscimento\, seppur tardivo. \nIl libro\, che è un commovente e doveroso viaggio nella memoria\, corredato da oltre 380 foto per aiutarci a non dimenticare mai\, verrà presentato da Toni Jop; sarà presente Aziadè Gabai Cevidalli\, che porterà la sua testimonianza riguardante la vita a Merano delle famiglie ebraiche.
URL:https://www.lydiacevidalli.it/eventi/presentazione-del-libro-quando-la-patria-uccide/
LOCATION:Biblioteca Comunale di Vittorio Veneto\, Piazza Giovanni Paolo I\, 73\, 31029 TV\, Vittorio Veneto
CATEGORIES:Lydia Cevidalli
ATTACH;FMTTYPE=image/jpeg:https://www.lydiacevidalli.it/wp-content/uploads/2019/01/Mamma-Belluno-per-premio-a-Sabine-25.11.18.jpg
ORGANIZER;CN="Universit%C3%A0 per la formazione continua Ippolito Pinto":MAILTO:biblioteca@comune.vittorio-veneto.tv.it
END:VEVENT
END:VCALENDAR