BEGIN:VCALENDAR
VERSION:2.0
PRODID:-//Lydia Cevidalli - Musicista - ECPv6.15.20//NONSGML v1.0//EN
CALSCALE:GREGORIAN
METHOD:PUBLISH
X-WR-CALNAME:Lydia Cevidalli - Musicista
X-ORIGINAL-URL:https://www.lydiacevidalli.it
X-WR-CALDESC:Eventi per Lydia Cevidalli - Musicista
REFRESH-INTERVAL;VALUE=DURATION:PT1H
X-Robots-Tag:noindex
X-PUBLISHED-TTL:PT1H
BEGIN:VTIMEZONE
TZID:Europe/Rome
BEGIN:DAYLIGHT
TZOFFSETFROM:+0100
TZOFFSETTO:+0200
TZNAME:CEST
DTSTART:20200329T010000
END:DAYLIGHT
BEGIN:STANDARD
TZOFFSETFROM:+0200
TZOFFSETTO:+0100
TZNAME:CET
DTSTART:20201025T010000
END:STANDARD
BEGIN:DAYLIGHT
TZOFFSETFROM:+0100
TZOFFSETTO:+0200
TZNAME:CEST
DTSTART:20210328T010000
END:DAYLIGHT
BEGIN:STANDARD
TZOFFSETFROM:+0200
TZOFFSETTO:+0100
TZNAME:CET
DTSTART:20211031T010000
END:STANDARD
BEGIN:DAYLIGHT
TZOFFSETFROM:+0100
TZOFFSETTO:+0200
TZNAME:CEST
DTSTART:20220327T010000
END:DAYLIGHT
BEGIN:STANDARD
TZOFFSETFROM:+0200
TZOFFSETTO:+0100
TZNAME:CET
DTSTART:20221030T010000
END:STANDARD
END:VTIMEZONE
BEGIN:VEVENT
DTSTART;TZID=Europe/Rome:20211017T203000
DTEND;TZID=Europe/Rome:20211024T233000
DTSTAMP:20260420T053644
CREATED:20211011T212900Z
LAST-MODIFIED:20211014T171704Z
UID:31492-1634502600-1635118200@www.lydiacevidalli.it
SUMMARY:Terezin 17/10 - Settimo anno\, 2021
DESCRIPTION:Domenica 17 ottobre 2021\, ore 21 \nSala Verdi del Conservatorio di Musica G. Verdi di Milano \nProgetto Terezin 17/10 \nPresenta Cristina Frosini\, direttore del Conservatorio di Milano \nCafè Terezin\nThere’s no business like show business (I. Berlin)\nStompin’ at the Savoy ( B.Goodman / C.Webb – E. Sampson)\nBei mir bistu shen (S. Secunda/ J. Jacobs)\nSophisticated lady (D.Ellington)\nThe way you look tonight (J.Kern)\nMy Funny Valentine (Rodgers/ Hart)\nSummertime (G.Gershwin)\nSmile (C.Chaplin) \nVerdi Jazz Ensemble\nPino Jodice\, direzione e arrangiamenti\n\nSimona Daniele voce\nGabriella Di Capua voce\nRaffaele Fiengo alto sax\nFederico Limardo ten sax\nNiccolò Omodeo Zorini bar sax\nDaniele Nocella prima tromba\nTiziano Codoro / Massimo Marcer seconda tromba\nCarmelo Rizzo trombone\nDario Spezia chitarra\nClaudio Guarcello / Pietro Aloi pianoforte\nGiammarco Straniero contrabbasso\nLorenzo Attanasio batteria \nIl 17 ottobre del 1944 vengono uccisi a Birkenau 1390 uomini\, donne e\nbambini partiti all’alba del giorno precedente dal ghetto di Terezin. Erano\ntutti a bordo del cosiddetto Künstlertransport\, il “treno degli artisti” sul\nquale erano stati caricati a forza gli scrittori\, i poeti\, i pittori\, i musicisti\, gli\nscienziati\, i compositori che avevano dato vita alla straordinaria stagione\nartistica di Theresienstadt. Finiva così\, con la più massiccia strage di artisti\nmai avvenuta nella storia dell’Occidente\, l’atroce inganno del lager-\nvetrina che la propaganda nazista aveva esibito alla Croce Rossa e\nall’opinione pubblica. Quel giorno cambia per sempre il rapporto tra arte\ne storia\, tra creazione e prigionia\, tra umanità e ferocia. Eventi passati\,\neventi lontani\, destinati a non ripetersi mai più… Forse. \n[download-attachments]
URL:https://www.lydiacevidalli.it/eventi/terezin-17-10-settimo-anno-2021/
CATEGORIES:Lydia Cevidalli
ATTACH;FMTTYPE=image/jpeg:https://www.lydiacevidalli.it/wp-content/uploads/2021/10/Manifesto-Completo-Terezin-2021-scaled.jpg
END:VEVENT
END:VCALENDAR