BEGIN:VCALENDAR
VERSION:2.0
PRODID:-//Lydia Cevidalli - Musicista - ECPv6.15.20//NONSGML v1.0//EN
CALSCALE:GREGORIAN
METHOD:PUBLISH
X-WR-CALNAME:Lydia Cevidalli - Musicista
X-ORIGINAL-URL:https://www.lydiacevidalli.it
X-WR-CALDESC:Eventi per Lydia Cevidalli - Musicista
REFRESH-INTERVAL;VALUE=DURATION:PT1H
X-Robots-Tag:noindex
X-PUBLISHED-TTL:PT1H
BEGIN:VTIMEZONE
TZID:Europe/Rome
BEGIN:DAYLIGHT
TZOFFSETFROM:+0100
TZOFFSETTO:+0200
TZNAME:CEST
DTSTART:20190331T010000
END:DAYLIGHT
BEGIN:STANDARD
TZOFFSETFROM:+0200
TZOFFSETTO:+0100
TZNAME:CET
DTSTART:20191027T010000
END:STANDARD
BEGIN:DAYLIGHT
TZOFFSETFROM:+0100
TZOFFSETTO:+0200
TZNAME:CEST
DTSTART:20200329T010000
END:DAYLIGHT
BEGIN:STANDARD
TZOFFSETFROM:+0200
TZOFFSETTO:+0100
TZNAME:CET
DTSTART:20201025T010000
END:STANDARD
BEGIN:DAYLIGHT
TZOFFSETFROM:+0100
TZOFFSETTO:+0200
TZNAME:CEST
DTSTART:20210328T010000
END:DAYLIGHT
BEGIN:STANDARD
TZOFFSETFROM:+0200
TZOFFSETTO:+0100
TZNAME:CET
DTSTART:20211031T010000
END:STANDARD
END:VTIMEZONE
BEGIN:VEVENT
DTSTART;TZID=Europe/Rome:20200202T160000
DTEND;TZID=Europe/Rome:20200202T173000
DTSTAMP:20260420T174649
CREATED:20200102T233059Z
LAST-MODIFIED:20200123T221702Z
UID:30457-1580659200-1580664600@www.lydiacevidalli.it
SUMMARY:Canto dell'anima - Shiré Miqdash in concerto
DESCRIPTION:Vittorio Veneto – Museo della Battaglia\, Piazza Giovanni Paolo I\, \nDomenica 2 febbraio 2020\, ore 16:00\nCantori Rav Adolfo Locci\, Daniele Coen\, Marco di Porto\, Roger Hannuna\, Enrico Orvieto\nDomenico Antonello Barbiero\, contrabbasso; Elena Bellon\, arpa; Steno Boesso\, fagotto; Gregorio Carraro\, flauto contralto e oboe; Andrea Dainese\, flauto traverso; Fabrizio Durlo\, pianoforte\, direzione e arrangiamenti; Massimo Forese\, violino; Alessandro Piovan\, percussioni; Guido Rigatti\, violoncello; Valentino Favotto\, pianoforte \nEnsemble Shirè Miqdash \nÈ un gruppo di musicisti professionisti\, ciascuno di essi con attività di docenza e concertistica in varie formazioni in Italia e all’estero\, dall’America al Giappone che\, grazie alla loro grande levatura\, è riconosciuta da premi e segnalazioni in diverse competizioni a livello nazionale e internazionale. Hanno condiviso il progetto di musica liturgica ebraica della tradizione italiana del Rabbino Adolfo Locci\, Rabbino Capo di Padova e voce solista del gruppo\, partecipando con grande passione e sentimento. Dal 2009 ad oggi hanno eseguito molti concerti anche in teatri prestigiosi tra\nPadova\, Venezia\, Mantova\, Treviso e Roma. Hanno pubblicato due cd: il primo\, “Da Roma a Padova”\, è una raccolta di diversi canti liturgici di Roma e Padova; il secondo “E diverranno un unico essere” contiene i canti della liturgia del matrimonio ebraico in Italia. In diversi concerti e nell’incisione dei due cd\, hanno partecipato anche alcuni amici del Rabbino Locci\, suoi compagni nel coro del Tempio Maggiore di Roma.\n \nMusiche sinagogali e della tradizione ebraica\nIngresso libero – prenotazione:\niat@comune.vittorio-veneto.tv.it\n0438 57243\nViale della Vittoria 110\, 31029 Vittorio Veneto TV\n \nInoltre a Vittorio Veneto\nDomenica 26 gennaio\, presso la Biblioteca Civica\, Piazza Giovanni Paolo I\, 73\nore 15:30 presentazione libro “Note Scordate” tre musicisti ebrei nella tempesta delle leggi razziali\, di E. Fogarollo. Ed.Sillabe. Ingresso libero\nore 16:30 proiezione del film “Concerto”\, diretto da Radu Mihăileanu\nIngresso libero
URL:https://www.lydiacevidalli.it/eventi/shire-miqdash-concerto/
LOCATION:Museo della Battaglia di Vittorio Veneto\, Piazza Papa Giovanni Paolo I\, Vittorio Veneto\, 31029\, Italia
CATEGORIES:Lydia Cevidalli
ATTACH;FMTTYPE=image/jpeg:https://www.lydiacevidalli.it/wp-content/uploads/2020/01/Foto-gruppo-1.jpg
ORGANIZER;CN="Circolo culturale per la conservazione di Vittorio Veneto Ebraica":MAILTO:info@ghettovittorioveneto.it
END:VEVENT
END:VCALENDAR