BEGIN:VCALENDAR
VERSION:2.0
PRODID:-//Lydia Cevidalli - Musicista - ECPv6.15.20//NONSGML v1.0//EN
CALSCALE:GREGORIAN
METHOD:PUBLISH
X-WR-CALNAME:Lydia Cevidalli - Musicista
X-ORIGINAL-URL:https://www.lydiacevidalli.it
X-WR-CALDESC:Eventi per Lydia Cevidalli - Musicista
REFRESH-INTERVAL;VALUE=DURATION:PT1H
X-Robots-Tag:noindex
X-PUBLISHED-TTL:PT1H
BEGIN:VTIMEZONE
TZID:Europe/Rome
BEGIN:DAYLIGHT
TZOFFSETFROM:+0100
TZOFFSETTO:+0200
TZNAME:CEST
DTSTART:20220327T010000
END:DAYLIGHT
BEGIN:STANDARD
TZOFFSETFROM:+0200
TZOFFSETTO:+0100
TZNAME:CET
DTSTART:20221030T010000
END:STANDARD
BEGIN:DAYLIGHT
TZOFFSETFROM:+0100
TZOFFSETTO:+0200
TZNAME:CEST
DTSTART:20230326T010000
END:DAYLIGHT
BEGIN:STANDARD
TZOFFSETFROM:+0200
TZOFFSETTO:+0100
TZNAME:CET
DTSTART:20231029T010000
END:STANDARD
BEGIN:DAYLIGHT
TZOFFSETFROM:+0100
TZOFFSETTO:+0200
TZNAME:CEST
DTSTART:20240331T010000
END:DAYLIGHT
BEGIN:STANDARD
TZOFFSETFROM:+0200
TZOFFSETTO:+0100
TZNAME:CET
DTSTART:20241027T010000
END:STANDARD
END:VTIMEZONE
BEGIN:VEVENT
DTSTART;VALUE=DATE:20230708
DTEND;VALUE=DATE:20230709
DTSTAMP:20260419T214653
CREATED:20230621T221942Z
LAST-MODIFIED:20231227T164857Z
UID:32523-1688774400-1688860799@www.lydiacevidalli.it
SUMMARY:ENSEMBLE SALOMONE ROSSI A PRAGA
DESCRIPTION:Due concerti dell’Ensemble Salomone Rossi a Praga \nVilla Bertramka\, 8 luglio 2023\nSinagoga di Gerusalemme\, 9 luglio 2023\nOrganizzazione: Società Mozartiana nella Repubblica Ceca e Società Donne Ebree della Repubblica Ceca\nCon il sostegno finanziario del Ministero della Cultura della Repubblica Ceca\nCon il patrocinio dell’Istituto Italiano di Cultura di Praga \nVilla Bertramka \n \n \nCon le organizzatrici Milada Jonasova e Alice Vesela \n \n \n \nFabrizio Iurlano\, direttore dell’Istituto Italiano di Cultura a Praga\, presenta l’evento \nFoto di Michal Navratil \n \n \nFotografie di Milada Jonasova \n \nSinagoga di Gerusalemme\, 9 luglio 2023  \nCon l’Ambasciatore Italiano a Praga\, S.E. Mauro Marsili  \n \nCon l’Ambasciatore Mauro Marsili e le organizzatrici Milada Jonasova e Alice Vesela \n  \nFotografie di Milada Jonasova \n \n \nFotografie di Marta Fumagalli \nLeggi la presentazione al concerto nel sito dell’Istituto di Cultura Italiana a Praga \nAscolta la presentazione per Cult di Radio Popolare\ndal minuto 29\,50 al minuto 38\,27 \nI Canti di Salomone\, l’opera più conosciuta di Salomone Rossi\, fu pubblicata a Venezia in un’elegante edizione nel 1623 dai famosi stampatori Pietro e Lorenzo Bragadin; vi sono raccolte le musiche per 33 testi fra Salmi\, Inni\, Preghiere e Canti sinagogali. L’aspetto più interessante è il tentativo di superare leoque consuetudini della tradizione ebraica che imponeva anche in ambito musicale l’osservanza delle regole tramandate nei secoli: il canto monodico o la cantillazione dei testi biblici\, riservando l’esecuzione di musica allegra e gioiosa a pochi momenti della vita comunitaria. Salomone Rossi\, artista di grande talento\, per queste composizioni scelse di utilizzare le tecniche della musica sacra ecclesiastica rinascimentale. Queste composizioni furono eseguite in sinagoga a Mantova e in luoghi di studio ebraici a Mantova e a Venezia\, fino all’ invasione del Ducato di Mantova nel 1630 da parte dell’imperatore Ferdinando d’Asburgo\, che portò persecuzioni\, esilio e allontanamento verso altri luoghi di residenza di gruppi ebraici;  l’opera cadde quasi in oblio.\n \nIl musicista veneziano Benedetto Marcello nell’opera L’Estro poetico armonico ha musicato i testi di Girolamo Ascanio Giustiniani\, una parafrasi sui primi 50 Salmi di Davide. Il 2024 segna il 300° anniversario della pubblicazione del primo volume della raccolta. Una curiosità caratterizza l’originalità di quest’opera: all’interno di alcune composizioni compaiono undici Intonazioni ebraiche\, canti sinagogali\, che Marcello aveva sentito cantare nelle sinagoghe sefardite e ashkenazite presenti a Venezia. Non è chiaro per quale motivo il musicista abbia voluto inserire queste melodie nelle sue composizioni\, che ha affidato a voci maschili soliste\, senza alcun accompagnamento strumentale; non sappiamo precisamente quale fosse il rapporto del nobile veneziano con le comunità ebraiche presenti a Venezia\, quale fosse il significato di questa operazione culturale. Siamo comunque grati a Benedetto Marcello per la trascrizione di queste undici Intonazioni\, che ci sono così pervenute integre\, mentre in generale il patrimonio sinagogale tramandato oralmente è soggetto a modifiche significative o all’oblio. Le melodie sinagogali vengono eseguite dal cantante senza nessuno accompagnamento musicale e vengono poi riprese e rielaborate nelle arie successive. \nLeggi l’articolo su 9Colonne\nLeggi News e Info Cidim \n  \n \n  \n[download-attachments]
URL:https://www.lydiacevidalli.it/eventi/ensemble-salomone-rossi-a-praga/
LOCATION:Praga\, Villa Bertramka\, Repubblica Ceca
CATEGORIES:Ensemble Salomone Rossi
ATTACH;FMTTYPE=image/jpeg:https://www.lydiacevidalli.it/wp-content/uploads/2023/07/Bertramka-locandina-inglese_230702_224432.jpg
END:VEVENT
BEGIN:VEVENT
DTSTART;TZID=Europe/Rome:20230125T200000
DTEND;TZID=Europe/Rome:20230331T233000
DTSTAMP:20260419T214653
CREATED:20221202T145210Z
LAST-MODIFIED:20230322T134645Z
UID:32087-1674676800-1680305400@www.lydiacevidalli.it
SUMMARY:#giornodellamemoria 2023\, Amsterdam - L'Ensemble ricorda i 400 anni dall'edizione dei "Canti di Salomone" di Salomone Rossi
DESCRIPTION:Concerto inaugurale degli eventi per ricordare i “Canti di Salomone” di Salomone Rossi\, a 400 anni dall’edizione del 1622-1623 – Venezia\, presso Pietro e Lorenzo Bragadin \nGiorno della Memoria 2023 – Amsterdam\, mercoledì 25 gennaio 2023 – ore 20\nSinagoga liberale di Amsterdam \nOrganizzato dall’Istituto di Cultura Italiana di Amsterdam \nSynagogue Liberaal Joodse Gemeente – Amsterdam\nIngresso Libero * Toegang gratis * Free Entrance\nCon il sostegno dell’Associazione Italiana Amici dell’Università di Gerusalemme\n \nIl concerto è gratuito\, è necessario prenotarsi in anticipo sul sito dell’IIC\nPer maggiori informazioni: iicamsterdam@esteri.it /  www.iicamsterdam.esteri.it \nNicolò Balducci\, controtenore\nLydia Cevidalli\, violino e direzione\nJamiang Santi\, violino e viola\nThomas Chigioni\, violoncello\nGiovanni Togni\, clavicembalo \nLink per visionare il video del concerto \n#giornodellamemoria \nPsalms and Hymns from “Songs of Solomon” by Salomone Rossi\, published in Venice\,1622-1623\nVideos:\nSalomone Rossi\, Psalm Lamnatseach al haghittit\nLive recording from concert in Mulhouse\, France – 21st October 2021\nSalomone Rossi – Hashkivenu\, Hymn\nLive recording from concert in Mulhouse\, France – 21st October 2021\nSalomone Rossi – Psalm Haleluyah Haleli Nafshi\nLive recording from concert in Mulhouse\, France – 21st October 2021 \nVisit the website \nCd Jewish Baroque Music \nPlaylist from Spotify \n \nFrontespizio dell’edizione del 1622-1623 dei “Canti di Salomone” di Salomone Rossi\, presso Pietro e Lorenzo Bragadin \nVideo e ascolti da Youtube dell’Ensemble Salomone Rossi\, vari repertori\nSpotify ascolti dai vari CD dell’Ensemble Salomone Rossi \n  \n  \n  \n  \n  \n \n  \n\n\n  \n\nSinagoga liberale di Amsterdam\, con l’ambasciatore italiano Giorgio Novello e la direttrice dell’Istituto Italiano Paola Cordone \nLeggi annuncio su 9colonne \nE inoltre:\nhttps://www.iamsterdam.com/nl/uit/muziek/klassieke-muziek/fiori-musicali-dal-barocco-ebraico–door-ensemble-salomone-rossi \nhttps://muziekladder.nl/nl/muziekformulier \nhttps://wijkkrantzuid.nl/fiori-musicali-del-barocco-ebraico/ \nAgenzia Internazionale Stampa Estero \n#staytuned\n#giornodellamemoria\n#savethedateamsterdam\n#ensemblesalomonerossi \n[download-attachments]
URL:https://www.lydiacevidalli.it/eventi/concerto-ad-amsterdam-lensemble-ricorda-i-400-anni-dalledizione-dei-canti-di-salomone-di-salomone-rossi/
CATEGORIES:Ensemble Salomone Rossi,Lydia Cevidalli
ATTACH;FMTTYPE=image/jpeg:https://www.lydiacevidalli.it/wp-content/uploads/2022/12/LJG_poster_A4_staand_Ensemble-Salomone-Rossi_jan_2023.jpg
ORGANIZER;CN="Istituto di Cultura Italiana ad Amsterdam":MAILTO:iicamsterdam@esteri.it
END:VEVENT
END:VCALENDAR