BEGIN:VCALENDAR
VERSION:2.0
PRODID:-//Lydia Cevidalli - Musicista - ECPv6.15.20//NONSGML v1.0//EN
CALSCALE:GREGORIAN
METHOD:PUBLISH
X-WR-CALNAME:Lydia Cevidalli - Musicista
X-ORIGINAL-URL:https://www.lydiacevidalli.it
X-WR-CALDESC:Eventi per Lydia Cevidalli - Musicista
REFRESH-INTERVAL;VALUE=DURATION:PT1H
X-Robots-Tag:noindex
X-PUBLISHED-TTL:PT1H
BEGIN:VTIMEZONE
TZID:Europe/Rome
BEGIN:DAYLIGHT
TZOFFSETFROM:+0100
TZOFFSETTO:+0200
TZNAME:CEST
DTSTART:20190331T010000
END:DAYLIGHT
BEGIN:STANDARD
TZOFFSETFROM:+0200
TZOFFSETTO:+0100
TZNAME:CET
DTSTART:20191027T010000
END:STANDARD
BEGIN:DAYLIGHT
TZOFFSETFROM:+0100
TZOFFSETTO:+0200
TZNAME:CEST
DTSTART:20200329T010000
END:DAYLIGHT
BEGIN:STANDARD
TZOFFSETFROM:+0200
TZOFFSETTO:+0100
TZNAME:CET
DTSTART:20201025T010000
END:STANDARD
BEGIN:DAYLIGHT
TZOFFSETFROM:+0100
TZOFFSETTO:+0200
TZNAME:CEST
DTSTART:20210328T010000
END:DAYLIGHT
BEGIN:STANDARD
TZOFFSETFROM:+0200
TZOFFSETTO:+0100
TZNAME:CET
DTSTART:20211031T010000
END:STANDARD
END:VTIMEZONE
BEGIN:VEVENT
DTSTART;TZID=Europe/Rome:20200112T153000
DTEND;TZID=Europe/Rome:20200112T173000
DTSTAMP:20260421T191417
CREATED:20191230T121532Z
LAST-MODIFIED:20200103T135752Z
UID:30448-1578843000-1578850200@www.lydiacevidalli.it
SUMMARY:XXXI Giornata del dialogo ebraico-cristiano
DESCRIPTION:Dialogo e Musica\n \nCantico dei Cantici\n\nDavide Assael\, presidente dell’Associazione Lech Lechà\nCantico\, ebraismo e relazione \nSara Ferrari\, docente di Lingua e cultura ebraica\nLeggere il Cantico tra le due fedi \nInterventi musicali a cura di Stellerranti\nLydia Cevidalli\, Cinzia Bauci\, Pier Gallesi \ndomenica 12 gennaio 2020\, ore 15.30\nAuditorium S. Marco – Milano\ningresso libero\npiazza S. Marco\, 2:\nM2 Lanza\, M3 Montenapoleone\, M3 Turati\ntram 1\, 2\, 4\, 12\, 14; bus 43\, 61\, 94; BikeMi 57: Brera\, 70: Fatebenefratelli
URL:https://www.lydiacevidalli.it/eventi/xxxi-giornata-del-dialogo-ebraico-cristiano/
LOCATION:Milano\, Piazza S. Marco 2\, Piazza S. Marco 2\, Milano\, Italia
CATEGORIES:Lydia Cevidalli,Stellerranti
ATTACH;FMTTYPE=image/png:https://www.lydiacevidalli.it/wp-content/uploads/2019/12/Chagall-Cantico-cantici-IV.png
END:VEVENT
END:VCALENDAR