BEGIN:VCALENDAR
VERSION:2.0
PRODID:-//Lydia Cevidalli - Musicista - ECPv6.15.20//NONSGML v1.0//EN
CALSCALE:GREGORIAN
METHOD:PUBLISH
X-ORIGINAL-URL:https://www.lydiacevidalli.it
X-WR-CALDESC:Eventi per Lydia Cevidalli - Musicista
REFRESH-INTERVAL;VALUE=DURATION:PT1H
X-Robots-Tag:noindex
X-PUBLISHED-TTL:PT1H
BEGIN:VTIMEZONE
TZID:Europe/Rome
BEGIN:DAYLIGHT
TZOFFSETFROM:+0100
TZOFFSETTO:+0200
TZNAME:CEST
DTSTART:20220327T010000
END:DAYLIGHT
BEGIN:STANDARD
TZOFFSETFROM:+0200
TZOFFSETTO:+0100
TZNAME:CET
DTSTART:20221030T010000
END:STANDARD
BEGIN:DAYLIGHT
TZOFFSETFROM:+0100
TZOFFSETTO:+0200
TZNAME:CEST
DTSTART:20230326T010000
END:DAYLIGHT
BEGIN:STANDARD
TZOFFSETFROM:+0200
TZOFFSETTO:+0100
TZNAME:CET
DTSTART:20231029T010000
END:STANDARD
BEGIN:DAYLIGHT
TZOFFSETFROM:+0100
TZOFFSETTO:+0200
TZNAME:CEST
DTSTART:20240331T010000
END:DAYLIGHT
BEGIN:STANDARD
TZOFFSETFROM:+0200
TZOFFSETTO:+0100
TZNAME:CET
DTSTART:20241027T010000
END:STANDARD
BEGIN:DAYLIGHT
TZOFFSETFROM:+0100
TZOFFSETTO:+0200
TZNAME:CEST
DTSTART:20250330T010000
END:DAYLIGHT
BEGIN:STANDARD
TZOFFSETFROM:+0200
TZOFFSETTO:+0100
TZNAME:CET
DTSTART:20251026T010000
END:STANDARD
END:VTIMEZONE
BEGIN:VEVENT
DTSTART;TZID=Europe/Rome:20231231T080000
DTEND;TZID=Europe/Rome:20231231T080000
DTSTAMP:20260419T234622
CREATED:20231119T205913Z
LAST-MODIFIED:20240725T163115Z
UID:32732-1704009600-1704009600@www.lydiacevidalli.it
SUMMARY:Eventi in ricordo dei 400 anni dall'edizione dei "Canti di Salomone"\, Venezia 1623
DESCRIPTION:Soragna\, ripresa televisiva per Radio 5 Cultura\ncon l’Ensemble Salomone Rossi \nmercoledì 15 novembre 2023 \nl’Ensemble ha partecipato alle riprese televisive per un programma che andrà in onda su\nRai5 Cultura durante il mese di Gennaio del 2024. \nLydia Cevidalli\, direzione e violino\nNicolò Balducci\, sopranista\nGianfranco Ricci\, violino\nMarco Angilella\, violoncello\nGiovanni Togni\, virginale \nPercorso sui luoghi ebrai dell’Emilia Romagna \nMusiche di Salomone Rossi\, espressione importante del mondo ebraico del ‘600.\nSalomone Rossi era musicista alla corte dei Gonzaga\, famiglia in costante dialogo con le corti emiliane (Este\, Mirandola\, San Severo)\nCon il suo gruppo di strumentisti ad arco Salomone Rossi ha suonato in queste corti\,\nsoprattutto a Mirandola\, su richiesta di Alessandro Pico I della Mirandola \nIdeazione e regia di Bruna Bertani – Produzione Pubbliteam
URL:https://www.lydiacevidalli.it/eventi/eventi-in-ricordo-dei-400-anni-dalledizione-dei-canti-di-salomone-venezia-1623/
LOCATION:Soragna\, Italia
CATEGORIES:Ensemble Salomone Rossi
ATTACH;FMTTYPE=image/jpeg:https://www.lydiacevidalli.it/wp-content/uploads/2023/11/3-Soragna.jpg
END:VEVENT
BEGIN:VEVENT
DTSTART;TZID=Europe/Rome:20231214T203000
DTEND;TZID=Europe/Rome:20240628T233000
DTSTAMP:20260419T234622
CREATED:20231119T214939Z
LAST-MODIFIED:20240725T162226Z
UID:32766-1702585800-1719617400@www.lydiacevidalli.it
SUMMARY:Roma Festival Barocco
DESCRIPTION:Roma Festival Barocco \nGiovedì 14 dicembre 2023 – ore 20\,30\nRefettorio del convento di Trinità dei Monti \nEchi del mondo ebraico a Venezia\nEnsemble Salomone Rossi\nMarta Fumagalli\, mezzosoprano\nLydia Cevidalli\, violino e direzione\nGiacomo Coletti\, violino \nMarco Frezzato\, violoncello\nGiovanni Togni\, clavicembalo \nL’Ensemble Salomone Rossi celebra i 400 anni dall’edizione dei “Canti di Salomone” di Salomone Rossi\, Venezia\, 1622 – 1623 \nLeggi presentazione su Giornale della Musica del 21 Novembre 2023\nLeggi presentazione su RaiNews del 24 Novembre 2023\nAscolta l’intervista a Radio Popolare di lunedì 11 dicembre 2023\, dal minuto 29\,49 a 42 \nNel panorama ricchissimo della storia musicale veneziana\, un posto particolare\, sicuramente affascinante\, riguarda la presenza sporadica di testimonianze musicali legate o ispirate al mondo ebraico.\nTale repertorio\, anche se in maniera non organica e continuativa\, è stato il principio ispiratore di alcune composizioni edite nel XVII e il XVIII secolo e che suscitarono interesse in ambito europeo. \nIl primo nucleo di brani proposti nella serata sono del compositore mantovano Salomone Rossi Hebreo che\, nel 1620\, pubblicò a Venezia una raccolta di Salmi\, unendo testi sacri ebraici e musica polifonica in stile tardo rinascimentale\, avvicinando due universi culturali fino ad allora separati. \nDopo circa un secolo\, sempre a Venezia\, apparve la monumentale opera di Benedetto Marcello “L’Estro Poetico Armonico\, Parafrasi sopra li Salmi”\, con testi di Girolamo Ascanio Giustiniani\, dove\, all’interno delle composizioni\, troviamo ben undici canti sinagogali\, chiamate Intonazioni dal compositore veneziano. Tali canti\, tramandati oralmente\, sono sopravvissuti fino a noi grazie a questa raccolta e vennero  utilizzati dal compositore come spunto musicale per scrivere arie spirituali in stile settecentesco ispirati alle antiche melodie. Ancora oggi non sappiamo (e forse non lo sapremo mai) se Marcello ascoltò ed annotò queste melodie recandosi in una delle Sinagoghe veneziane o se invitò uno o più cantori della comunità ebraica nel suo palazzo per ascoltare tali musiche. Si trattò in ogni caso di un atteggiamento sicuramente aperto e al di là delle rigide convenzioni in auge ancora nel XVIII secolo e che\, da quello che traspare nelle prefazioni ai Salmi\, preconizzava la riscoperta di radici comuni tra mondo ebraico\, classico e cristiano. La raccolta dei Salmi di Marcello\, di cui comparve la prima edizione nel 1724\, ebbe una notevole diffusione e influenza in ambito europeo\, con esecuzioni ed elaborazioni in diversi luoghi. \nVale la pena di ricordare\, a tal riguardo un’esecuzione integrale di Salmi tenutasi a Roma\, in dodici serate\, presso la Cancelleria Apostolica nell’anno 1739. Un’edizione inglese del 1757 a cura dell’editore Johnson propose i 50 Salmi con traduzioni in inglese fatte da  John Garth dei testi di Ascanio Giustiniani.\nUno dei casi più curiosi in ambito europeo fu ciò che avvenne a Praga\, nel 1729 al Teatro di Sporck\, e oggetto di studio negli ultimi anni da parte della musicologa Milada Jonášová.\nAntonio Denzio\, tenore bolognese vissuto per un certo periodo in Veneto\, si trasferì a Praga prendendo in gestione il suddetto teatro. Nel 1729\, in periodo di Quaresima\, propose al pubblico un Oratorio- pastiche\, Sansone\, con la collaborazione di alcuni musicisti\, tra cui Lucchini\, che\, in tale oratorio interpretò la parte del rabbino. All’interno delle varie scene comparvero ben sette delle undici Intonazioni ebraiche pubblicate nell’Estro Poetico Armonico\, cantate per rendere probabilmente più realistica l’azione drammatica ispirata alla Bibbia. \nSi trattò di una semplice curiosità\, di un cambio di sensibilità o di una ricerca di fonti e suoni verosimilmente più autentici? È difficile poter dare una risposta esaustiva in tal senso. Possiamo solo constatare come ancora oggi\, a trecento anni di distanza\, la raccolta di Marcello e le antiche melodie ebraiche riescano ancora ad affascinarci\, lasciando vivi e intatti gli spunti di riflessione da loro aperti in una prospettiva di continua ricerca. (Giovanni Togni) \n  \n[download-attachments] \n 
URL:https://www.lydiacevidalli.it/eventi/roma-festival-barocco/
CATEGORIES:Ensemble Salomone Rossi
ATTACH;FMTTYPE=image/jpeg:https://www.lydiacevidalli.it/wp-content/uploads/2023/11/1-ridotta.jpg
ORGANIZER;CN="Roma Festival Barocco":MAILTO:info@romafestivalbarocco.it
END:VEVENT
BEGIN:VEVENT
DTSTART;TZID=Europe/Rome:20230515T080000
DTEND;TZID=Europe/Rome:20240630T170000
DTSTAMP:20260419T234622
CREATED:20230514T222330Z
LAST-MODIFIED:20240725T155121Z
UID:32446-1684137600-1719766800@www.lydiacevidalli.it
SUMMARY:Intervista con Armando Torno a "Musica Maestro" per i 400 anni dei "Canti di Salomone"
DESCRIPTION:400 anni dall’edizione dei “Canti di Salomone” di Salomone Rossi\n\nDomenica 14 maggio alle 21\,30 nel programma “Musica Maestro” condotta da Armando Torno a Radio24\, intervista su Salomone Rossi e la sua famosa opera “Canti di Salomone” nell’anniversario dei 400 anni dall’edizione curata dai fratelli Pietro e Lorenzo Bragadin\, Venezia 1622-1623\n\n\nPodcast per riascoltare la puntata\, dal minuto 11\,50\n\n\nVedi anche l’articolo su Salomone Rossi e Benedetto Marcello “La musica liturgica ebraica in Italia”\, a cura di Rav Elia Richetti e Lydia Cevidalli\, nel volume edito dalla Biblioteca Ambrosiana\n“Arti e scienze le Vicino Oriente”\n\n\n\n\n#Radio24 #ensemblesalomonerossi #salomonerossi #musicabarocca #armandotorno #songsofsalomon 
URL:https://www.lydiacevidalli.it/eventi/intervista-con-armando-torno-a-musica-maestro/
CATEGORIES:Ensemble Salomone Rossi
ATTACH;FMTTYPE=image/jpeg:https://www.lydiacevidalli.it/wp-content/uploads/2023/05/12-Lydia-Cevidalli-credit-Giovanni-Bindellini-scaled.jpg
END:VEVENT
END:VCALENDAR