BEGIN:VCALENDAR
VERSION:2.0
PRODID:-//Lydia Cevidalli - Musicista - ECPv6.15.20//NONSGML v1.0//EN
CALSCALE:GREGORIAN
METHOD:PUBLISH
X-WR-CALNAME:Lydia Cevidalli - Musicista
X-ORIGINAL-URL:https://www.lydiacevidalli.it
X-WR-CALDESC:Eventi per Lydia Cevidalli - Musicista
REFRESH-INTERVAL;VALUE=DURATION:PT1H
X-Robots-Tag:noindex
X-PUBLISHED-TTL:PT1H
BEGIN:VTIMEZONE
TZID:Europe/Rome
BEGIN:DAYLIGHT
TZOFFSETFROM:+0100
TZOFFSETTO:+0200
TZNAME:CEST
DTSTART:20200329T010000
END:DAYLIGHT
BEGIN:STANDARD
TZOFFSETFROM:+0200
TZOFFSETTO:+0100
TZNAME:CET
DTSTART:20201025T010000
END:STANDARD
BEGIN:DAYLIGHT
TZOFFSETFROM:+0100
TZOFFSETTO:+0200
TZNAME:CEST
DTSTART:20210328T010000
END:DAYLIGHT
BEGIN:STANDARD
TZOFFSETFROM:+0200
TZOFFSETTO:+0100
TZNAME:CET
DTSTART:20211031T010000
END:STANDARD
BEGIN:DAYLIGHT
TZOFFSETFROM:+0100
TZOFFSETTO:+0200
TZNAME:CEST
DTSTART:20220327T010000
END:DAYLIGHT
BEGIN:STANDARD
TZOFFSETFROM:+0200
TZOFFSETTO:+0100
TZNAME:CET
DTSTART:20221030T010000
END:STANDARD
BEGIN:DAYLIGHT
TZOFFSETFROM:+0100
TZOFFSETTO:+0200
TZNAME:CEST
DTSTART:20230326T010000
END:DAYLIGHT
BEGIN:STANDARD
TZOFFSETFROM:+0200
TZOFFSETTO:+0100
TZNAME:CET
DTSTART:20231029T010000
END:STANDARD
BEGIN:DAYLIGHT
TZOFFSETFROM:+0100
TZOFFSETTO:+0200
TZNAME:CEST
DTSTART:20240331T010000
END:DAYLIGHT
BEGIN:STANDARD
TZOFFSETFROM:+0200
TZOFFSETTO:+0100
TZNAME:CET
DTSTART:20241027T010000
END:STANDARD
BEGIN:DAYLIGHT
TZOFFSETFROM:+0100
TZOFFSETTO:+0200
TZNAME:CEST
DTSTART:20250330T010000
END:DAYLIGHT
BEGIN:STANDARD
TZOFFSETFROM:+0200
TZOFFSETTO:+0100
TZNAME:CET
DTSTART:20251026T010000
END:STANDARD
END:VTIMEZONE
BEGIN:VEVENT
DTSTART;TZID=Europe/Rome:20241123T213000
DTEND;TZID=Europe/Rome:20241123T213000
DTSTAMP:20260419T231044
CREATED:20240725T161831Z
LAST-MODIFIED:20241205T142614Z
UID:32972-1732397400-1732397400@www.lydiacevidalli.it
SUMMARY:23 novembre 2024 - TORINO PALAZZO CARIGNANO
DESCRIPTION:Scarica il Libretto Di Sala 600 ANNI\nL’Ensemble Salomone Rossi in concerto per i \n 600 anni di presenza ebraica\n Torino 1424 – 2024\nPalazzo Carignano\, 23 Novembre 2024 – ore 21\,30 \nVincenzo Di Donato\, tenore\nLydia Cevidalli\, violino e direzione\nGianfranco Ricci\, violino\nMarlise Goidanich\, violoncello\nFabio Longo\, contrabbasso\nGiovanni Togni\, clavicembalo \nEntrata libera con prenotazione\, fino a esurimento posti\nprenotazioni@torinoebraica.it \nIl concerto sarò preceduto dal saluto alle autorità alle 19 \ndalla lectio magistralis di Giovanni Levi alle 19\,30 \ne da un breve rinfresco alle 20\,45; \nalle 21\,30 il concerto\n\na conclusione degli eventi di apertura delle celebrazioni \nAscolta la registrazione del concerto dal minuto 1.09.42 \n 
URL:https://www.lydiacevidalli.it/eventi/torino-museo-del-risorgimento/
LOCATION:Museo del Risorgimento Torino\, Piazza Carlo Alberto\, Torino\, Italia
CATEGORIES:Ensemble Salomone Rossi
ATTACH;FMTTYPE=image/png:https://www.lydiacevidalli.it/wp-content/uploads/2024/07/Collage-Torino-01.png
END:VEVENT
BEGIN:VEVENT
DTSTART;TZID=Europe/Rome:20240115T080000
DTEND;TZID=Europe/Rome:20240930T233000
DTSTAMP:20260419T231044
CREATED:20240115T215416Z
LAST-MODIFIED:20240725T201246Z
UID:32815-1705305600-1727739000@www.lydiacevidalli.it
SUMMARY:11 gennaio 2024 - Cembali\, arpe\, liuti e...violino: la musica di Salomone Rossi
DESCRIPTION:Articolo e intervista di Micaela Vitale su Riflessi  \nLeggi tutto l’articolo
URL:https://www.lydiacevidalli.it/eventi/cembali-arpe-liuti-e-violino-la-musica-di-salomone-rossi/
CATEGORIES:Ensemble Salomone Rossi
ATTACH;FMTTYPE=image/jpeg:https://www.lydiacevidalli.it/wp-content/uploads/2023/11/Immagine-affreschi-refettorio.jpg
END:VEVENT
BEGIN:VEVENT
DTSTART;TZID=Europe/Rome:20231231T080000
DTEND;TZID=Europe/Rome:20231231T080000
DTSTAMP:20260419T231044
CREATED:20231119T205913Z
LAST-MODIFIED:20240725T163115Z
UID:32732-1704009600-1704009600@www.lydiacevidalli.it
SUMMARY:Eventi in ricordo dei 400 anni dall'edizione dei "Canti di Salomone"\, Venezia 1623
DESCRIPTION:Soragna\, ripresa televisiva per Radio 5 Cultura\ncon l’Ensemble Salomone Rossi \nmercoledì 15 novembre 2023 \nl’Ensemble ha partecipato alle riprese televisive per un programma che andrà in onda su\nRai5 Cultura durante il mese di Gennaio del 2024. \nLydia Cevidalli\, direzione e violino\nNicolò Balducci\, sopranista\nGianfranco Ricci\, violino\nMarco Angilella\, violoncello\nGiovanni Togni\, virginale \nPercorso sui luoghi ebrai dell’Emilia Romagna \nMusiche di Salomone Rossi\, espressione importante del mondo ebraico del ‘600.\nSalomone Rossi era musicista alla corte dei Gonzaga\, famiglia in costante dialogo con le corti emiliane (Este\, Mirandola\, San Severo)\nCon il suo gruppo di strumentisti ad arco Salomone Rossi ha suonato in queste corti\,\nsoprattutto a Mirandola\, su richiesta di Alessandro Pico I della Mirandola \nIdeazione e regia di Bruna Bertani – Produzione Pubbliteam
URL:https://www.lydiacevidalli.it/eventi/eventi-in-ricordo-dei-400-anni-dalledizione-dei-canti-di-salomone-venezia-1623/
LOCATION:Soragna\, Italia
CATEGORIES:Ensemble Salomone Rossi
ATTACH;FMTTYPE=image/jpeg:https://www.lydiacevidalli.it/wp-content/uploads/2023/11/3-Soragna.jpg
END:VEVENT
BEGIN:VEVENT
DTSTART;TZID=Europe/Rome:20231213T080000
DTEND;TZID=Europe/Rome:20240630T170000
DTSTAMP:20260419T231045
CREATED:20231220T221255Z
LAST-MODIFIED:20240725T161936Z
UID:32801-1702454400-1719766800@www.lydiacevidalli.it
SUMMARY:Ensemble Salomone Rossi al MaMu di Milano
DESCRIPTION:Foto di Lamberto Morosini \nNel panorama ricchissimo della storia musicale veneziana\, l’Ensemble Salomone Rossi con “Benedetto Marcello Project” vuole divulgare la presenza di testimonianze musicali legate o ispirate al mondo ebraico nel XVII e XVIII secolo\, impegnandosi nella registrazione dell’integrale dei Salmi musicati da Benedetto Marcello nell’opera L’Estro poetico armonico. Le composizioni di Salomone Rossi (Venezia 1620)\, Benedetto Marcello (Venezia 1724) e Matteo Lucchini (Praga 1729) rappresentano\, con le loro specificità\, un atteggiamento aperto\, capace di integrare tradizioni diverse dando vita a un “dialogo fra culture in musica” e coltivando quella capacità di comunicare che è propria dell’arte. (Giovanni Togni) \nENSEMBLE SALOMONE ROSSI e Ira Rubini\nLydia Cevidalli (direzione e violino)\, Marta Fumagalli (mezzo soprano)\, Giacomo Coletti (violino e viola)\, Marco Frezzato (violoncello) e Giovanni Togni (clavicembalo) eseguiranno musiche di Benedetto Marcello\, Antonio Vivaldi\, Matteo Lucchini.\nLa parte divulgativa è affidata a Ira Rubini\, conduttrice di Radio Popolare. \nAscolta l’intervista a Radio Popolare di lunedì 11 dicembre 2023\, dal minuto 29\,49 a 42 \n[Ingresso libero per i soci]
URL:https://www.lydiacevidalli.it/eventi/ensemble-salomone-rossi-a-mamu-di-milano/
LOCATION:MaMu di Milano\, Via Francesco Soave\, 3\,\, Milano MI\, 20135\, Italia
CATEGORIES:Ensemble Salomone Rossi
ATTACH;FMTTYPE=image/jpeg:https://www.lydiacevidalli.it/wp-content/uploads/2023/12/DSC3275-scaled.jpg
END:VEVENT
BEGIN:VEVENT
DTSTART;TZID=Europe/Rome:20230706T193000
DTEND;TZID=Europe/Rome:20231031T233000
DTSTAMP:20260419T231045
CREATED:20230801T213031Z
LAST-MODIFIED:20230901T145401Z
UID:32601-1688671800-1698795000@www.lydiacevidalli.it
SUMMARY:Concerto al Magazzino Musica Milano
DESCRIPTION:Foto di Giovanni Bindellini \nConcerto a Milano per MaMu\nMaMu\, via F. Soave 3\, Milano\nGiovedì 6 luglio 2023\, ore 19\,30 –  presentazione a cura di Luca Cremonese\, autore e coordinatore di “Musica Maestro” (Radio 24). \nIngresso libero per i soci\, per iscrizione clicca qui\nAscolta la presentazione per Cult di Radio Popolare\ndal minuto 29\,50 al minuto 38\,27 \n \nI Canti di Salomone\, l’opera più conoscisuta di Salomone Rossi\, fu pubblicata a Venezia in un’elegante edizione nel 1623 dai famosi stampatori Pietro e Lorenzo Bragadin; vi sono raccolte le musiche per 33 testi fra Salmi\, Inni\, Preghiere e Canti sinagogali. L’aspetto più interessante è il tentativo di superare leoque consuetudini della tradizione ebraica che imponeva anche in ambito musicale l’osservanza delle regole tramandate nei secoli: il canto monodico o la cantillazione dei testi biblici\, riservando l’esecuzione di musica allegra e gioiosa a pochi momenti della vita comunitaria. Salomone Rossi\, artista di grande talento\, per queste composizioni scelse di utilizzare le tecniche della musica sacra ecclesiastica rinascimentale. Queste composizioni furono eseguite in sinagoga a Mantova e in luoghi di studio ebraici a Mantova e a Venezia\, fino all’ invasione del Ducato di Mantova nel 1630 da parte dell’imperatore Ferdinando d’Asburgo\, che portò persecuzioni\, esilio e allontanamento verso altri luoghi di residenza di gruppi ebraici;  l’opera cadde quasi in oblio.\n \nIl musicista veneziano Benedetto Marcello nell’opera L’Estro poetico armonico ha musicato i testi di Girolamo Ascanio Giustiniani\, una parafrasi sui primi 50 Salmi di Davide. Il 2024 segna il 300° anniversario della pubblicazione del primo volume della raccolta. Una curiosità caratterizza l’originalità di quest’opera: all’interno di alcune composizioni compaiono undici Intonazioni ebraiche\, canti sinagogali\, che Marcello aveva sentito cantare nelle sinagoghe sefardite e ashkenazite presenti a Venezia. Non è chiaro per quale motivo il musicista abbia voluto inserire queste melodie nelle sue composizioni\, che ha affidato a voci maschili soliste\, senza alcun accompagnamento strumentale; non sappiamo precisamente quale fosse il rapporto del nobile veneziano con le comunità ebraiche presenti a Venezia\, quale fosse il significato di questa operazione culturale. Siamo comunque grati a Benedetto Marcello per la trascrizione di queste undici Intonazioni\, che ci sono così pervenute integre\, mentre in generale il patrimonio sinagogale tramandato oralmente è soggetto a modifiche significative o all’oblio. Le melodie sinagogali vengono eseguite dal cantante senza nessuno accompagnamento musicale e vengono poi riprese e rielaborate nelle arie successive. \n \n \n \n \n \nFoto di Giovanni Bindellini
URL:https://www.lydiacevidalli.it/eventi/concerto-al-magazzino-musica-milano/
LOCATION:Milano\, Magazzino Musica\, via F. Soave 3\, Milano\, Italia
ATTACH;FMTTYPE=image/jpeg:https://www.lydiacevidalli.it/wp-content/uploads/2023/06/1-Ensemble-Salomone-Rossi-credit-Vanni-Bindellini-scaled.jpg
END:VEVENT
BEGIN:VEVENT
DTSTART;TZID=Europe/Rome:20230606T080000
DTEND;TZID=Europe/Rome:20231202T233000
DTSTAMP:20260419T231045
CREATED:20230305T001652Z
LAST-MODIFIED:20231226T214655Z
UID:32305-1686038400-1701559800@www.lydiacevidalli.it
SUMMARY:#Ravenna Festival - domenica 11 giugno 2023 ore 21\,30
DESCRIPTION:L’Ensemble Salomone Rossi\ncelebra i 400 anni dall’edizione dei\n“Canti di Salomone” di Salomone Rossi\nVenezia\, 1622 – 1623\nPrima esecuzione in Italia per Ravenna Festival\nVedi programma del Ravenna Festival 2023\nVedi programma dell’Ensemble Salomone Rossi\n  \nDomenica 11 giugno 2023 – ore 21\,30 – Basilica di San Vitale\n\nFiori musicali dal barocco ebraico\n  \nDomenica 11 giugno 2023 – ore 11\,30 – San Giovanni Evangelista\n\nIn templo Domini\nNicolò Balducci sopranista\nLydia Cevidalli e Jamiang Santi violino e viola\nMaria Calvo violoncello\nGiovanni Togni clavicembalo \nMusiche di Salomone Rossi\, Abraham Caceres\, Anonimo (XVIII sec.)\, George Friedrich Händel\, Benedetto Marcello\, Antonio Vivaldi\, Cristiano Giuseppe Lidarti\n \nLeggi la recensione al concerto di Giulia Clai su Sipario\nRead the review to the concert\, by Giulia Clai du Sipario \nFoto di Luca Concas \n \n \n \n \n \n \n \n \n\n\nTra 1622 e il 1623\, viene stampata la raccolta I canti di Salomone\, trentatré salmi\, inni e canti sinagogali su testi ebraici composti da Salomone Rossi\, suonatore di viola da braccio e compositore ebreo per anni al servizio dei Gonzaga in Mantova. A interpretarli non poteva che essere il prestigioso Ensemble che prende il suo nome\, e che da oltre trent’anni pazientemente indaga il contributo ebraico alla musica occidentale\, dal barocco in poi. Nella raccolta\, spicca lo scritto teorico con cui il rabbino Leone da Modena giustifica l’audace adozione della polifonia vocale nella liturgia ebraica al posto del canto monodico e della cantillazione dei testi biblici\, di cui sono esempio\, invece\, le Intonazioni ebraiche che Benedetto Marcello un secolo dopo include nel suo Estro poetico e armonico\, frammenti di tradizione orale ascoltati forse nelle sinagoghe di Venezia. \nFoto di Giovanni Bindellini \n   \nLeggi la presentazione del Festival su Ravenna Web TV \n#Ravennafestival #baroquemusic #barocco #jewishmusic #salomonerossi #benedettomarcello #cantidisalomone #estropoeticoarmonico \n[download-attachments]
URL:https://www.lydiacevidalli.it/eventi/ravenna-festival-domenica-11-giugno-2023/
CATEGORIES:Ensemble Salomone Rossi
ATTACH;FMTTYPE=image/jpeg:https://www.lydiacevidalli.it/wp-content/uploads/2023/03/3-Ensemble-Salomone-Rossi-credit-Giovanni-Bindellini-scaled.jpg
ORGANIZER;CN="Ravenna Festival":MAILTO:tickets@ravennafestival.org
END:VEVENT
BEGIN:VEVENT
DTSTART;TZID=Europe/Rome:20221231T210000
DTEND;TZID=Europe/Rome:20240628T233000
DTSTAMP:20260419T231045
CREATED:20200321T215451Z
LAST-MODIFIED:20230202T102012Z
UID:30565-1672520400-1719617400@www.lydiacevidalli.it
SUMMARY:Ensemble Salomone Rossi\, ascolti #baroquemusic
DESCRIPTION:Foto di Giovanni Bindellini\, Laura Magistrelli\, Davide Sciaky \n\nAuguri da tutti i musicisti dell’Ensemble Salomone Rossi!\n\n\nBuon anno! \n\n\nKol haneshamà di Anonimo\, proveniente dalla Sinagoga Portoghese di Amsterdam\nNicolò Balducci\, controtenore – Thomas Chigioni\, cello – Giovanni Togni\, cembalo\ndal concerto a Metz\, 19 ottobre 2021 – organizzato dal Consolato Italiano a Metz\n\n\n\n\n\n\n\n\n\nNuovi ascolti dal concerto di Mulhouse\, 21 ottobre 2021\n\nAvraham Caceres\n\n\nHishki hizki \n\n\n\nSalomone Rossi\n\n\nSinfonia\n\n\n\n\n\nSalmo Lamnatseach al haghittit\n\n\nGagliarda Zambalina\n\n\nHalleluiah Hallelu Nafshi\nGagliarda Marchesina\nHashkivenu\, Inno\n\n\nBenedetto Marcello\nSalmo 21 da “L’Estro poetico armonico”\nIntonazione “Shofet kol haaretz” e Aria “Non tardi dunque il tuo soccorso”\nda “L’Estro poetico armonico”\nSalmo 14\nIntonazione Odechà ki anitani e Aria Cui l’empio\n\nGiuseppe Cristiano Lidarti\n“Gadeluijah” dalla cantata Kol haneshamah\n\nAntonio Vivaldi\ndalla Triosonata op.1 n.8\, in re minore\nCorrente e Giga\n\n\n\n\n\n\n\n\n  \nAmsterdam\, Sinagoga liberale – Concerto per il Giorno della Memoria 2023\, con l’ambasciatore italiano in Olanda Giorgio Novello e la direttrice dell’Istituto Italiano di Cultura ad Amsterdam Paola Cordone \n\n\n\n \n\n\n\n \nTournée di concerti in Francia\, dal 16 al 21 ottobre 2021\ncon la collaborazione dell’Associazione Italiana Amici dell’Università Ebraica di Gerusalemme \norganizzata dal Consolato Italiano a Metz\, con l’Istituto Italiano di Strasburgo\nCharleville-Mézières\, Nancy\, Verdun\, Metz\, Haguenau\, Mulhouse\n\nVerdun\, Centro mondiale per la pace – Jamiang Santi\, Giovanni Togni\, Lydia Cevidalli\, Nicolò Balducci\, Thomas Chigioni \n \nCon il console dott. Emilio Lolli\, Giovanna Farina e Giuseppe Incredulo \n \nMetz\, foto di Tommaso Bastianelli \nhttps://www.facebook.com/nicolo.balducci.1/videos/584091849312689 \nKol haneshama\, eseguito a Metz – Nicolò Balducci sopranista\, Thomas Chigioni violoncello\, Giovanni Togni cembalo \n  \nCD “Benedetto Marcello Psalms and Sonatas”\, Ensemble Salomone Rossi\, released by Dynamics\, 2021\nLydia Cevidalli\, conductor and solo violin\, viola – Marta Fumagalli mezzosoprano – Laurence Meikle\, bass – Andrea Vassalle\, viola – Issei Watanabe\, cello – Roberto Panetta\, double bass – Diego Cantalupi\, theorbo- Giovanni Togni\, harpsichord and thorough bass \nPodcast di Radio France-France musique dal minuto 15\,55 al minuto 22\,22\nPodcast di Radio3 Piazzaverdi dal minuto 11\,11\nPodcast di Radio1 Inviato speciale  minuto 46.15\nPodcast Radio Vaticana\, Lo scrigno musicale dal minuto 0\,28 fino a 1.03.14\nPodcast Radio Classica\, Stravaganza barocca dal minuto 0\,47 a 28\,21\nRadio Popolare\, Cult dal minuto 22.03 a 27.37 \nLeggi recensione di Yvan Bernaud\nLeggi recensione di Henrik Friis\nLeggi articolo di Alfredo Di Pietro \nAcquista \nYou Tube playlist\nDemovideo\nYoutube music \nSpotify\nAmazon\nApple Music \n \n \nFoto di Giovanni Bindellini \n \n  \n  \nCD “Salmi e Sonate di Benedetto Marcello”\, Ensemble Salomone Rossi – edito da Concerto Classics\, 2018\nLydia Cevidalli\, direttrice e violino solista – Veronika Kralova\, soprano – Gloria Banditelli\, mezzosoprano – Alessandro Nuccio\, baritono – Issei Watanabe\, violoncello\, Diego Cantalupi\, tiorba – Giovanni Togni\, clavicembalo\nAcquisto\nAmazon\nITunes\nYoutube\nApple Music\nAscolta l’intervista a Venice Classic Radio \n \n \n\nSala Alessi di Palazzo Marino\, Milano – concerto di presentazione del CD edito da Concerto Classics “Salmi e Sonate di Benedetto Marcello” \n  \nNational Radio3 live broadcasting\, La Stanza della Musica\, January 2019 \n \n  \n  \nLive concert in Bergamo\, “Compleanno con Haendel”\nG.F. Haendel\, From Water Music and Music for the Royal Fireworks\, Bourrée\, Menuet\, Bourrée\, Hornpipe\nG. F. Haendel\, From Water Music\, Rigaudon I and II\, Menuet \nG. F. Haendel\, “Kind health descends on downy wings”\, duet from “Birthday-Ode for Queen Anne” HWV 74\nEnsemble Salomone Rossi\, live recording from concert in Bergamo\, October 2017. Veronika Kralova soprano\, Giovanni Duci countertenor \n         \n  \n  \nFrom live concert\, Belgrad\, Rossi Festival\, January 2020 \n \n  \n  \nConcerto presso la Sinagoga di Istanbul\, Ensemble Salomone Rossi – 2 febbraio 2019\nYoutube: Marta Fumagalli\, mezzosoprano – Lydia Cevidalli e Andrea Vassalle\, violini – Issei Watanabe\, violoncello – Diego Cantalupi\, tiorba \n \n  \n  \nConcerto dell’Ensemble Salomone Rossi alla Cappella Paolina del Quirinale per\n“I concerti del Quirinale” di Radio 3\n24 gennaio 2016 – Fiori musical dal Barocco Ebraico \n \nConcerto per Effettobibbia\, Bergamo 2016 – Ensemble Salomone Rossi\nG.F. Haendel\, da Oratorio Ester\, 1720 – Aria “Tears\, assist me”\nG.F. Haendel\, da Oratorio Ester\, 1732 – Recitativo e aria “Allelujah”Veronika Kralova\, soprano\nAscolta la presentazione e le musiche \n                                  \n \n  \n  \nDall’oratorio “Ester” di G.C. Lidarti\, Aria di Ester\, Coro degli Uffiziali\nCaterina Trogu Rohrich\, soprano\nCoro Anthem\, diretto da Paola Versetti\nRegistrazione live dal concerto al Teatro Bibiena di Mantova\, novembre 2006 – direttore Giovanni Battista Columbro\n \n  \n  \nDal CD Jewish Baroque Music\, edito da Concerto Classics – Ensemble Salomone Rossi\nAcquistalo da Concerto Classics\nAmazon\nITunes\nApple Music\nMusiche di\nAvraham Caceres: Hishki Hizki\, inno composto per l’inaugurazione della Sinagoga Portoghese di Amsterdam\nGiuseppe Cristiano Lidarti: Befi Yesarim\nSalomone Rossi: Ein Kelohenu\, Inno a 8 voci\nGagliarda Andreasina a 5 voci\nAscolta la presentazione di Venice Classic Radio \n \n[download-attachments]
URL:https://www.lydiacevidalli.it/eventi/musicabarocca/
CATEGORIES:Ensemble Salomone Rossi,Lydia Cevidalli
ATTACH;FMTTYPE=image/jpeg:https://www.lydiacevidalli.it/wp-content/uploads/2020/03/Ensemble-composizione-Sara.jpg
END:VEVENT
BEGIN:VEVENT
DTSTART;TZID=Europe/Rome:20221204T170000
DTEND;TZID=Europe/Rome:20230116T233000
DTSTAMP:20260419T231045
CREATED:20211108T101744Z
LAST-MODIFIED:20221208T211426Z
UID:31543-1670173200-1673911800@www.lydiacevidalli.it
SUMMARY:Ensemble Salomone Rossi in concerto a Rovio\, Svizzera
DESCRIPTION:DOMENICA 4 DICEMBRE 2022 – ore 17\nConcerto per il Circolo di Cultura di Rovio e dintorni\nChiesa di S. Cosma e Damiano \, Piazza Fontana – Rovio\, Svizzera \nNicolò Balducci\, sopranista\nLydia Cevidalli\, violino\nThomas Chigioni\, violoncello\nGiovanni Togni\, clavicembalo \nMusiche di Tarquinio Merula\, Antonio Vivaldi\, Benedetto Marcello e Georg Friedrich Haendel \nvedi articolo sull’Informatore \n \n \n \n[download-attachments]
URL:https://www.lydiacevidalli.it/eventi/ensemble-salomone-rossi-in-concerto-a-rovio-svizzera/
LOCATION:rovio\, svizzera\, Rovio\, Svizzera
CATEGORIES:Ensemble Salomone Rossi
ATTACH;FMTTYPE=image/jpeg:https://www.lydiacevidalli.it/wp-content/uploads/2021/11/DSC_4525-Copia-ridimensionata.jpg
ORGANIZER;CN="Circolo Culturale di Rovio e dintorni":MAILTO:info@circoloculturarovio.ch
END:VEVENT
BEGIN:VEVENT
DTSTART;TZID=Europe/Rome:20211013T220000
DTEND;TZID=Europe/Rome:20211130T233000
DTSTAMP:20260419T231045
CREATED:20211013T203129Z
LAST-MODIFIED:20230423T211503Z
UID:31499-1634162400-1638315000@www.lydiacevidalli.it
SUMMARY:Ensemble Salomone Rossi in tournée in Francia\, ottobre 2021
DESCRIPTION:Il giorno martedì 26 ottobre 2021 alle ore 10:26 EMILIO LOLLI CONSOLE GENERALE A METZ ha scritto:\nCara Lydia\,\nsono io a ringraziare lei e gli altri musicisti per la vostra arte e professionalità. La tournée è stata un successo da tutti i punti di vista\, ed il messaggio di armonia e convivenza contro i propagatori dell’odio e della paura credo sia passato alto e forte.\nUn cordiale saluto\nEmilio Lolli\nConsole Generale\nConsolato Generale d’Italia a Metz \nVideo dai concerti  \n \nIl Consolato Generale d’Italia a Metz e l’Istituto Italiano di Cultura a Strasburgo sono lieti di presentare la tournée “Fiori musicali dal barocco ebraico” dell’Ensemble Salomone Rossi\, che si svolgerà dal 16 al 21 ottobre 2021 in sei città del Grand Est: un viaggio alla scoperta della componente ebraica della musica barocca italiana ed europea e lungo i grandi centri culturali che la irradiarono in tutto il continente. \n \n \nL’Associazione Italiana Amici dell’Università di Gerusalemme è sostenitore di tutte le attività dell’Ensemble Salomone Rossi \nEnsemble Salomone Rossi \nLydia Cevidalli\, violino e direzione\nNicolò Balducci\, controtenore\nJamiang Santi\, violino e viola\nThomas Chigioni\, violoncello\nGiovanni Togni\, clavicembalo \nSabato 16 ottobre: Conservatorio di Charleville Mézières – ore 18\,30\nDomenica 17 ottobre: Sinagoga di Nancy – ore 17\nLunedì 18 ottobre: Centro mondiale della Pace a Verdun – ore 20\nMartedì 19 ottobre: Sinagoga di Metz – ore 20\,30\nMercoledì 20 ottobre: Sinagoga di Haguenau – ore 20\nGiovedì 21 ottobre: Sinagoga di Mulhouse – ore 20 \nL’evento è realizzato in collaborazione con il Comune di Charleville Mézières; i Concistori Israeliti del Basso e dell’Alto Reno; le Comunità Israelite di Metz\, Mulhouse\, Nancy e Verdun; il Centro Mondiale della Pace\, delle Libertà e dei Diritti Umani di Verdun; il Conservatorio Ardenne Métropole di Charleville Mézières e il Conservatorio Regionale di Metz; l’Associazione Italiana Amici dell’Università Ebraica di Gerusalemme. Un ringraziamenti al M° Olivier Wyrwas. \nDa L’Est Républicain – 21 oct. 2021\nVerdun\nLa musique baroque italienne et sa composante juive\nPrès d’une centaine de mélomanes ont assisté au concert de l’ensemble Salomone Rossi donné au Centre mondial de la Paix. Emilio Lolli\, consul général d’Italie à Metz\, a expliqué dans son mot d’accueil : « Cet ensemble est en tournée dans six villes de l’Est pour faire découvrir la composante juive dans la musique baroque italienne. » Salomone Rossi (1570-1630)\, violoniste et compositeur juif\, était une figure centrale du début du baroque. Dans un programme comprenant Haendel et Vivaldi\, au sein de l’ensemble composé de deux violons\, un violoncelle et un clavecin\, le public a apprécié la superbe voix du jeune soprano Nicolo Balducci. \n \n \n \n \n \n    \n[download-attachments]
URL:https://www.lydiacevidalli.it/eventi/ensemble-salomone-rossi-in-tournee-in-francia-ottobre-2021/
LOCATION:Metz\, Francia
CATEGORIES:Ensemble Salomone Rossi,Lydia Cevidalli
ATTACH;FMTTYPE=image/jpeg:https://www.lydiacevidalli.it/wp-content/uploads/2021/10/Affiche-scaled.jpg
END:VEVENT
BEGIN:VEVENT
DTSTART;TZID=Europe/Rome:20210725T080000
DTEND;TZID=Europe/Rome:20210930T233000
DTSTAMP:20260419T231045
CREATED:20210725T221842Z
LAST-MODIFIED:20220322T111858Z
UID:31449-1627200000-1633044600@www.lydiacevidalli.it
SUMMARY:Trasmissione di Vox Nostra\, radio nazionale d'Irlanda
DESCRIPTION:Vox Nostra with Vlad Smishkewych\, Sunday 25 July 2021 \nPresenta il Salmo 27 (dal minuto 1.08.06 a 1.27.12) e la sonata in sol minore (da 1.57.34 a 2.07.38)\ndal CD: Salmi e Sonate di Benedetto Marcello\, edito da Concerto Classics \n Radio nazionale Irlandese \nhttps://www.rte.ie/radio/lyricfm/vox-nostra/programmes/2021/0725/1237124-vox-nostra-with-vlad-smishkewych-sunday-25-july-2021/
URL:https://www.lydiacevidalli.it/eventi/trasmissione-di-vox-nostra-radio-nazionale-dirlanda/
ATTACH;FMTTYPE=image/png:https://www.lydiacevidalli.it/wp-content/uploads/2021/07/download.png
END:VEVENT
BEGIN:VEVENT
DTSTART;TZID=Europe/Rome:20210504T080000
DTEND;TZID=Europe/Rome:20210930T233000
DTSTAMP:20260419T231045
CREATED:20210504T220714Z
LAST-MODIFIED:20220322T112012Z
UID:31376-1620115200-1633044600@www.lydiacevidalli.it
SUMMARY:Radio 3 Suite - Panorama
DESCRIPTION:Radio3 Suite – Panorama\nFrancesco Antonioni con Lydia Cevidalli per\n“Le regioni della musica (Veneto) I”\nLe regioni della musica\nVeneto. Le sinagoghe di Venezia\, in particolare la Scola Tedesca in Campo\ndi Gheto Nuovo\, e la musica di Benedetto Marcello\nAl telefono\, Lydia Cevidalli  \nIn seguito\, dal Salmo 21:\nIntonazione Shofet kol haaretz\, basso Laurence Meikle\nSignor non tardi dunque il tuo soccorso\, mezzosoprano Marta Fumagalli\nLydia Cevidalli e Andrea\, violette\nIssei Watanabe\, violoncello\nRoberto Panetta\, contrabbasso\nDiego Cantalupi\, tiorba\nGiovanni Togni\, clavicembalo \n4 maggio 2021 \nAscolta la puntata \nDal minuto 3 a 17\,17 \n \n[download-attachments]
URL:https://www.lydiacevidalli.it/eventi/radio-3-suite-panorama/
LOCATION:Radio3 Suite Panorama
CATEGORIES:Ensemble Salomone Rossi,Lydia Cevidalli
ATTACH;FMTTYPE=image/jpeg:https://www.lydiacevidalli.it/wp-content/uploads/2021/05/1620030877030_foto-LA-CLASSE_light.jpg
END:VEVENT
BEGIN:VEVENT
DTSTART;TZID=Europe/Rome:20210425T080000
DTEND;TZID=Europe/Rome:20210630T233000
DTSTAMP:20260419T231045
CREATED:20210425T124641Z
LAST-MODIFIED:20220322T112113Z
UID:31365-1619337600-1625095800@www.lydiacevidalli.it
SUMMARY:Radio France\, programma France musique
DESCRIPTION:Radio France – France musique il 21 aprile 2021 ha presentato e trasmesso due brani del CD “Benedetto Marcello Psalms and Sonatas”\, realizzato con l’Ensemble Salomone Rossi\, pubblicato da Dynamic\ndal minuto 15\,55 al minuto 22\,22\n\nAscolta il podcast\n\n\n\n[download-attachments]
URL:https://www.lydiacevidalli.it/eventi/radio-france-programma-france-musique/
LOCATION:Radio France\, Paris\, Francia
CATEGORIES:Ensemble Salomone Rossi,Lydia Cevidalli
ATTACH;FMTTYPE=image/jpeg:https://www.lydiacevidalli.it/wp-content/uploads/2021/04/Radio-France-Cattura.jpg
END:VEVENT
END:VCALENDAR