BEGIN:VCALENDAR
VERSION:2.0
PRODID:-//Lydia Cevidalli - Musicista - ECPv6.15.20//NONSGML v1.0//EN
CALSCALE:GREGORIAN
METHOD:PUBLISH
X-ORIGINAL-URL:https://www.lydiacevidalli.it
X-WR-CALDESC:Eventi per Lydia Cevidalli - Musicista
REFRESH-INTERVAL;VALUE=DURATION:PT1H
X-Robots-Tag:noindex
X-PUBLISHED-TTL:PT1H
BEGIN:VTIMEZONE
TZID:Europe/Rome
BEGIN:DAYLIGHT
TZOFFSETFROM:+0100
TZOFFSETTO:+0200
TZNAME:CEST
DTSTART:20170326T010000
END:DAYLIGHT
BEGIN:STANDARD
TZOFFSETFROM:+0200
TZOFFSETTO:+0100
TZNAME:CET
DTSTART:20171029T010000
END:STANDARD
BEGIN:DAYLIGHT
TZOFFSETFROM:+0100
TZOFFSETTO:+0200
TZNAME:CEST
DTSTART:20180325T010000
END:DAYLIGHT
BEGIN:STANDARD
TZOFFSETFROM:+0200
TZOFFSETTO:+0100
TZNAME:CET
DTSTART:20181028T010000
END:STANDARD
BEGIN:DAYLIGHT
TZOFFSETFROM:+0100
TZOFFSETTO:+0200
TZNAME:CEST
DTSTART:20190331T010000
END:DAYLIGHT
BEGIN:STANDARD
TZOFFSETFROM:+0200
TZOFFSETTO:+0100
TZNAME:CET
DTSTART:20191027T010000
END:STANDARD
END:VTIMEZONE
BEGIN:VEVENT
DTSTART;TZID=Europe/Rome:20180904T170000
DTEND;TZID=Europe/Rome:20180904T190000
DTSTAMP:20260420T183610
CREATED:20180901T205015Z
LAST-MODIFIED:20180908T214511Z
UID:30015-1536080400-1536087600@www.lydiacevidalli.it
SUMMARY:Presentazione al MEIS di Ferrara
DESCRIPTION:29/08/2018 \n4 settembre\, le leggi razziali e le persecuzioni degli ebrei in Alto Adige\n\nMartedì 4 settembre\, alle ore 17.00\, il MEIS (Via Piangipane 81\, Ferrara) ospita la presentazione del libro Quando la patria uccide. Storie ritrovate di famiglie ebraiche in Alto Adige (Edizione Raetia\, Bolzano\, 2016) da parte degli autori Sabine Mayr e Joachim Innerhofer. \nLe vittime altoatesine della Shoah vennero sorvegliate ed espulse dalle autorità fasciste\, e in gran parte perseguitate e deportate da nazisti locali. E dopo il 1945\, a numerosi superstiti fu negato il risarcimento dei danni materiali e venne rimosso il ricordo di chi era stato assassinato. \nQuando la patria uccide documenta le molteplici forme in cui l’antisemitismo si manifestò in Sudtirolo\, dove era profondamente radicato\, racconta le sofferenze di tante vittime della Shoah\, che diedero un importante contributo nei campi della medicina\, dell’economia\, delle infrastrutture\, della cultura\, del turismo\, del giornalismo e della vita sociale\, e dà un nome ai colpevoli e a chi approfittò della situazione. \nA introdurre questo toccante viaggio nella memoria\, il Direttore del MEIS\, Simonetta Della Seta. \nPartecipano con le loro testimonianze: Cesare Finzi\, che nel settembre 1943 riuscì a mettersi in salvo fuggendo da Ferrara con lo pseudonimo di Cesare Franzi; Bruno Laufer\, che con la famiglia dovette scappare da Merano e poi da Bolzano\, e sopravvisse nascondendosi in casa di contadini italiani; Lydia Cevidalli\, figlia di Aziadé Gabai\, che evitò la deportazione nei campi di concentramento andando a vivere sotto falso nome in casa di un’amica; Maria Luisa Crosina che\, con il volume Le storie ritrovate. Ebrei nella provincia di Trento 1938-1945\, ha ridato voce agli ebrei del Trentino sotto il regime nazifascista. \nL’appuntamento è a ingresso gratuito \nLeggi: L’Estense.com \n\nMuseo dell’Ebraismo Italiano e della Shoah di Ferrara \n                                              
URL:https://www.lydiacevidalli.it/eventi/presentazione-al-meis-di-ferrara/
LOCATION:Meis di Ferrara\, Via Piangipane\, 81\, Ferrara\, 44121 Ferrara\, Italia
CATEGORIES:Lydia Cevidalli
ATTACH;FMTTYPE=image/jpeg:https://www.lydiacevidalli.it/wp-content/uploads/2018/03/Copertina-libro-Sabine.jpg
END:VEVENT
END:VCALENDAR