BEGIN:VCALENDAR
VERSION:2.0
PRODID:-//Lydia Cevidalli - Musicista - ECPv6.15.20//NONSGML v1.0//EN
CALSCALE:GREGORIAN
METHOD:PUBLISH
X-WR-CALNAME:Lydia Cevidalli - Musicista
X-ORIGINAL-URL:https://www.lydiacevidalli.it
X-WR-CALDESC:Eventi per Lydia Cevidalli - Musicista
REFRESH-INTERVAL;VALUE=DURATION:PT1H
X-Robots-Tag:noindex
X-PUBLISHED-TTL:PT1H
BEGIN:VTIMEZONE
TZID:Europe/Rome
BEGIN:DAYLIGHT
TZOFFSETFROM:+0100
TZOFFSETTO:+0200
TZNAME:CEST
DTSTART:20190331T010000
END:DAYLIGHT
BEGIN:STANDARD
TZOFFSETFROM:+0200
TZOFFSETTO:+0100
TZNAME:CET
DTSTART:20191027T010000
END:STANDARD
BEGIN:DAYLIGHT
TZOFFSETFROM:+0100
TZOFFSETTO:+0200
TZNAME:CEST
DTSTART:20200329T010000
END:DAYLIGHT
BEGIN:STANDARD
TZOFFSETFROM:+0200
TZOFFSETTO:+0100
TZNAME:CET
DTSTART:20201025T010000
END:STANDARD
BEGIN:DAYLIGHT
TZOFFSETFROM:+0100
TZOFFSETTO:+0200
TZNAME:CEST
DTSTART:20210328T010000
END:DAYLIGHT
BEGIN:STANDARD
TZOFFSETFROM:+0200
TZOFFSETTO:+0100
TZNAME:CET
DTSTART:20211031T010000
END:STANDARD
END:VTIMEZONE
BEGIN:VEVENT
DTSTART;TZID=Europe/Rome:20200913T173000
DTEND;TZID=Europe/Rome:20200913T190000
DTSTAMP:20260420T080847
CREATED:20200824T204844Z
LAST-MODIFIED:20200906T122841Z
UID:30931-1600018200-1600023600@www.lydiacevidalli.it
SUMMARY:"Ester\, storia di una regina" teatro - concerto
DESCRIPTION:XXI Giornata Europea della Cultura Ebraica 2020\nTEATRO CONCERTO: ESTER\, STORIA DI UNA REGINA\na cura dei solisti della Scuola di Musica Toti dal Monte di Pieve di Soligo\, direzione Giancarlo Nadai e Loredana Zanchetta \ndomenica 13 settembre 2020                      \nVittorio Veneto\, ore 17:30 Museo della Battaglia\, piazza Giovanni Paolo I\nINGRESSO LIBERO CON PRENOTAZIONE FINO A ESAURIMENTO POSTI\ninformazioni e prenotazioni: IAT – Viale della Vittoria 110\, 31029 Vittorio Veneto TV tel. 0438 57243 \niat@comune.vittorio-veneto.tv.it   www.turismovittorioveneto.gov.it \nCON IL CONTRIBUTO DELLA CITTÀ DI VITTORIO VENETO \nIl rotolo di Ester si legge durante la festa di Purim\, che cade sempre un mese prima di Pesach\, la Pasqua ebraica. La storia biblica racconta la schiavitù degli Ebrei sotto il dominio persiano e la vicenda dell’ebrea Ester scelta come moglie per il re Assuero. Da tempi antichi\, sicuramente dal Rinascimento in poi\, questa vicenda è stata utilizzata come trama per la realizzazione di spettacoli teatrali.\nLa storia si svolge nella città di Susa\, al tempo del dominio persiano\, attraverso alcuni momenti fondamentali: la trepida attesa e speranza della fine della schiavitù\, grazie alle nozze fra Ester e Assuero; il lamento del popolo ebraico per l’editto di Haman\, il perfido ministro di Assuero che\, spinto da un odio immotivato\, decreta lo sterminio degli Ebrei; la gioia finale dell’avvenuta salvezza ad opera di Ester. \nVengono esaltate le qualità della regina Ester ed il suo ruolo di strumento della provvidenza divina\, caratteristiche sempre celebrate in tutte le epoche ed in tutte le forme artistiche figurative\, teatrali e musicali. La tragedia si realizza con l’editto di Haman\, che riesce ad ottenere dal re Assuero il consenso allo sterminio del popolo ebraico. La regina Ester\, che mai aveva dichiarato la sua appartenenza al popolo di Israele\, viene esortata dallo zio Mardocheo a presentarsi al re e ad implorare la salvezza per tutti. Ester comprende che solo lei\, ora che è regina\, può operare in favore del suo popolo\, si fa coraggio e\, nonostante vi sia un decreto reale per cui viene messo a morte chiunque si presenti al re senza essere convocato\, compare davanti al re Assuero\, dopo tre giorni di digiuno. Ester manifesta tutto il suo strazio nella preghiera che rivolge al Signore\, a cui chiede di salvare il popolo e di essere sola lei ad espiare per tutti. Assuero\, in un primo momento adirato contro colui che osa presentarsi infrangendo i decreti reali\, alla vista della regina pallida e in procinto di svenire\, viene colto da un forte sentimento di amore: le porge lo scettro\, simbolo di vita\, quasi le ordina di riprendersi e le domanda quale sia la sua richiesta\, promettendo di esaudirla. \nLa storia prosegue con la rivelazione di Ester al re della sua appartenenza al popolo ebraico\, oltre alla rivelazione dell’editto del perfido Haman che stabilisce lo sterminio degli ebrei. A questo punto le sorti si invertono: Assuero decreta la messa a morte di Haman\, la salvezza del popolo ebraico e l’assunzione a ministro del buon Mardocheo\, lo zio di Ester\, a cui vengono conferiti tutti gli onori. Il re stesso dichiara che vengano tributati onori\, ricchezza e fama a Mardocheo. (L.C.) \nLeggi articolo su QDPNews \n    C
URL:https://www.lydiacevidalli.it/eventi/ester-storia-di-una-regina-teatro-concerto/
LOCATION:Museo della Battaglia di Vittorio Veneto\, Piazza Papa Giovanni Paolo I\, Vittorio Veneto\, 31029\, Italia
CATEGORIES:Lydia Cevidalli
ATTACH;FMTTYPE=image/jpeg:https://www.lydiacevidalli.it/wp-content/uploads/2020/08/Giornata-Europea-della-Cultura-Ebraica-2018-Storytelling-Foto-Roberta-Marcon-scaled.jpg
ORGANIZER;CN="Circolo culturale per la conservazione di Vittorio Veneto Ebraica":MAILTO:info@ghettovittorioveneto.it
END:VEVENT
END:VCALENDAR