BEGIN:VCALENDAR
VERSION:2.0
PRODID:-//Lydia Cevidalli - Musicista - ECPv6.15.20//NONSGML v1.0//EN
CALSCALE:GREGORIAN
METHOD:PUBLISH
X-WR-CALNAME:Lydia Cevidalli - Musicista
X-ORIGINAL-URL:https://www.lydiacevidalli.it
X-WR-CALDESC:Eventi per Lydia Cevidalli - Musicista
REFRESH-INTERVAL;VALUE=DURATION:PT1H
X-Robots-Tag:noindex
X-PUBLISHED-TTL:PT1H
BEGIN:VTIMEZONE
TZID:Europe/Rome
BEGIN:DAYLIGHT
TZOFFSETFROM:+0100
TZOFFSETTO:+0200
TZNAME:CEST
DTSTART:20080330T010000
END:DAYLIGHT
BEGIN:STANDARD
TZOFFSETFROM:+0200
TZOFFSETTO:+0100
TZNAME:CET
DTSTART:20081026T010000
END:STANDARD
BEGIN:DAYLIGHT
TZOFFSETFROM:+0100
TZOFFSETTO:+0200
TZNAME:CEST
DTSTART:20090329T010000
END:DAYLIGHT
BEGIN:STANDARD
TZOFFSETFROM:+0200
TZOFFSETTO:+0100
TZNAME:CET
DTSTART:20091025T010000
END:STANDARD
BEGIN:DAYLIGHT
TZOFFSETFROM:+0100
TZOFFSETTO:+0200
TZNAME:CEST
DTSTART:20100328T010000
END:DAYLIGHT
BEGIN:STANDARD
TZOFFSETFROM:+0200
TZOFFSETTO:+0100
TZNAME:CET
DTSTART:20101031T010000
END:STANDARD
BEGIN:DAYLIGHT
TZOFFSETFROM:+0100
TZOFFSETTO:+0200
TZNAME:CEST
DTSTART:20110327T010000
END:DAYLIGHT
BEGIN:STANDARD
TZOFFSETFROM:+0200
TZOFFSETTO:+0100
TZNAME:CET
DTSTART:20111030T010000
END:STANDARD
BEGIN:DAYLIGHT
TZOFFSETFROM:+0100
TZOFFSETTO:+0200
TZNAME:CEST
DTSTART:20120325T010000
END:DAYLIGHT
BEGIN:STANDARD
TZOFFSETFROM:+0200
TZOFFSETTO:+0100
TZNAME:CET
DTSTART:20121028T010000
END:STANDARD
BEGIN:DAYLIGHT
TZOFFSETFROM:+0100
TZOFFSETTO:+0200
TZNAME:CEST
DTSTART:20130331T010000
END:DAYLIGHT
BEGIN:STANDARD
TZOFFSETFROM:+0200
TZOFFSETTO:+0100
TZNAME:CET
DTSTART:20131027T010000
END:STANDARD
END:VTIMEZONE
BEGIN:VEVENT
DTSTART;VALUE=DATE:20120728
DTEND;VALUE=DATE:20120729
DTSTAMP:20260420T201434
CREATED:20170506T150857Z
LAST-MODIFIED:20170506T150857Z
UID:29434-1343433600-1343519999@www.lydiacevidalli.it
SUMMARY:Gli amici per Piero Milesi - Gruppo vocale e strumentale MusicaNova
DESCRIPTION:C. Gounod: Messa
URL:https://www.lydiacevidalli.it/eventi/gli-amici-per-piero-milesi-gruppo-vocale-e-strumentale-musicanova/
LOCATION:Chiesa di S. Giovanni Battista\, Mattarrana di Carrodano\, SP\, Italia
CATEGORIES:Lydia Cevidalli
ATTACH;FMTTYPE=image/jpeg:https://www.lydiacevidalli.it/wp-content/uploads/2017/05/dscn2699.jpg
END:VEVENT
BEGIN:VEVENT
DTSTART;VALUE=DATE:20120721
DTEND;VALUE=DATE:20120722
DTSTAMP:20260420T201434
CREATED:20170506T150203Z
LAST-MODIFIED:20170506T150203Z
UID:29431-1342828800-1342915199@www.lydiacevidalli.it
SUMMARY:Gruppo vocale e strumentale MusicaNova
DESCRIPTION:Musiche di G.F. Haendel\, A. VIvaldi\, J.F. Fasch\, A. Viviani
URL:https://www.lydiacevidalli.it/eventi/gruppo-vocale-e-strumentale-musicanova-2/
CATEGORIES:Lydia Cevidalli
ATTACH;FMTTYPE=image/jpeg:https://www.lydiacevidalli.it/wp-content/uploads/2017/05/dscf0229_1.jpg
END:VEVENT
BEGIN:VEVENT
DTSTART;VALUE=DATE:20120703
DTEND;VALUE=DATE:20120704
DTSTAMP:20260420T201434
CREATED:20170506T094126Z
LAST-MODIFIED:20170506T094126Z
UID:29337-1341273600-1341359999@www.lydiacevidalli.it
SUMMARY:Registrazione per il documentario "The story of the Jews" della BBC
DESCRIPTION:Salmi di Salomone Rossi\nCaterina Trogu Roehrich\, soprano – Alessandro Nuccio\, baritono – Lydia Cevidalli\, violino – Marlise Goidanich\, violoncello
URL:https://www.lydiacevidalli.it/eventi/registrazione-per-il-documentario-story-jews-della-bbc/
LOCATION:Ca’ Zenobio degli Armeni\, Dorsoduro\, 2596\, Venezia\, 30123\, Italia
CATEGORIES:Ensemble Salomone Rossi
ATTACH;FMTTYPE=image/jpeg:https://www.lydiacevidalli.it/wp-content/uploads/2017/05/dscn2547-1.jpg
END:VEVENT
BEGIN:VEVENT
DTSTART;VALUE=DATE:20120624
DTEND;VALUE=DATE:20120625
DTSTAMP:20260420T201434
CREATED:20170506T145859Z
LAST-MODIFIED:20170506T145859Z
UID:29428-1340496000-1340582399@www.lydiacevidalli.it
SUMMARY:Stellerranti in concerto
DESCRIPTION:Cinzia Bauci\, Pierantonio Gallesi\, Lydia Cevidalli\, Marco Renna\nLa notte della Libertà – organizzazione a cura dell’Associazione La Barriera
URL:https://www.lydiacevidalli.it/eventi/stellerranti-in-concerto-2/
LOCATION:Circolo del Cascame\, Via Zara \,2\, Vigevano\, Italia
CATEGORIES:Stellerranti
ATTACH;FMTTYPE=image/jpeg:https://www.lydiacevidalli.it/wp-content/uploads/2017/05/locandina_vigevano_24.6.12.jpg
END:VEVENT
BEGIN:VEVENT
DTSTART;VALUE=DATE:20120520
DTEND;VALUE=DATE:20120521
DTSTAMP:20260420T201434
CREATED:20170506T145305Z
LAST-MODIFIED:20170506T145305Z
UID:29425-1337472000-1337558399@www.lydiacevidalli.it
SUMMARY:Presentazione Cd "Cabaret Europa" a Morimondoinchiosco
DESCRIPTION:Stellerranti: Cinzia Bauci contralto-Pier Gallesi\, pianoforte\, fisarmonica\, violoncello e con: Lydia Cevidalli violino- Marco Renna\, percussioni-Mauro Sabbione\, piano\, tastiere.\nInquieti cantastorie del nostro tempo\, autori e protagonisti del Teatro-Concerto\, le Stellerranti nascono dall’incontro tra la voce e la libertà creativa di Cinzia Bauci e la poliedricità strumentale di Pier Gallesi. Cabaret Europa. racconta storie di viaggi\, di memorie\, di confini\, di sconfinamenti dal mediterraneo alla mitteleuropa: le tradizioni musicali ebraiche sefardite e yiddish\, l’esperienza dei fumosi cabaret della Berlino della Dietrich e di Kurt Weil\, il music hall\, la Grand Opera\, i teatrini sgangherati dei ghetti\, le notti profumate di un sud immaginario scandite dal ritmo dei tamburi… forse solo un sogno\, una follia…Gli arrangiamenti di Mauro Sabbione ( Matia Bazar\, Litfiba…) aggiungono attualità e raffinatezza.\nCon ricco aperitivo-buffet etnico a cura di Morimondoinchiosco
URL:https://www.lydiacevidalli.it/eventi/presentazione-cd-cabaret-europa-morimondoinchiosco/
LOCATION:Morimondo\, Abbiategrasso\, MI\, 20081\, Italia
CATEGORIES:Stellerranti
ATTACH;FMTTYPE=image/jpeg:https://www.lydiacevidalli.it/wp-content/uploads/2017/05/locandina_morimondo_20.5.12_1.jpg
END:VEVENT
BEGIN:VEVENT
DTSTART;VALUE=DATE:20120512
DTEND;VALUE=DATE:20120513
DTSTAMP:20260420T201434
CREATED:20170506T144757Z
LAST-MODIFIED:20170506T144907Z
UID:29422-1336780800-1336867199@www.lydiacevidalli.it
SUMMARY:I colori del mondo - IV edizione
DESCRIPTION:Manifestazione cittadina promossa e realizzata dal Tavolo Migranti per favorire la reciproca conoscenza tra cittadini italiani e migranti.\nOre 19.30: Cena etno-gastronomica Tutti-Gusti\nOre 21.00: I colori del mondo: storie di viaggi\, di canti e di migranti con i ragazzi del laboratorio di teatro-coro diretto da Cinzia Bauci e Pier Gallesi in arte Stellerranti\, che si esibiranno in alcuni canti del popolo migrante per eccellenza\, quello ebraico\, con la partecipazione di Lydia Cevidalli.
URL:https://www.lydiacevidalli.it/eventi/colori-del-mondo-iv-edizione/
LOCATION:Cavallerizza Del Castello\, Via Rocca Vecchia\, Vigevano\, 27029\, Italia
ATTACH;FMTTYPE=image/jpeg:https://www.lydiacevidalli.it/wp-content/uploads/2017/05/tutti_2.jpg
END:VEVENT
BEGIN:VEVENT
DTSTART;VALUE=DATE:20120507
DTEND;VALUE=DATE:20120508
DTSTAMP:20260420T201434
CREATED:20170506T143217Z
LAST-MODIFIED:20170506T143301Z
UID:29418-1336348800-1336435199@www.lydiacevidalli.it
SUMMARY:Piccolo Festival della Cultura Ebraica alle Scimmie: Teatro-Concerto Stellerranti
DESCRIPTION:Piccolo Festival della Cultura Ebraica Cinzia Bauci\, contralto e narrazione\, Pier Gallesi\, pianoforte\, fisarmonica\, violoncello e con la straordinaria partecipazione di Lydia Cevidalli\, violino e Giampietro Marazza\, fisarmonica.\nInquieti cantastorie del nostro tempo\, autori e protagonisti del Teatro-Concerto\, le Stellerranti nascono dall’incontro tra la poliedricità strumentale di Pier Gallesi e la libertà creativa di Cinzia Bauci. Raccontano storie di viaggi\, di memorie\, di confini\, di sconfinamenti dal mediterraneo alla mitteleuropa: le tradizioni musicali ebraiche sefardite e yiddish\, l’esperienza dei fumosi cabaret della Berlino della Dietrich e di Kurt Weil\, il music hall\, la Grand Opera\, i teatrini sgangherati dei ghetti\, le notti profumate di un sud immaginario scandite dal ritmo dei tamburi… forse solo un sogno\, una follia…
URL:https://www.lydiacevidalli.it/eventi/piccolo-festival-della-cultura-ebraica-alle-scimmie-teatro-concerto-stellerranti/
LOCATION:Scimmie\, Via Ascanio Sforza\, 49\, Milano\, 20123\, Italia
CATEGORIES:Stellerranti
ATTACH;FMTTYPE=image/jpeg:https://www.lydiacevidalli.it/wp-content/uploads/2017/05/locandina_x_web.jpg
END:VEVENT
BEGIN:VEVENT
DTSTART;VALUE=DATE:20120315
DTEND;VALUE=DATE:20120316
DTSTAMP:20260420T201434
CREATED:20170506T142657Z
LAST-MODIFIED:20170506T142657Z
UID:29415-1331769600-1331855999@www.lydiacevidalli.it
SUMMARY:Il violino nella cultura ebraica: i klezmorim
DESCRIPTION:Conversazione: un breve viaggio nell’Europa nord orientale\, da dove venivano i klezmorim\, suonatori di musica klezmer\, e tanti famosi e geniali violinisti del Novecento. Un omaggio a un mondo annientato dalla Shoah attraverso un aspetto poco noto della cultura ebraica.
URL:https://www.lydiacevidalli.it/eventi/il-violino-nella-cultura-ebraica-klezmorim/
LOCATION:Rotary Club Cairoli\, Frazione Molino D'Isella\, Gambolò\, PV\, 27025\, Italia
CATEGORIES:Lydia Cevidalli
ATTACH;FMTTYPE=image/jpeg:https://www.lydiacevidalli.it/wp-content/uploads/2017/05/phoca_thumb_l_2012_03_15-8047.jpg
END:VEVENT
BEGIN:VEVENT
DTSTART;VALUE=DATE:20120307
DTEND;VALUE=DATE:20120308
DTSTAMP:20260420T201434
CREATED:20170506T142048Z
LAST-MODIFIED:20170506T142048Z
UID:29411-1331078400-1331164799@www.lydiacevidalli.it
SUMMARY:Concerto del Trio Cadaly
DESCRIPTION:Caterina Trogu Roehrich\, soprano – Lydia Cevidalli\, violino – Daniela Manusardi\, pianoforte\nCompositori Italiani\, musiche di L. Sinigaglia\, A. Hemsi\, E. Dell’Acqua
URL:https://www.lydiacevidalli.it/eventi/concerto-del-trio-cadaly-2/
LOCATION:Scuola Media Arcadia\, Via dell'Arcadia\, 24\, Milano\, 20142\, Italia
CATEGORIES:Lydia Cevidalli
ATTACH;FMTTYPE=image/jpeg:https://www.lydiacevidalli.it/wp-content/uploads/2017/05/dscf0610.jpg
END:VEVENT
BEGIN:VEVENT
DTSTART;VALUE=DATE:20120304
DTEND;VALUE=DATE:20120305
DTSTAMP:20260420T201434
CREATED:20170506T140508Z
LAST-MODIFIED:20170506T141632Z
UID:29405-1330819200-1330905599@www.lydiacevidalli.it
SUMMARY:Concerto del Trio Cadaly
DESCRIPTION:Caterina Trogu Roehrich\, soprano – Lydia Cevidalli\, violino – Daniela Manusardi\, pianoforte\n“Ai tempi di Amarcord”\nMusiche di compositori italiani: L.Sinigaglia\, E. Dell’Acqua\, A. Hemsi\, G. Puccini
URL:https://www.lydiacevidalli.it/eventi/concerto-del-trio-cadaly/
LOCATION:Residenza Arzaga\, Via Arzaga\, 1\, Milano\, 20146\, Italia
CATEGORIES:Lydia Cevidalli
ATTACH;FMTTYPE=image/jpeg:https://www.lydiacevidalli.it/wp-content/uploads/2017/05/dscf0581-1.jpg
END:VEVENT
BEGIN:VEVENT
DTSTART;VALUE=DATE:20120218
DTEND;VALUE=DATE:20120219
DTSTAMP:20260420T201434
CREATED:20170506T135925Z
LAST-MODIFIED:20170506T140651Z
UID:29402-1329523200-1329609599@www.lydiacevidalli.it
SUMMARY:KLEZSFARDIT - Klezmer\, Sefardì and Songs
DESCRIPTION:Una brillante e vivace rielaborazione musicale esalta il messaggio espressivo della parola\, centro dell’attenzione della tradizione ebraica. Caterina Trogu Roehrich\, Alessandro Nuccio voci – Lydia Cevidalli\, violino – Simone Bellucci\, chitarra – Gabriele Coen\, clarinetto – Fabio Crespiatico\, contrabbasso – Sergio Scappini\, fisarmonica\nRegia di Eleonora Dall’Ovo
URL:https://www.lydiacevidalli.it/eventi/klezsfardit-klezmer-sefardi-songs-2/
LOCATION:Teatro Gaetano Donizetti\, Piazza Camillo Benso Conte di Cavour\, 15 \, Bergamo\, 24121\, Italia
ATTACH;FMTTYPE=image/jpeg:https://www.lydiacevidalli.it/wp-content/uploads/2017/05/dscf0574.jpg
END:VEVENT
BEGIN:VEVENT
DTSTART;VALUE=DATE:20120210
DTEND;VALUE=DATE:20120211
DTSTAMP:20260420T201434
CREATED:20170506T135406Z
LAST-MODIFIED:20170506T135406Z
UID:29400-1328832000-1328918399@www.lydiacevidalli.it
SUMMARY:Radio Classica
DESCRIPTION:Intervista in diretta e presentazione del concerto al Teatro Donizetti di Bergamo\, Sabato 18 febbraio 2012\, ore 21
URL:https://www.lydiacevidalli.it/eventi/radio-classica/
CATEGORIES:Lydia Cevidalli
END:VEVENT
BEGIN:VEVENT
DTSTART;VALUE=DATE:20120126
DTEND;VALUE=DATE:20120127
DTSTAMP:20260420T201434
CREATED:20170506T134418Z
LAST-MODIFIED:20170506T134418Z
UID:29395-1327536000-1327622399@www.lydiacevidalli.it
SUMMARY:Giorno della Memoria
DESCRIPTION:Testimonianze e musica; info: 02-762110214 dalle 9 alle 15\,30
URL:https://www.lydiacevidalli.it/eventi/giorno-della-memoria/
LOCATION:Sala Verdi Del Conservatorio\, Via Conservatorio\, 12\, Milano\, 20100\, Italia
CATEGORIES:Lydia Cevidalli
ATTACH;FMTTYPE=image/png:https://www.lydiacevidalli.it/wp-content/uploads/2017/05/cattura2.png
END:VEVENT
BEGIN:VEVENT
DTSTART;VALUE=DATE:20111218
DTEND;VALUE=DATE:20111219
DTSTAMP:20260420T201434
CREATED:20170506T133716Z
LAST-MODIFIED:20170506T133716Z
UID:29393-1324166400-1324252799@www.lydiacevidalli.it
SUMMARY:"Ai tempi di Amarcord" Trio Cadaly
DESCRIPTION:Caterina Trogu Roehrich\, soprano\nLydia Cevidalli\, violino\nDaniela Manusardi\, pianoforte \nMusiche di L.Sinigaglia\, O.Respighi\, G. Rossini
URL:https://www.lydiacevidalli.it/eventi/ai-tempi-di-amarcord-trio-cadaly/
LOCATION:Cascina Cuccagna\, Via Cuccagna\, angolo via Muratori\, 2/4\, Milano\, 20135\, Italia
END:VEVENT
BEGIN:VEVENT
DTSTART;VALUE=DATE:20111208
DTEND;VALUE=DATE:20111209
DTSTAMP:20260420T201434
CREATED:20170506T133017Z
LAST-MODIFIED:20170506T133137Z
UID:29389-1323302400-1323388799@www.lydiacevidalli.it
SUMMARY:KLEZSFARDIT - Klezmer\, Sefardì and Songs
DESCRIPTION:Una brillante e vivace rielaborazione musicale esalta il messaggio espressivo della parola\, centro dell’attenzione della tradizione ebraica.\nCaterina Trogu Roehrich\, voce – Lydia Cevidalli\, violino – Simone Bellucci\, chitarra – Gabriele Coen\, clarinetto – Fabio Crespiatico\, contrabbasso\nArtipelago organizza il Festival “Leggere: le parole tra noi”
URL:https://www.lydiacevidalli.it/eventi/klezsfardit-klezmer-sefardi-songs/
LOCATION:Rocca Colonna di Castelnuovo di Porto\, piazza Vittorio Veneto\, Castel Nuovo di Porto\, Roma\, 00060\, Italia
ATTACH;FMTTYPE=image/jpeg:https://www.lydiacevidalli.it/wp-content/uploads/2017/05/dscf0660.jpg
END:VEVENT
BEGIN:VEVENT
DTSTART;VALUE=DATE:20111108
DTEND;VALUE=DATE:20111109
DTSTAMP:20260420T201434
CREATED:20170506T132412Z
LAST-MODIFIED:20170506T132412Z
UID:29385-1320710400-1320796799@www.lydiacevidalli.it
SUMMARY:Dies Academicus
DESCRIPTION:La Biblioteca Ambrosiana organizza il Dies Academicus: le conferenze verranno intervallate da momenti musicali; Rav Elia Richetti\, voce – Lydia Cevidalli\, violino – Marlise Goidanich\, violoncello interpretano brani liturgici e musica sacra dal repertorio ebraico
URL:https://www.lydiacevidalli.it/eventi/dies-academicus-2/
LOCATION:Biblioteca Ambrosiana\, Piazza Pio XI\, 2\, Milano\, Italia
CATEGORIES:Lydia Cevidalli
ATTACH;FMTTYPE=image/jpeg:https://www.lydiacevidalli.it/wp-content/uploads/2017/05/ambrosiana_immagine.jpg
END:VEVENT
BEGIN:VEVENT
DTSTART;VALUE=DATE:20111108
DTEND;VALUE=DATE:20111109
DTSTAMP:20260420T201434
CREATED:20170506T093804Z
LAST-MODIFIED:20170506T093804Z
UID:29335-1320710400-1320796799@www.lydiacevidalli.it
SUMMARY:Dies Academicus
DESCRIPTION:Secondo Dies Academicus – Sezione Ebraica Studi su Jehudah ha-Levi (1075-1141)\nRav Elia Richetti\, voce – Lydia Cevidalli\, violino – Marlise Goidanich\, violoncello
URL:https://www.lydiacevidalli.it/eventi/dies-academicus/
LOCATION:Sala delle Accademie – Biblioteca Ambrosiana\, Piazza Pio XI\, 2\, ilano\, 20123\, Italia
CATEGORIES:Ensemble Salomone Rossi
ATTACH;FMTTYPE=image/jpeg:https://www.lydiacevidalli.it/wp-content/uploads/2017/05/manfedi_cattura_2-1.jpg
END:VEVENT
BEGIN:VEVENT
DTSTART;VALUE=DATE:20110721
DTEND;VALUE=DATE:20110722
DTSTAMP:20260420T201434
CREATED:20170506T131754Z
LAST-MODIFIED:20170506T131754Z
UID:29380-1311206400-1311292799@www.lydiacevidalli.it
SUMMARY:Aspettando Bacco e Bach - Una pausa di gusto in Monferrato
DESCRIPTION:Festival Internazionale Musica Classica e Vino\nAleksandra Koreneva\, clavicembalo; Anna Kondrashina\, flauto traverso; Lydia Cevidalli\, Daniel Fradkin\, Hila Lifshitz\, violini; Daniel Tanchelson\, viola; Gabriele Fioritti\, violoncello\nJ.S. Bach: Concerto Italiano\, Sonata per flauto e bc\, Trio sonate 1038 e 1039\, Concerto Brandeburghese n.5
URL:https://www.lydiacevidalli.it/eventi/aspettando-bacco-e-bach-una-pausa-di-gusto-monferrato/
LOCATION:Locanda dell’Arte\, Via Asilo Manacorda\, 3\, \, Solonghello\, AL\, 15020\, Italia
CATEGORIES:Lydia Cevidalli
ATTACH;FMTTYPE=image/jpeg:https://www.lydiacevidalli.it/wp-content/uploads/2017/05/cattura_bach.jpg
END:VEVENT
BEGIN:VEVENT
DTSTART;VALUE=DATE:20110719
DTEND;VALUE=DATE:20110720
DTSTAMP:20260420T201434
CREATED:20170506T130941Z
LAST-MODIFIED:20170506T130941Z
UID:29376-1311033600-1311119999@www.lydiacevidalli.it
SUMMARY:Gruppo vocale e strumentale MusicaNova
DESCRIPTION:Musiche di Bellini\, Schubert\, Mozart\, Viviani e Gounod
URL:https://www.lydiacevidalli.it/eventi/gruppo-vocale-e-strumentale-musicanova/
LOCATION:Chiesa di Sant’Andrea\, Levanto\, SP\, 19015 \, Italia
CATEGORIES:Lydia Cevidalli
ATTACH;FMTTYPE=image/jpeg:https://www.lydiacevidalli.it/wp-content/uploads/2017/05/dscf0231.jpg
END:VEVENT
BEGIN:VEVENT
DTSTART;VALUE=DATE:20110630
DTEND;VALUE=DATE:20110701
DTSTAMP:20260420T201434
CREATED:20170506T130141Z
LAST-MODIFIED:20170506T130222Z
UID:29374-1309392000-1309478399@www.lydiacevidalli.it
SUMMARY:Klezmer\, Sefardì and Songs
DESCRIPTION:Una rielaborazione originale delle melodie e dei vivaci ritmi tzigani dell’Europa orientale\, del canto malinconico e degli eleganti ritmi di danza del Mediterraneo. Caterina Trogu Roehrich\, voce – Lydia Cevidalli\, violino – Simone Bellucci\, chitarra – Fabio Crespiatico\, contrabbasso
URL:https://www.lydiacevidalli.it/eventi/klezmer-sefardi-songs-2/
LOCATION:Istituto Salesiano S. Ambrogio Opera Don Bosco\, Via Copernico\, 9\, Milano\, 20124\, Italia
CATEGORIES:Ensemble Salomone Rossi
END:VEVENT
BEGIN:VEVENT
DTSTART;VALUE=DATE:20110522
DTEND;VALUE=DATE:20110523
DTSTAMP:20260420T201434
CREATED:20170506T125204Z
LAST-MODIFIED:20170506T143959Z
UID:29369-1306022400-1306108799@www.lydiacevidalli.it
SUMMARY:Klezmer\, Sefardì and Songs per la rassegna "Il violinista sul tetto"\, il violino nella cultura ebraica
DESCRIPTION:Una rielaborazione originale delle melodie e dei vivaci ritmi tzigani dell’Europa orientale\, del canto malinconico e degli eleganti ritmi di danza del Mediterraneo.\nCaterina Trogu Roehrich\, voce – Lydia Cevidalli\, violino – Gabriele Coen\, clarinetto e saxofono – Simone Bellucci\, chitarra – Fabio Crespiatico\, contrabbasso
URL:https://www.lydiacevidalli.it/eventi/klezmer-sefardi-songs-per-la-rassegna-il-violinista-sul-tetto-il-violino-nella-cultura-ebraica/
LOCATION:Museo Civico Ala Ponzone\, via Ugolani Dati\, 4\, Cremona\, 26100\, Italia
CATEGORIES:Ensemble Salomone Rossi
ATTACH;FMTTYPE=image/png:https://www.lydiacevidalli.it/wp-content/uploads/2017/05/foto_n._3.png
END:VEVENT
BEGIN:VEVENT
DTSTART;VALUE=DATE:20110521
DTEND;VALUE=DATE:20110522
DTSTAMP:20260420T201434
CREATED:20170506T125457Z
LAST-MODIFIED:20170506T125457Z
UID:29372-1305936000-1306022399@www.lydiacevidalli.it
SUMMARY:Piazzaverdi\, Radio 3 - Trasmissione radiofonica in diretta
DESCRIPTION:Presentazione del libro di G. Coen: Musica errante\, klezmer e canzone yiddish.\nAnteprima del concerto del 22 maggio\, ore 11\,  Cremona per la rassegna “Il violinista sul tetto”
URL:https://www.lydiacevidalli.it/eventi/piazzaverdi-radio-3-trasmissione-radiofonica-diretta/
CATEGORIES:Ensemble Salomone Rossi
ATTACH;FMTTYPE=image/jpeg:https://www.lydiacevidalli.it/wp-content/uploads/2017/05/dscf0060.jpg
END:VEVENT
BEGIN:VEVENT
DTSTART;VALUE=DATE:20110507
DTEND;VALUE=DATE:20110508
DTSTAMP:20260420T201434
CREATED:20170506T124531Z
LAST-MODIFIED:20170506T124531Z
UID:29367-1304726400-1304812799@www.lydiacevidalli.it
SUMMARY:Il violino nella cultura ebraica\, conferenza - parte seconda
DESCRIPTION:Il ruolo del violino e della musica nella cultura ebraica dell’ Europa orientale: dall’Illuminismo al Novecento
URL:https://www.lydiacevidalli.it/eventi/il-violino-nella-cultura-ebraica-conferenza-parte-seconda/
LOCATION:Museo Civico Ala Ponzone\, via Ugolani Dati\, 4\, Cremona\, 26100\, Italia
CATEGORIES:Lydia Cevidalli
END:VEVENT
BEGIN:VEVENT
DTSTART;VALUE=DATE:20110428
DTEND;VALUE=DATE:20110430
DTSTAMP:20260420T201434
CREATED:20170506T112847Z
LAST-MODIFIED:20170506T113051Z
UID:29364-1303948800-1304121599@www.lydiacevidalli.it
SUMMARY:Master class
DESCRIPTION:Master class di violino barocco
URL:https://www.lydiacevidalli.it/eventi/master-class/
LOCATION:Jāzeps Vītols Latvian Academy of Music\, Krišjāņa Barona iela 1\, Rīga\, LV-1050\, Lettonia
CATEGORIES:Lydia Cevidalli
ATTACH;FMTTYPE=image/jpeg:https://www.lydiacevidalli.it/wp-content/uploads/2017/05/dscf0147.jpg
END:VEVENT
BEGIN:VEVENT
DTSTART;VALUE=DATE:20110414
DTEND;VALUE=DATE:20110415
DTSTAMP:20260420T201434
CREATED:20170506T112135Z
LAST-MODIFIED:20170506T112135Z
UID:29362-1302739200-1302825599@www.lydiacevidalli.it
SUMMARY:Klezmer\, Sefardì and Songs
DESCRIPTION:
URL:https://www.lydiacevidalli.it/eventi/klezmer-sefardi-songs/
LOCATION:Istituto Italiano di Cultura\, Rue de Livourne 38\, Bruxelles\, 1000 \, Belgio
CATEGORIES:Ensemble Salomone Rossi,Lydia Cevidalli
END:VEVENT
BEGIN:VEVENT
DTSTART;VALUE=DATE:20110326
DTEND;VALUE=DATE:20110327
DTSTAMP:20260420T201434
CREATED:20170506T110119Z
LAST-MODIFIED:20170506T110119Z
UID:29359-1301097600-1301183999@www.lydiacevidalli.it
SUMMARY:Il violino nella cultura ebraica\, conferenza prima parte
DESCRIPTION:Conferenza sul ruolo del violino e della musica nella cultura ebraica: Rinascimento e Barocco
URL:https://www.lydiacevidalli.it/eventi/il-violino-nella-cultura-ebraica-conferenza-prima-parte/
LOCATION:Museo Civico Ala Ponzone\, via Ugolani Dati\, 4\, Cremona\, 26100\, Italia
CATEGORIES:Ensemble Salomone Rossi,Lydia Cevidalli
END:VEVENT
BEGIN:VEVENT
DTSTART;VALUE=DATE:20110325
DTEND;VALUE=DATE:20110326
DTSTAMP:20260420T201434
CREATED:20170506T105452Z
LAST-MODIFIED:20170506T105452Z
UID:29358-1301011200-1301097599@www.lydiacevidalli.it
SUMMARY:intervista a Radio3 Suite\, ore 22
DESCRIPTION:
URL:https://www.lydiacevidalli.it/eventi/intervista-radio3-suite-ore-22/
CATEGORIES:Lydia Cevidalli
END:VEVENT
BEGIN:VEVENT
DTSTART;VALUE=DATE:20110313
DTEND;VALUE=DATE:20110314
DTSTAMP:20260420T201434
CREATED:20170506T093412Z
LAST-MODIFIED:20170506T093412Z
UID:29333-1299974400-1300060799@www.lydiacevidalli.it
SUMMARY:Balli\, canti e divertimenti di Este e Gonzaga "Il violinista sul tetto - voci ebraiche del barocco musicale"
DESCRIPTION:Bergamasche\, Canzonette\, Balletti\, “Divertimenti per i grandi”: storia delle corti di Mantova e Ferrara.\nMusiche di Claudio Monteverdi\, Salomone Rossi\, Gian Giacomo Gastoldi\, Carlo Grossi\, Filippo Azzaiolo\, Ghirardo da Panico Bolognese
URL:https://www.lydiacevidalli.it/eventi/balli-canti-e-divertimenti-di-este-e-gonzaga-il-violinista-sul-tetto-voci-ebraiche-del-barocco-musicale/
LOCATION:Museo Civico Ala Ponzone\, via Ugolani Dati\, 4\, Cremona\, 26100\, Italia
CATEGORIES:Ensemble Salomone Rossi
ATTACH;FMTTYPE=image/jpeg:https://www.lydiacevidalli.it/wp-content/uploads/2017/05/dscf0408_0-1.jpg
END:VEVENT
BEGIN:VEVENT
DTSTART;VALUE=DATE:20091119
DTEND;VALUE=DATE:20091120
DTSTAMP:20260420T201434
CREATED:20170506T092034Z
LAST-MODIFIED:20170506T092034Z
UID:29330-1258588800-1258675199@www.lydiacevidalli.it
SUMMARY:Rai 3\, programma Piazzaverdi
DESCRIPTION:Presentazione del Cd “Jewish Baroque Music”\, con esecuzione in diretta ed interviste
URL:https://www.lydiacevidalli.it/eventi/rai-3-programma-piazzaverdi/
CATEGORIES:Ensemble Salomone Rossi
ATTACH;FMTTYPE=image/jpeg:https://www.lydiacevidalli.it/wp-content/uploads/2017/05/dscn4838-1.jpg
END:VEVENT
BEGIN:VEVENT
DTSTART;VALUE=DATE:20090506
DTEND;VALUE=DATE:20090507
DTSTAMP:20260420T201434
CREATED:20170506T092540Z
LAST-MODIFIED:20170506T113454Z
UID:29332-1241568000-1241654399@www.lydiacevidalli.it
SUMMARY:Cd "Jewish Baroque Music"
DESCRIPTION:C.G.Lidarti\, A.Cáceres\, S.Rossi\, C.Grossi\, G.F.Haendel\nMusica barocca ebraica
URL:https://www.lydiacevidalli.it/eventi/cd-jewish-baroque-music/
CATEGORIES:Ensemble Salomone Rossi
ATTACH;FMTTYPE=image/jpeg:https://www.lydiacevidalli.it/wp-content/uploads/2017/05/immagine_cd_1-1.jpg
END:VEVENT
END:VCALENDAR