BEGIN:VCALENDAR
VERSION:2.0
PRODID:-//Lydia Cevidalli - Musicista - ECPv6.15.20//NONSGML v1.0//EN
CALSCALE:GREGORIAN
METHOD:PUBLISH
X-WR-CALNAME:Lydia Cevidalli - Musicista
X-ORIGINAL-URL:https://www.lydiacevidalli.it
X-WR-CALDESC:Eventi per Lydia Cevidalli - Musicista
REFRESH-INTERVAL;VALUE=DURATION:PT1H
X-Robots-Tag:noindex
X-PUBLISHED-TTL:PT1H
BEGIN:VTIMEZONE
TZID:Europe/Rome
BEGIN:DAYLIGHT
TZOFFSETFROM:+0100
TZOFFSETTO:+0200
TZNAME:CEST
DTSTART:20110327T010000
END:DAYLIGHT
BEGIN:STANDARD
TZOFFSETFROM:+0200
TZOFFSETTO:+0100
TZNAME:CET
DTSTART:20111030T010000
END:STANDARD
BEGIN:DAYLIGHT
TZOFFSETFROM:+0100
TZOFFSETTO:+0200
TZNAME:CEST
DTSTART:20120325T010000
END:DAYLIGHT
BEGIN:STANDARD
TZOFFSETFROM:+0200
TZOFFSETTO:+0100
TZNAME:CET
DTSTART:20121028T010000
END:STANDARD
BEGIN:DAYLIGHT
TZOFFSETFROM:+0100
TZOFFSETTO:+0200
TZNAME:CEST
DTSTART:20130331T010000
END:DAYLIGHT
BEGIN:STANDARD
TZOFFSETFROM:+0200
TZOFFSETTO:+0100
TZNAME:CET
DTSTART:20131027T010000
END:STANDARD
BEGIN:DAYLIGHT
TZOFFSETFROM:+0100
TZOFFSETTO:+0200
TZNAME:CEST
DTSTART:20140330T010000
END:DAYLIGHT
BEGIN:STANDARD
TZOFFSETFROM:+0200
TZOFFSETTO:+0100
TZNAME:CET
DTSTART:20141026T010000
END:STANDARD
BEGIN:DAYLIGHT
TZOFFSETFROM:+0100
TZOFFSETTO:+0200
TZNAME:CEST
DTSTART:20150329T010000
END:DAYLIGHT
BEGIN:STANDARD
TZOFFSETFROM:+0200
TZOFFSETTO:+0100
TZNAME:CET
DTSTART:20151025T010000
END:STANDARD
END:VTIMEZONE
BEGIN:VEVENT
DTSTART;VALUE=DATE:20140713
DTEND;VALUE=DATE:20140714
DTSTAMP:20260420T182852
CREATED:20170506T101759Z
LAST-MODIFIED:20170506T101759Z
UID:29350-1405209600-1405295999@www.lydiacevidalli.it
SUMMARY:I Salmi di Benedetto Marcello
DESCRIPTION:Madesimo Music Festival – Gloria Banditelli\, mezzosoprano – Veronika Kralova\, soprano – Alessandro Nuccio\, baritono – Lydia Cevidalli\, violino – Issei Watanabe\, violoncello – Giovanni Togni\, clavicembalo – Salmo 8 e Salmo 15 – Sonata per violino e basso continuo; ascolta registrazione dal concerto; Salmo 8\nAscolta intervista a Radio Classica; Leggi recensione su Musica
URL:https://www.lydiacevidalli.it/eventi/salmi-di-benedetto-marcello/
LOCATION:Chiesa dei SS. Pietro e Paolo\, Piazza Bertacchi\, 6\, Madesimo\, SO\, 23024\, Italia
CATEGORIES:Ensemble Salomone Rossi
ATTACH;FMTTYPE=image/jpeg:https://www.lydiacevidalli.it/wp-content/uploads/2017/05/libretto_pag_ensemble-1.jpg
END:VEVENT
BEGIN:VEVENT
DTSTART;VALUE=DATE:20140623
DTEND;VALUE=DATE:20140624
DTSTAMP:20260420T182852
CREATED:20170506T164144Z
LAST-MODIFIED:20170506T164144Z
UID:29484-1403481600-1403567999@www.lydiacevidalli.it
SUMMARY:Stellerranti al Festival di musica religiosa
DESCRIPTION:Cinzia Bauci voce\, Lydia Cevidalli violino\, Pierantonio Gallesi fisarmonica
URL:https://www.lydiacevidalli.it/eventi/stellerranti-al-festival-di-musica-religiosa/
LOCATION:Chiostri dell Umanitaria\, via San Barnaba\, 48\, Milano\, Italia
CATEGORIES:Stellerranti
ATTACH;FMTTYPE=image/jpeg:https://www.lydiacevidalli.it/wp-content/uploads/2017/05/milano_26.1.14.jpg
END:VEVENT
BEGIN:VEVENT
DTSTART;VALUE=DATE:20140615
DTEND;VALUE=DATE:20140616
DTSTAMP:20260420T182852
CREATED:20170506T101147Z
LAST-MODIFIED:20170506T101147Z
UID:29349-1402790400-1402876799@www.lydiacevidalli.it
SUMMARY:Codici e pergamene - Da molti luoghi e tempi frammenti di memoria ritrovata
DESCRIPTION:Convegno sulle pergamene riscoperte alla Biblioteca Palatina di Parma; concerto di chiusura\, entrata aperta a tutti e gratuita\nCon Caterina Trogu Roehrich\, soprano – Lydia Cevidalli\, violino – Marlise Goidanich\, violoncello – Diego Cantalupi\, tiorba\nMusiche di S. Rossi\, A. Caceres e B. Marcello\nAscolta: registrazione del concerto
URL:https://www.lydiacevidalli.it/eventi/codici-e-pergamene-da-molti-luoghi-e-tempi-frammenti-di-memoria-ritrovata/
LOCATION:Biblioteca Palatina – Sala Maria Luigia\, Strada alla Pilotta\, 3\, Parma\, 43100\, Italia
CATEGORIES:Ensemble Salomone Rossi
ATTACH;FMTTYPE=image/jpeg:https://www.lydiacevidalli.it/wp-content/uploads/2017/05/img_1631-1.jpg
END:VEVENT
BEGIN:VEVENT
DTSTART;VALUE=DATE:20140507
DTEND;VALUE=DATE:20140508
DTSTAMP:20260420T182852
CREATED:20170506T163233Z
LAST-MODIFIED:20170506T163233Z
UID:29479-1399420800-1399507199@www.lydiacevidalli.it
SUMMARY:Klezmer Jazz Night
DESCRIPTION:Link al live recording della seconda parte del concerto\nGabriele Coen clarinetto\, saxofono; Sergio Scappini fisarmonica Klezmer jazz night è un progetto nato nel 2012 da un incontro fra il clarinettista\, sassofonista jazz e compositore Gabriele Coen\, quotato nelle top ten dei jazzisti italiani e Sergio Scappini\, virtuoso della fisarmonica e fra i più apprezzati interpreti a livello mondiale. Il repertorio è quello klezmer e sefardita rivisitato in chiave jazz\, del folk dal nord Europa al Mediterraneo\, condito di jazz\, improvvisazione\, virtuosismi funambolici e trascinanti; spettacolo che coinvolge il pubblico e lo trascina perfino sul palcoscenico\, con sorprese di volta in volta diverse. Ospite molto gradita: Lydia Cevidalli\, affermata violinista e studiosa di musica ebraica.
URL:https://www.lydiacevidalli.it/eventi/klezmer-jazz-night/
LOCATION:Scimmie\, Via Ascanio Sforza\, 49\, Milano\, 20123\, Italia
CATEGORIES:Lydia Cevidalli
ATTACH;FMTTYPE=image/jpeg:https://www.lydiacevidalli.it/wp-content/uploads/2017/05/gabriele_clarinetto_e_f._bigoni.jpg
END:VEVENT
BEGIN:VEVENT
DTSTART;VALUE=DATE:20140501
DTEND;VALUE=DATE:20140502
DTSTAMP:20260420T182852
CREATED:20170506T163536Z
LAST-MODIFIED:20170506T164841Z
UID:29482-1398902400-1398902400@www.lydiacevidalli.it
SUMMARY:Intervista Radio Popolare
DESCRIPTION:Claudio Ricordi intervista; gli argomenti saranno il Seminario di Musica Klemzer\, il concerto alle Scimmie Infine il ricordo di Leone Sinigaglia\, nell’anniversario dei 70 anni dalla scomparsa\, il 16 maggio 1944.
URL:https://www.lydiacevidalli.it/eventi/intervista-radio-popolare/
LOCATION:SP
CATEGORIES:Lydia Cevidalli
ATTACH;FMTTYPE=image/jpeg:https://www.lydiacevidalli.it/wp-content/uploads/2017/05/low_res.-20140127-046.jpg
END:VEVENT
BEGIN:VEVENT
DTSTART;VALUE=DATE:20140329
DTEND;VALUE=DATE:20140330
DTSTAMP:20260420T182852
CREATED:20170506T175633Z
LAST-MODIFIED:20170506T175633Z
UID:29531-1396051200-1396137599@www.lydiacevidalli.it
SUMMARY:Stellerranti a Milano
DESCRIPTION:Piazza Napoli 35 – Milano\nLa notte della libertà\ncon Cinzia Bauci\, voce – Lydia Cevidalli\, violino – Pier Gallesi\, fisarmonica
URL:https://www.lydiacevidalli.it/eventi/stellerranti-a-milano/
LOCATION:SP
CATEGORIES:Stellerranti
ATTACH;FMTTYPE=image/jpeg:https://www.lydiacevidalli.it/wp-content/uploads/2017/05/cattura_meglio_3_a_colori.jpg
END:VEVENT
BEGIN:VEVENT
DTSTART;VALUE=DATE:20140227
DTEND;VALUE=DATE:20140228
DTSTAMP:20260420T182852
CREATED:20170506T162512Z
LAST-MODIFIED:20170506T162512Z
UID:29475-1393459200-1393545599@www.lydiacevidalli.it
SUMMARY:La scelta di Etty Hillesum
DESCRIPTION:Via Francesco Sforza 7\nScelta di letture dai Diari e dalle Lettere di Etty Hillesum \nIntroduzione e commento di Davide Semeraro\nVoce recitante Marina Bassani\nViolino Lydia Cevidalli
URL:https://www.lydiacevidalli.it/eventi/la-scelta-di-etty-hillesum-3/
LOCATION:Sala del Grechetto\, corso di Porta Vittoria\, 6\, Milano\, 20122
CATEGORIES:Lydia Cevidalli
ATTACH;FMTTYPE=image/jpeg:https://www.lydiacevidalli.it/wp-content/uploads/2017/05/lydia_primo_piano_bn.jpg
END:VEVENT
BEGIN:VEVENT
DTSTART;VALUE=DATE:20140219
DTEND;VALUE=DATE:20140220
DTSTAMP:20260420T182852
CREATED:20170506T100802Z
LAST-MODIFIED:20170506T100802Z
UID:29347-1392768000-1392854399@www.lydiacevidalli.it
SUMMARY:Centro Veneziano di studi Ebraici Internazionali - Fondazione Levi
DESCRIPTION:Vedi direct streaming dal minuto 18\,10\nSonia Turchetta\, mezzosoprano – Lydia Cevidalli\, violino – Marlise Goidanich\, violoncello Diego Cantalupi\, tiorba.\nRegistrazione per il documentario della BBC “The Story of the Jews” – Link di ascolto: Salomone Rossi\, Salmo 
URL:https://www.lydiacevidalli.it/eventi/centro-veneziano-di-studi-ebraici-internazionali-fondazione-levi/
LOCATION:Centro Veneziano di studi Ebraici Internazionali\, Castello 6392\, Venezia\, 30124\, Italia
CATEGORIES:Ensemble Salomone Rossi
ATTACH;FMTTYPE=image/png:https://www.lydiacevidalli.it/wp-content/uploads/2017/05/logo_2-1.png
END:VEVENT
BEGIN:VEVENT
DTSTART;VALUE=DATE:20140212
DTEND;VALUE=DATE:20140213
DTSTAMP:20260420T182852
CREATED:20170506T161416Z
LAST-MODIFIED:20170506T161416Z
UID:29473-1392163200-1392249599@www.lydiacevidalli.it
SUMMARY:La scelta di Etty Hillesum
DESCRIPTION:Scelta di letture dai Diari e dalle Lettere di Etty Hillesum – Edizioni Adelphi \nIntroduzione e commento di Davide Semeraro\nVoce recitante Marina Bassani\nViolino Lydia Cevidalli
URL:https://www.lydiacevidalli.it/eventi/la-scelta-di-etty-hillesum-2/
LOCATION:Libreria Claudiana\, Via Francesco Sforza\, 12/A\, Milano\, 20122\, Italia
CATEGORIES:Lydia Cevidalli
ATTACH;FMTTYPE=image/jpeg:https://www.lydiacevidalli.it/wp-content/uploads/2017/05/etty-hillesum-640x420_0.jpg
END:VEVENT
BEGIN:VEVENT
DTSTART;VALUE=DATE:20140127
DTEND;VALUE=DATE:20140128
DTSTAMP:20260420T182852
CREATED:20170506T161057Z
LAST-MODIFIED:20170506T161057Z
UID:29471-1390780800-1390867199@www.lydiacevidalli.it
SUMMARY:Milano ricorda la Shoah
DESCRIPTION:CONCERTO\, RIFLESSIONI E TESTIMONIANZE\n“La musica della Memoria” al Conservatorio\nIn ricordo di Leone Sinigaglia a 70 anni dalla scomparsa\nSerata aperta a tutta la cittadinanza
URL:https://www.lydiacevidalli.it/eventi/milano-ricorda-la-shoah/
LOCATION:Sala Verdi Del Conservatorio\, Via Conservatorio\, 12\, Milano\, 20100\, Italia
CATEGORIES:Lydia Cevidalli
ATTACH;FMTTYPE=image/jpeg:https://www.lydiacevidalli.it/wp-content/uploads/2017/05/cattura_copertina.jpg
END:VEVENT
BEGIN:VEVENT
DTSTART;VALUE=DATE:20131112
DTEND;VALUE=DATE:20131113
DTSTAMP:20260420T182852
CREATED:20170506T160728Z
LAST-MODIFIED:20170506T160728Z
UID:29467-1384214400-1384300799@www.lydiacevidalli.it
SUMMARY:La scelta di Etty Hillesum
DESCRIPTION:Voce recitante Marina Bassani\, violino Lydia Cevidalli\nCommento Michael Davide Semeraro\nIntroduce David Sorani\nMusiche di J.S. Bach\, M.Ravel e D. Sostakovic
URL:https://www.lydiacevidalli.it/eventi/la-scelta-di-etty-hillesum/
LOCATION:il Circolo dei lettori\, Via Giambattista Bogino\, 9\, Torino\, 10123\, Italia
CATEGORIES:Lydia Cevidalli
ATTACH;FMTTYPE=image/jpeg:https://www.lydiacevidalli.it/wp-content/uploads/2017/05/etty-hillesum-640x420_0.jpg
END:VEVENT
BEGIN:VEVENT
DTSTART;VALUE=DATE:20131106
DTEND;VALUE=DATE:20131107
DTSTAMP:20260420T182852
CREATED:20170506T160110Z
LAST-MODIFIED:20170506T160141Z
UID:29463-1383696000-1383782399@www.lydiacevidalli.it
SUMMARY:Anima Immorale
DESCRIPTION:Spettacolo teatrale con Marina Bassani in collaborazione con Contemporaryart Torino per Work in Progress Party
URL:https://www.lydiacevidalli.it/eventi/anima-immorale/
LOCATION:Procope Artigianelli Cafèclub\, Corso Palestro\, 14\, Torino\, 10122\, Italia
CATEGORIES:Lydia Cevidalli
ATTACH;FMTTYPE=image/jpeg:https://www.lydiacevidalli.it/wp-content/uploads/2017/05/076-11.06.13_0.jpg
END:VEVENT
BEGIN:VEVENT
DTSTART;VALUE=DATE:20131014
DTEND;VALUE=DATE:20131015
DTSTAMP:20260420T182852
CREATED:20170506T155554Z
LAST-MODIFIED:20170506T155721Z
UID:29459-1381708800-1381795199@www.lydiacevidalli.it
SUMMARY:Yossl Rakover di Zvi Kolitz
DESCRIPTION:Marina Bassani\, ideazione ed interpretazione\nLydia Cevidalli\, violino
URL:https://www.lydiacevidalli.it/eventi/yossl-rakover-di-zvi-kolitz/
LOCATION:Cine Teatro Baretti\, Via Giuseppe Baretti\, 4 \, Torino\, 10125\, Italia
CATEGORIES:Lydia Cevidalli
ATTACH;FMTTYPE=image/jpeg:https://www.lydiacevidalli.it/wp-content/uploads/2017/05/1306746410_marina_bassani.jpg
END:VEVENT
BEGIN:VEVENT
DTSTART;VALUE=DATE:20130711
DTEND;VALUE=DATE:20130712
DTSTAMP:20260420T182852
CREATED:20170506T100525Z
LAST-MODIFIED:20170506T100525Z
UID:29346-1373500800-1373587199@www.lydiacevidalli.it
SUMMARY:Radio Popolare - Rotoclassica
DESCRIPTION:Con Claudio Ricordi\, presentazione del Cd “Jewish Baroque Music”\nseconda stampa\, Dicembre 2012
URL:https://www.lydiacevidalli.it/eventi/radio-popolare-rotoclassica/
LOCATION:SP
CATEGORIES:Ensemble Salomone Rossi
ATTACH;FMTTYPE=image/jpeg:https://www.lydiacevidalli.it/wp-content/uploads/2017/05/ajf_9665bw-1.jpg
END:VEVENT
BEGIN:VEVENT
DTSTART;VALUE=DATE:20130611
DTEND;VALUE=DATE:20130612
DTSTAMP:20260420T182852
CREATED:20170506T100100Z
LAST-MODIFIED:20170508T151854Z
UID:29344-1370908800-1370995199@www.lydiacevidalli.it
SUMMARY:Presentazione del Cd "Jewish Baroque Music" seconda stampa\, 2012
DESCRIPTION:Ersilia Colonna Lopez presenta il Cd\, breve concerto e per concludere APERITIVO!\nVia Francesco Sforza 12/a\, 20122 Milano- Tel. 02.76021518 – Ore 18\,30\nVedi News di Concerto Classics – Vedi Blog di Concerto
URL:https://www.lydiacevidalli.it/eventi/presentazione-del-cd-jewish-baroque-music-seconda-stampa-2012/
LOCATION:Libreria Claudiana\, Via Francesco Sforza\, 12/A\, Milano\, 20122\, Italia
CATEGORIES:Ensemble Salomone Rossi
ATTACH;FMTTYPE=image/jpeg:https://www.lydiacevidalli.it/wp-content/uploads/2017/05/dscn2537_0-1.jpg
END:VEVENT
BEGIN:VEVENT
DTSTART;VALUE=DATE:20130127
DTEND;VALUE=DATE:20130128
DTSTAMP:20260420T182852
CREATED:20170506T154828Z
LAST-MODIFIED:20170506T154828Z
UID:29456-1359244800-1359331199@www.lydiacevidalli.it
SUMMARY:Giorno della Memoria
DESCRIPTION:“Milano ricorda la Shoah” Sala Verdi del Conservatorio di Musica di Milano
URL:https://www.lydiacevidalli.it/eventi/giorno-della-memoria-2/
LOCATION:Sala Verdi Del Conservatorio\, Via Conservatorio\, 12\, Milano\, 20100\, Italia
CATEGORIES:Lydia Cevidalli
ATTACH;FMTTYPE=image/jpeg:https://www.lydiacevidalli.it/wp-content/uploads/2017/05/immagine_invito_2013_quadrata_1.jpg
END:VEVENT
BEGIN:VEVENT
DTSTART;VALUE=DATE:20130124
DTEND;VALUE=DATE:20130125
DTSTAMP:20260420T182852
CREATED:20170506T154424Z
LAST-MODIFIED:20170506T154424Z
UID:29453-1358985600-1359071999@www.lydiacevidalli.it
SUMMARY:Klezmer\, Sefardì and Songs
DESCRIPTION:Amici della Musica – In collaborazione con “Il Giorno della Memoria” del Comune di Udine\nMusica della tradizione ebraica – klezmer\, sefardita ed italiana
URL:https://www.lydiacevidalli.it/eventi/klezmer-sefardi-songs-4/
LOCATION:Teatro Palamostre\, piazzale Paolo Diacono 21\, Udine\, 33100\, Italia
CATEGORIES:Lydia Cevidalli
ATTACH;FMTTYPE=image/jpeg:https://www.lydiacevidalli.it/wp-content/uploads/2017/05/ud_klezsfardit_027_ef.jpg
END:VEVENT
BEGIN:VEVENT
DTSTART;VALUE=DATE:20130123
DTEND;VALUE=DATE:20130124
DTSTAMP:20260420T182852
CREATED:20170506T154044Z
LAST-MODIFIED:20170506T154044Z
UID:29450-1358899200-1358985599@www.lydiacevidalli.it
SUMMARY:Klezmer\, Sefardì and Songs
DESCRIPTION:Giorno della memoria 2013 – Concerto per Circolo Culturale Bellunese di Belluno\nMusiche della tradizione ebraica – klezmer\, sefardita ed italiana
URL:https://www.lydiacevidalli.it/eventi/klezmer-sefardi-songs-3/
LOCATION:Teatro Giovanni XXIII\, Piazza Piloni\, 11\, Belluno\, 32100\, Italia
CATEGORIES:Lydia Cevidalli
ATTACH;FMTTYPE=image/jpeg:https://www.lydiacevidalli.it/wp-content/uploads/2017/05/img_0197-01.jpg
END:VEVENT
BEGIN:VEVENT
DTSTART;VALUE=DATE:20121201
DTEND;VALUE=DATE:20121202
DTSTAMP:20260420T182852
CREATED:20170506T095750Z
LAST-MODIFIED:20170506T095750Z
UID:29343-1354320000-1354406399@www.lydiacevidalli.it
SUMMARY:Cd "Jewish Baroque Music"\, seconda stampa
DESCRIPTION:Leggi la presentazione sul sito di Concerto\nLeggi l’intervento sul blog di Concerto\nCd “Jewish Baroque Music”\nVedi pagina Facebook di Concertoclassics
URL:https://www.lydiacevidalli.it/eventi/cd-jewish-baroque-music-seconda-stampa/
LOCATION:SP
CATEGORIES:Ensemble Salomone Rossi
ATTACH;FMTTYPE=image/jpeg:https://www.lydiacevidalli.it/wp-content/uploads/2017/05/immagine_cd_1-1.jpg
END:VEVENT
BEGIN:VEVENT
DTSTART;VALUE=DATE:20121030
DTEND;VALUE=DATE:20121031
DTSTAMP:20260420T182852
CREATED:20170506T095554Z
LAST-MODIFIED:20170506T095554Z
UID:29341-1351555200-1351641599@www.lydiacevidalli.it
SUMMARY:Presentazione del libro "Gli Ebrei nel Veneto Orientale"
DESCRIPTION:Presentazione del libro di Giovanni e Silvia Tomasi\, edizioni Giuntina Interventi di Ioly Zorattini\, Rav Elia Richetti\, Floriano Zambon \nSalmi di Benedetto Marcello eseguiti da Rav Elia Richetti\, canto e Lydia Cevidalli\, violino
URL:https://www.lydiacevidalli.it/eventi/presentazione-del-libro-gli-ebrei-nel-veneto-orientale/
LOCATION:sala consigliare\, P.zza Cima\, 8\, Conegliano\, 31015\, Italia
CATEGORIES:Ensemble Salomone Rossi
ATTACH;FMTTYPE=image/jpeg:https://www.lydiacevidalli.it/wp-content/uploads/2017/05/dsc_01891_0_0-1.jpg
END:VEVENT
BEGIN:VEVENT
DTSTART;VALUE=DATE:20121027
DTEND;VALUE=DATE:20121028
DTSTAMP:20260420T182852
CREATED:20170506T094902Z
LAST-MODIFIED:20170506T094902Z
UID:29339-1351296000-1351382399@www.lydiacevidalli.it
SUMMARY:Festival "Mandolini a Venezia"
DESCRIPTION:Ugo Orlandi\, mandolino – Lydia Cevidalli\, violino – Christian Bellisario\, violoncello Musiche di J.Hoffman\, M. Stabingher\, B. Asioli\, A. Dolfin\, G. Leone
URL:https://www.lydiacevidalli.it/eventi/festival-mandolini-venezia/
LOCATION:Chiesa di San Polo\, Campo San Polo\, Venezia\, 30125\, Italia
CATEGORIES:Ensemble Salomone Rossi
ATTACH;FMTTYPE=image/jpeg:https://www.lydiacevidalli.it/wp-content/uploads/2017/05/fmi_-_rassegna_venezia_-_trio_docenti_28.10.2012_26_0-1.jpg
END:VEVENT
BEGIN:VEVENT
DTSTART;VALUE=DATE:20121021
DTEND;VALUE=DATE:20121022
DTSTAMP:20260420T182852
CREATED:20170506T153247Z
LAST-MODIFIED:20170506T153247Z
UID:29447-1350777600-1350863999@www.lydiacevidalli.it
SUMMARY:"La Notte della libertà"
DESCRIPTION:Concerto con Stellerranti Cabaret Europa
URL:https://www.lydiacevidalli.it/eventi/la-notte-della-liberta/
LOCATION:Lugano\, Via Landriani\, 10\, Lugano\, Svizzera
CATEGORIES:Stellerranti
ATTACH;FMTTYPE=image/jpeg:https://www.lydiacevidalli.it/wp-content/uploads/2017/05/dscn3156.jpg
END:VEVENT
BEGIN:VEVENT
DTSTART;VALUE=DATE:20121015
DTEND;VALUE=DATE:20121016
DTSTAMP:20260420T182852
CREATED:20170506T152806Z
LAST-MODIFIED:20170506T152806Z
UID:29443-1350259200-1350345599@www.lydiacevidalli.it
SUMMARY:Poesia ebraica al femminile
DESCRIPTION:Concerto a conclusione del convegno – Musiche Sefardite del bacino mediterraneo\nCaterina Trogu Roehrich\, soprano – Lydia Cevidalli\, violino – Simone Bellucci\, chitarra
URL:https://www.lydiacevidalli.it/eventi/poesia-ebraica-al-femminile/
LOCATION:Sala Napoleonica – Università degli Studi di Milano\, Via Sant'Antonio\, 12\, Milano\, 20122 \, Italia
CATEGORIES:Lydia Cevidalli
ATTACH;FMTTYPE=image/jpeg:https://www.lydiacevidalli.it/wp-content/uploads/2017/05/dscn3096.jpg
END:VEVENT
BEGIN:VEVENT
DTSTART;VALUE=DATE:20120928
DTEND;VALUE=DATE:20120929
DTSTAMP:20260420T182852
CREATED:20170506T151858Z
LAST-MODIFIED:20170506T152352Z
UID:29438-1348790400-1348876799@www.lydiacevidalli.it
SUMMARY:Trio Cadaly: "Notte della Cultura"
DESCRIPTION:L’Istituto di Cultura Italiana di Copenhagen organizza l’evento\, in collaborazione con il comune di Gentofte\nMusiche di Rossini\, Verdi\, Puccini\, Sinigaglia\, Respighi\, Pizzetti\, Manusardi\nTrio Cadaly: Caterina Trogu Roehrich\, soprano – Lydia Cevidalli\, violino – Daniela Manusardi\, pianoforte
URL:https://www.lydiacevidalli.it/eventi/trio-cadaly-notte-della-cultura/
LOCATION:Gentofte\, Copenhagen\, Danimarca
CATEGORIES:Lydia Cevidalli
ATTACH;FMTTYPE=image/png:https://www.lydiacevidalli.it/wp-content/uploads/2017/05/1.png
END:VEVENT
BEGIN:VEVENT
DTSTART;VALUE=DATE:20120728
DTEND;VALUE=DATE:20120729
DTSTAMP:20260420T182852
CREATED:20170506T150857Z
LAST-MODIFIED:20170506T150857Z
UID:29434-1343433600-1343519999@www.lydiacevidalli.it
SUMMARY:Gli amici per Piero Milesi - Gruppo vocale e strumentale MusicaNova
DESCRIPTION:C. Gounod: Messa
URL:https://www.lydiacevidalli.it/eventi/gli-amici-per-piero-milesi-gruppo-vocale-e-strumentale-musicanova/
LOCATION:Chiesa di S. Giovanni Battista\, Mattarrana di Carrodano\, SP\, Italia
CATEGORIES:Lydia Cevidalli
ATTACH;FMTTYPE=image/jpeg:https://www.lydiacevidalli.it/wp-content/uploads/2017/05/dscn2699.jpg
END:VEVENT
BEGIN:VEVENT
DTSTART;VALUE=DATE:20120721
DTEND;VALUE=DATE:20120722
DTSTAMP:20260420T182852
CREATED:20170506T150203Z
LAST-MODIFIED:20170506T150203Z
UID:29431-1342828800-1342915199@www.lydiacevidalli.it
SUMMARY:Gruppo vocale e strumentale MusicaNova
DESCRIPTION:Musiche di G.F. Haendel\, A. VIvaldi\, J.F. Fasch\, A. Viviani
URL:https://www.lydiacevidalli.it/eventi/gruppo-vocale-e-strumentale-musicanova-2/
LOCATION:SP
CATEGORIES:Lydia Cevidalli
ATTACH;FMTTYPE=image/jpeg:https://www.lydiacevidalli.it/wp-content/uploads/2017/05/dscf0229_1.jpg
END:VEVENT
BEGIN:VEVENT
DTSTART;VALUE=DATE:20120703
DTEND;VALUE=DATE:20120704
DTSTAMP:20260420T182852
CREATED:20170506T094126Z
LAST-MODIFIED:20170506T094126Z
UID:29337-1341273600-1341359999@www.lydiacevidalli.it
SUMMARY:Registrazione per il documentario "The story of the Jews" della BBC
DESCRIPTION:Salmi di Salomone Rossi\nCaterina Trogu Roehrich\, soprano – Alessandro Nuccio\, baritono – Lydia Cevidalli\, violino – Marlise Goidanich\, violoncello
URL:https://www.lydiacevidalli.it/eventi/registrazione-per-il-documentario-story-jews-della-bbc/
LOCATION:Ca’ Zenobio degli Armeni\, Dorsoduro\, 2596\, Venezia\, 30123\, Italia
CATEGORIES:Ensemble Salomone Rossi
ATTACH;FMTTYPE=image/jpeg:https://www.lydiacevidalli.it/wp-content/uploads/2017/05/dscn2547-1.jpg
END:VEVENT
BEGIN:VEVENT
DTSTART;VALUE=DATE:20120624
DTEND;VALUE=DATE:20120625
DTSTAMP:20260420T182852
CREATED:20170506T145859Z
LAST-MODIFIED:20170506T145859Z
UID:29428-1340496000-1340582399@www.lydiacevidalli.it
SUMMARY:Stellerranti in concerto
DESCRIPTION:Cinzia Bauci\, Pierantonio Gallesi\, Lydia Cevidalli\, Marco Renna\nLa notte della Libertà – organizzazione a cura dell’Associazione La Barriera
URL:https://www.lydiacevidalli.it/eventi/stellerranti-in-concerto-2/
LOCATION:Circolo del Cascame\, Via Zara \,2\, Vigevano\, Italia
CATEGORIES:Stellerranti
ATTACH;FMTTYPE=image/jpeg:https://www.lydiacevidalli.it/wp-content/uploads/2017/05/locandina_vigevano_24.6.12.jpg
END:VEVENT
BEGIN:VEVENT
DTSTART;VALUE=DATE:20120520
DTEND;VALUE=DATE:20120521
DTSTAMP:20260420T182852
CREATED:20170506T145305Z
LAST-MODIFIED:20170506T145305Z
UID:29425-1337472000-1337558399@www.lydiacevidalli.it
SUMMARY:Presentazione Cd "Cabaret Europa" a Morimondoinchiosco
DESCRIPTION:Stellerranti: Cinzia Bauci contralto-Pier Gallesi\, pianoforte\, fisarmonica\, violoncello e con: Lydia Cevidalli violino- Marco Renna\, percussioni-Mauro Sabbione\, piano\, tastiere.\nInquieti cantastorie del nostro tempo\, autori e protagonisti del Teatro-Concerto\, le Stellerranti nascono dall’incontro tra la voce e la libertà creativa di Cinzia Bauci e la poliedricità strumentale di Pier Gallesi. Cabaret Europa. racconta storie di viaggi\, di memorie\, di confini\, di sconfinamenti dal mediterraneo alla mitteleuropa: le tradizioni musicali ebraiche sefardite e yiddish\, l’esperienza dei fumosi cabaret della Berlino della Dietrich e di Kurt Weil\, il music hall\, la Grand Opera\, i teatrini sgangherati dei ghetti\, le notti profumate di un sud immaginario scandite dal ritmo dei tamburi… forse solo un sogno\, una follia…Gli arrangiamenti di Mauro Sabbione ( Matia Bazar\, Litfiba…) aggiungono attualità e raffinatezza.\nCon ricco aperitivo-buffet etnico a cura di Morimondoinchiosco
URL:https://www.lydiacevidalli.it/eventi/presentazione-cd-cabaret-europa-morimondoinchiosco/
LOCATION:Morimondo\, Abbiategrasso\, MI\, 20081\, Italia
CATEGORIES:Stellerranti
ATTACH;FMTTYPE=image/jpeg:https://www.lydiacevidalli.it/wp-content/uploads/2017/05/locandina_morimondo_20.5.12_1.jpg
END:VEVENT
BEGIN:VEVENT
DTSTART;VALUE=DATE:20120512
DTEND;VALUE=DATE:20120513
DTSTAMP:20260420T182852
CREATED:20170506T144757Z
LAST-MODIFIED:20170506T144907Z
UID:29422-1336780800-1336867199@www.lydiacevidalli.it
SUMMARY:I colori del mondo - IV edizione
DESCRIPTION:Manifestazione cittadina promossa e realizzata dal Tavolo Migranti per favorire la reciproca conoscenza tra cittadini italiani e migranti.\nOre 19.30: Cena etno-gastronomica Tutti-Gusti\nOre 21.00: I colori del mondo: storie di viaggi\, di canti e di migranti con i ragazzi del laboratorio di teatro-coro diretto da Cinzia Bauci e Pier Gallesi in arte Stellerranti\, che si esibiranno in alcuni canti del popolo migrante per eccellenza\, quello ebraico\, con la partecipazione di Lydia Cevidalli.
URL:https://www.lydiacevidalli.it/eventi/colori-del-mondo-iv-edizione/
LOCATION:Cavallerizza Del Castello\, Via Rocca Vecchia\, Vigevano\, 27029\, Italia
ATTACH;FMTTYPE=image/jpeg:https://www.lydiacevidalli.it/wp-content/uploads/2017/05/tutti_2.jpg
END:VEVENT
END:VCALENDAR