BEGIN:VCALENDAR
VERSION:2.0
PRODID:-//Lydia Cevidalli - Musicista - ECPv6.15.20//NONSGML v1.0//EN
CALSCALE:GREGORIAN
METHOD:PUBLISH
X-WR-CALNAME:Lydia Cevidalli - Musicista
X-ORIGINAL-URL:https://www.lydiacevidalli.it
X-WR-CALDESC:Eventi per Lydia Cevidalli - Musicista
REFRESH-INTERVAL;VALUE=DURATION:PT1H
X-Robots-Tag:noindex
X-PUBLISHED-TTL:PT1H
BEGIN:VTIMEZONE
TZID:Europe/Rome
BEGIN:DAYLIGHT
TZOFFSETFROM:+0100
TZOFFSETTO:+0200
TZNAME:CEST
DTSTART:20130331T010000
END:DAYLIGHT
BEGIN:STANDARD
TZOFFSETFROM:+0200
TZOFFSETTO:+0100
TZNAME:CET
DTSTART:20131027T010000
END:STANDARD
BEGIN:DAYLIGHT
TZOFFSETFROM:+0100
TZOFFSETTO:+0200
TZNAME:CEST
DTSTART:20140330T010000
END:DAYLIGHT
BEGIN:STANDARD
TZOFFSETFROM:+0200
TZOFFSETTO:+0100
TZNAME:CET
DTSTART:20141026T010000
END:STANDARD
BEGIN:DAYLIGHT
TZOFFSETFROM:+0100
TZOFFSETTO:+0200
TZNAME:CEST
DTSTART:20150329T010000
END:DAYLIGHT
BEGIN:STANDARD
TZOFFSETFROM:+0200
TZOFFSETTO:+0100
TZNAME:CET
DTSTART:20151025T010000
END:STANDARD
BEGIN:DAYLIGHT
TZOFFSETFROM:+0100
TZOFFSETTO:+0200
TZNAME:CEST
DTSTART:20160327T010000
END:DAYLIGHT
BEGIN:STANDARD
TZOFFSETFROM:+0200
TZOFFSETTO:+0100
TZNAME:CET
DTSTART:20161030T010000
END:STANDARD
BEGIN:DAYLIGHT
TZOFFSETFROM:+0100
TZOFFSETTO:+0200
TZNAME:CEST
DTSTART:20170326T010000
END:DAYLIGHT
BEGIN:STANDARD
TZOFFSETFROM:+0200
TZOFFSETTO:+0100
TZNAME:CET
DTSTART:20171029T010000
END:STANDARD
END:VTIMEZONE
BEGIN:VEVENT
DTSTART;VALUE=DATE:20160127
DTEND;VALUE=DATE:20160128
DTSTAMP:20260420T182911
CREATED:20170506T182933Z
LAST-MODIFIED:20170506T182933Z
UID:29556-1453852800-1453939199@www.lydiacevidalli.it
SUMMARY:Dalla Shoah al ritorno alla vita - Parole Musiche e Silenzi
DESCRIPTION:Serata aperta a tutta la cittadinanza organizzata da:\nAssociazione Figli della Shoah\, Comunità Ebraica di Milano\, Conservatorio G. Verdi di Milano\, Fondazione CDEC\, Fondazione Memoriale della Shoah di Milano\, conduce la serata Luca Ciammarughi\nLetture a cura di Lisa Capaccioli\, Piccolo Teatro di Milano – Proiezione di “Sciesopoli\, il ritorno alla vita” – Testimonianza di Ersilia Lopez
URL:https://www.lydiacevidalli.it/eventi/dalla-shoah-al-ritorno-alla-vita-parole-musiche-e-silenzi/
LOCATION:Sala Verdi Del Conservatorio\, Via Conservatorio\, 12\, Milano\, 20100\, Italia
CATEGORIES:Lydia Cevidalli
ATTACH;FMTTYPE=image/jpeg:https://www.lydiacevidalli.it/wp-content/uploads/2017/05/locandina_recto.jpg
END:VEVENT
BEGIN:VEVENT
DTSTART;TZID=Europe/Rome:20160124T110000
DTEND;TZID=Europe/Rome:20160124T123000
DTSTAMP:20260420T182911
CREATED:20161222T145024Z
LAST-MODIFIED:20221122T223102Z
UID:28645-1453633200-1453638600@www.lydiacevidalli.it
SUMMARY:Splendori del Barocco - I Concerti del Quirinale di Radio3
DESCRIPTION:Con Caterina Trogu Roehrich\, soprano – Gloria Banditelli\, mezzosoprano – Lydia Cevidalli\, violino – Issei Watanabe\, violoncello – Diego Canatalupi\, arciliuto – Giovanni Togni\, clavicembalo \n \nTrasmesso in diretta su Radio3 e su Euradio in vari paesi europei \nPresenta e conduce Stefano Catucci \nVedi rassegna stampa
URL:https://www.lydiacevidalli.it/eventi/splendori-del-barocco-i-concerti-del-quirinale-di-radio3/
LOCATION:Cappella Paolina\, Palazzo del Quirinale\, Piazza del Quirinale \, Roma\, 00187\, Italia
CATEGORIES:Ensemble Salomone Rossi
ATTACH;FMTTYPE=image/jpeg:https://www.lydiacevidalli.it/wp-content/uploads/2016/12/2016-ensemble-quirinale.jpg
END:VEVENT
BEGIN:VEVENT
DTSTART;VALUE=DATE:20151122
DTEND;VALUE=DATE:20151123
DTSTAMP:20260420T182911
CREATED:20170506T182730Z
LAST-MODIFIED:20170506T182730Z
UID:29553-1448150400-1448236799@www.lydiacevidalli.it
SUMMARY:La notte della libertà
DESCRIPTION:Il titolo “La Notte della Libertà” s’ispira al tema centrale della Pasqua Ebraica\, la Libertà: un viaggio in puro spirito klezmer\, dalle melodie rituali della cena di Pesach alle “canzonette” trasgressive del Deutsche Kabarett\, dai tanghi in yiddish ai canti legati alla Resistenza nei ghetti e persino dei campi. Stellerranti con Cinzia Bauci\, voce – Ezio Ferraris\, attore e con i musicisti Pier Gallesi\, Lydia Cevidalli e Mauro Sabbione
URL:https://www.lydiacevidalli.it/eventi/la-notte-della-liberta-2/
LOCATION:Communità Evangelica riform. di Locarno e dintorni\, Viale Monte Verità\, 80\, Ascona\, 6612\, Svizzera
CATEGORIES:Lydia Cevidalli
ATTACH;FMTTYPE=image/jpeg:https://www.lydiacevidalli.it/wp-content/uploads/2017/05/cinzia.jpg
END:VEVENT
BEGIN:VEVENT
DTSTART;VALUE=DATE:20151013
DTEND;VALUE=DATE:20151014
DTSTAMP:20260420T182911
CREATED:20170506T102737Z
LAST-MODIFIED:20170506T102931Z
UID:29357-1444694400-1444780799@www.lydiacevidalli.it
SUMMARY:Biblioteca Ambrosiana
DESCRIPTION:Introduzione musicale alla conferenza\nHebrew Manuscripts of the Middle ages di Menachem Beit-Airé\nRav Elia Richetti\, cantore – Lydia Cevidalli\, violino – Issei watanabe\, violoncello
URL:https://www.lydiacevidalli.it/eventi/biblioteca-ambrosiana/
LOCATION:Biblioteca Ambrosiana\, Piazza Pio XI\, 2\, Milano\, Italia
CATEGORIES:Ensemble Salomone Rossi
ATTACH;FMTTYPE=image/jpeg:https://www.lydiacevidalli.it/wp-content/uploads/2017/05/locandina_0-1.jpg
END:VEVENT
BEGIN:VEVENT
DTSTART;VALUE=DATE:20150908
DTEND;VALUE=DATE:20150909
DTSTAMP:20260420T182912
CREATED:20170506T182320Z
LAST-MODIFIED:20170506T182320Z
UID:29550-1441670400-1441756799@www.lydiacevidalli.it
SUMMARY:I luoghi della Memoria
DESCRIPTION:In collaborazione con Il Piccolo Teatro Strehler e il Conservatorio di Musica di Milano\nDa un’idea di Stefania Consenti
URL:https://www.lydiacevidalli.it/eventi/luoghi-della-memoria/
LOCATION:Memoriale della Shoah\, Piazza Edmond J. Safra\, 1\, Milano\, 20124
CATEGORIES:Lydia Cevidalli
ATTACH;FMTTYPE=image/jpeg:https://www.lydiacevidalli.it/wp-content/uploads/2017/05/image-0001.jpg
END:VEVENT
BEGIN:VEVENT
DTSTART;VALUE=DATE:20150904
DTEND;VALUE=DATE:20150905
DTSTAMP:20260420T182912
CREATED:20170506T182009Z
LAST-MODIFIED:20170506T182009Z
UID:29546-1441324800-1441411199@www.lydiacevidalli.it
SUMMARY:Alle fonti della musica popolare piemontese
DESCRIPTION:Lydia Cevidalli\, violino\nMaurizio Rinaldi\, canto e chitarra
URL:https://www.lydiacevidalli.it/eventi/alle-fonti-della-musica-popolare-piemontese/
LOCATION:Palazzo Grosso\, Piazza Parrocchia\, 4\, Riva di Chieri\, 10020\, Italia
ATTACH;FMTTYPE=image/jpeg:https://www.lydiacevidalli.it/wp-content/uploads/2017/05/cattura_me_davanti.jpg
END:VEVENT
BEGIN:VEVENT
DTSTART;VALUE=DATE:20150715
DTEND;VALUE=DATE:20150718
DTSTAMP:20260420T182912
CREATED:20170506T181403Z
LAST-MODIFIED:20170506T181403Z
UID:29543-1436918400-1437177599@www.lydiacevidalli.it
SUMMARY:Masterclass di musica klezmer
DESCRIPTION:La masterclass è aperta a tutti gli studenti\, di qualsiasi livello.\nVerranno formati dei piccoli gruppi di studenti\, per eseguire repertori di musica d’assieme\, con particolare attenzione alla musica klezmer. Sono ammessi gli uditori\nVenerdì 17 luglio 21:00 Concerto finale della masterclass Cineteatro La Baita\nINGRESSO GRATUITO\nLA FREQUENZA ALLA MASTERCLASS E’ COMPLETAMENTE GRATUITA PER EFFETTIVI ED UDITORI
URL:https://www.lydiacevidalli.it/eventi/masterclass-di-musica-klezmer/
LOCATION:Chiesa dei SS. Pietro e Paolo\, Piazza Bertacchi\, 6\, Madesimo\, SO\, 23024\, Italia
CATEGORIES:Lydia Cevidalli
ATTACH;FMTTYPE=image/jpeg:https://www.lydiacevidalli.it/wp-content/uploads/2017/05/foto_di_luca.jpg
END:VEVENT
BEGIN:VEVENT
DTSTART;VALUE=DATE:20150712
DTEND;VALUE=DATE:20150715
DTSTAMP:20260420T182912
CREATED:20170506T181036Z
LAST-MODIFIED:20170506T181036Z
UID:29541-1436659200-1436918399@www.lydiacevidalli.it
SUMMARY:Masterclass di musica da camera
DESCRIPTION:Docenti: Lydia Cevidalli e Giovanni Togni\nViolino\, basso continuo e cembalo concertante \nAvvicinamento alla prassi musicale barocca per strumenti moderni e antichi La masterclass è aperta a solisti e gruppi cameristici di livello medio o superiore. I docenti offrono ai musicisti interessati la possibilità di avvicinarsi al repertorio barocco e di conoscere i principi fondamentali della prassi esecutiva\, utilizzando strumenti storici o moderni\, secondo le esigenze e possibilità di ogni studente.\nSono ammessi uditori non in possesso dei requisiti richiesti.\nAi partecipanti è richiesta la presentazione di un programma libero della durata massima di 30-40 minuti\nProgramma della masterclass 12 luglio 16:00-19:00 Teatro – Madesimo 13\, 14 luglio 9:30 – 13:00 Teatro – Madesimo\nINGRESSO GRATUITO LA FREQUENZA ALLA MASTERCLASS E’ COMPLETAMENTE GRATUITA PER EFFETTIVI ED UDITORI\nA carico dei partecipanti spese di viaggio\, vitto e alloggio ed eventuali materiali didattici. I partecipanti avranno agevolazioni per l’alloggio grazie al Consorzio Turistico di Madesimo.
URL:https://www.lydiacevidalli.it/eventi/masterclass-di-musica-da-camera/
LOCATION:Chiesa dei SS. Pietro e Paolo\, Piazza Bertacchi\, 6\, Madesimo\, SO\, 23024\, Italia
CATEGORIES:Lydia Cevidalli
ATTACH;FMTTYPE=image/jpeg:https://www.lydiacevidalli.it/wp-content/uploads/2017/05/p1000924.jpg
END:VEVENT
BEGIN:VEVENT
DTSTART;VALUE=DATE:20150712
DTEND;VALUE=DATE:20150713
DTSTAMP:20260420T182912
CREATED:20170506T102354Z
LAST-MODIFIED:20170506T102502Z
UID:29355-1436659200-1436745599@www.lydiacevidalli.it
SUMMARY:Madesimo Music Festival 2015
DESCRIPTION:Prosegue il ciclo di esecuzioni dei Salmi di Benedetto Marcello per il Madesimo Music Festival\, sponsorizzato da Sony Italia\nQuest’anno verranno eseguiti i Salmi n. 27 e 42; Gloria Banditelli\, Veronika Kralova e Alessandro Nuccio\, voci – Lydia Cevidalli\, violino – Issei Watanabe\, violoncello – Diego Cantalupi\, tiorba – Giovanni Togni\, clavicembalo
URL:https://www.lydiacevidalli.it/eventi/madesimo-music-festival-2015/
LOCATION:Chiesa dei SS. Pietro e Paolo\, Piazza Bertacchi\, 6\, Madesimo\, SO\, 23024\, Italia
CATEGORIES:Ensemble Salomone Rossi
ATTACH;FMTTYPE=image/jpeg:https://www.lydiacevidalli.it/wp-content/uploads/2017/05/20150712_110836-1.jpg
END:VEVENT
BEGIN:VEVENT
DTSTART;VALUE=DATE:20150609
DTEND;VALUE=DATE:20150610
DTSTAMP:20260420T182912
CREATED:20170506T180638Z
LAST-MODIFIED:20200121T211111Z
UID:29536-1433808000-1433894399@www.lydiacevidalli.it
SUMMARY:Amelia e Leone\, parole e suoni di un'altra Italia
DESCRIPTION:Canzoni popolari piemontesi nella versione inedita per voce e quartetto d’archi\nCaterina Trogu Roehrich\, voce – Lydia Cevidalli e Elena Marazzi\, violini – Cristina Pederiva\, viola – Issei Watanabe\, violoncello \n                 
URL:https://www.lydiacevidalli.it/eventi/amelia-e-leone-parole-e-suoni-di-unaltra-italia/
LOCATION:Casa della Cultura\, Via Borgogna\, 3\, Milano\, 20122\, Italia
CATEGORIES:Lydia Cevidalli
ATTACH;FMTTYPE=image/jpeg:https://www.lydiacevidalli.it/wp-content/uploads/2017/05/cs16.jpg
END:VEVENT
BEGIN:VEVENT
DTSTART;VALUE=DATE:20150328
DTEND;VALUE=DATE:20150329
DTSTAMP:20260420T182912
CREATED:20170506T180127Z
LAST-MODIFIED:20170506T180127Z
UID:29533-1427500800-1427587199@www.lydiacevidalli.it
SUMMARY:Milano Mia\, la città come non è mai stata raccontata
DESCRIPTION:Presentazione del libro edito da Polaris\nStellerranti in concerto\, con Cinzia Bauci\, voce – Lydia Cevidalli\, violino – Pier Gallesi\, fisarmonica
URL:https://www.lydiacevidalli.it/eventi/milano-mia-la-citta-come-non-e-mai-stata-raccontata/
LOCATION:Villa Necchi Campiglio\, Via Mozart\, 14\, Milano\, 20122
CATEGORIES:Stellerranti
ATTACH;FMTTYPE=image/png:https://www.lydiacevidalli.it/wp-content/uploads/2017/05/milano_mia.png
END:VEVENT
BEGIN:VEVENT
DTSTART;VALUE=DATE:20150316
DTEND;VALUE=DATE:20150317
DTSTAMP:20260420T182912
CREATED:20170506T175434Z
LAST-MODIFIED:20170506T175434Z
UID:29528-1426464000-1426550399@www.lydiacevidalli.it
SUMMARY:Poliedrica\, ritratto di città
DESCRIPTION:Ultimo incontro del ciclo POLIEDRICA\, RITRATTO DI CITTA’.\nPrecederà l’incontro il gruppo di musica klezmer\, canzone yiddish e sefardì\, coordinato da Lydia Cevidalli.
URL:https://www.lydiacevidalli.it/eventi/poliedrica-ritratto-di-citta/
LOCATION:Spazio Oberdan\, Viale Vittorio Veneto\, 2\, Milano\, 20124\, Italia
CATEGORIES:Lydia Cevidalli
ATTACH;FMTTYPE=image/jpeg:https://www.lydiacevidalli.it/wp-content/uploads/2017/05/invito-16-3-def.jpg
END:VEVENT
BEGIN:VEVENT
DTSTART;VALUE=DATE:20150304
DTEND;VALUE=DATE:20150305
DTSTAMP:20260420T182912
CREATED:20170506T174746Z
LAST-MODIFIED:20170506T174746Z
UID:29525-1425427200-1425513599@www.lydiacevidalli.it
SUMMARY:Voci innamorate dell'ebraismo
DESCRIPTION:Marina Bassani attrice\, Lydia Cevidalli violino\, Pier Gallesi fisarmonica
URL:https://www.lydiacevidalli.it/eventi/voci-innamorate-dellebraismo-2/
LOCATION:Comunità ebraica di Torino\, Piazzetta Primo Levi\, 12\, Torino\, 10125\, Italia
CATEGORIES:Lydia Cevidalli
ATTACH;FMTTYPE=image/jpeg:https://www.lydiacevidalli.it/wp-content/uploads/2017/05/20140507-175.jpg
END:VEVENT
BEGIN:VEVENT
DTSTART;VALUE=DATE:20150202
DTEND;VALUE=DATE:20150203
DTSTAMP:20260420T182912
CREATED:20170506T174230Z
LAST-MODIFIED:20170506T174230Z
UID:29522-1422835200-1422921599@www.lydiacevidalli.it
SUMMARY:La notte della libertà\, concerto per il Giorno della Memoria
DESCRIPTION:Stellerranti Cinzia Bauci\, contralto-Pier Gallesi\, fisarmonica\, piano-Lydia Cevidalli\, violino ed Ezio Ferraris\, voce narrante.\nDalle melodie di tradizione legate alla Pasqua ebraica\, la notte della libertà\, alle canzoni del cabaret berlinese e della resistenza ebraica. Nella splendida cornice del ridotto del teatro.\nOrganizzato da Rete Cultura Vigevano
URL:https://www.lydiacevidalli.it/eventi/la-notte-della-liberta-concerto-per-il-giorno-della-memoria/
LOCATION:Teatro Cagnoni\, Corso Vittorio Emanuele II\, 43\, Vigevano\, 27029
ATTACH;FMTTYPE=image/jpeg:https://www.lydiacevidalli.it/wp-content/uploads/2017/05/bn_in_3_dritti.jpg
END:VEVENT
BEGIN:VEVENT
DTSTART;VALUE=DATE:20150127
DTEND;VALUE=DATE:20150128
DTSTAMP:20260420T182912
CREATED:20170506T172754Z
LAST-MODIFIED:20170506T172754Z
UID:29516-1422316800-1422403199@www.lydiacevidalli.it
SUMMARY:Giorno della Memoria
DESCRIPTION:Consegna delle targhe di riconoscimento da parte della Comunità Ebraica di Milano a Goti Bauer\, Nedo Fiano e Liliana  Segre\, Testimoni della Shoah\nLetture a cura di Anna Nogara\nOmaggio al compositore Sergio Liberovici\nDove vola l’avvoltoio\, musica di S. Liberovici\, testo di I. Calvino\nFesta d’aprile\, musica di S. Liberovici\, testo di F. Antonicelli\nIl sentiero\, musica dei Modena City Ramblers\, dal libro di I. Calvino\nOltre il ponte\, musica di S. Liberovici\, testo di I. Calvino\nDer Gasn Nigun\nDona Dona\, musica di S. Secunda\, testo di A. Zeitlin/J. Baez\n(Elaborazioni a cura di Giulia Lorusso\, Michele Maccarini e Enad Guraziu)\nJaime Eduard Pialli\, voce\nTamara Auer\, viola\nLorenzo Dainelli\, clarinetto\nMattia Lecchi\, fisarmonica\nIdeazione e organizzazione per il “Giorno della Memoria” a cura di Lydia Cevidalli\, in collaborazione con i docenti Cristina Rubin\, Guido Facchini\, Claudio Pavolini\, Luigi Magistrelli e Sergio Scappini
URL:https://www.lydiacevidalli.it/eventi/giorno-della-memoria-3/
LOCATION:Sala Verdi Del Conservatorio\, Via Conservatorio\, 12\, Milano\, 20100\, Italia
CATEGORIES:Lydia Cevidalli
ATTACH;FMTTYPE=image/jpeg:https://www.lydiacevidalli.it/wp-content/uploads/2017/05/image-1.jpg
END:VEVENT
BEGIN:VEVENT
DTSTART;VALUE=DATE:20141212
DTEND;VALUE=DATE:20141213
DTSTAMP:20260420T182912
CREATED:20170506T102102Z
LAST-MODIFIED:20170506T102102Z
UID:29353-1418342400-1418428799@www.lydiacevidalli.it
SUMMARY:I Salmi di Benedetto Marcello a Bergamo
DESCRIPTION:Concerto di S. Lucia XV edizione: Salmi 8 e 15\, sonata per violoncello e basso\, sonata e ciaccona per clavicembalo\nGloria Banditelli\, mezzosoprano – Veronika Kralova\, soprano – Alessandro Nuccio\, baritono – Issei Watanabe\, violoncello – Giovanni Togni\, clavicembalo
URL:https://www.lydiacevidalli.it/eventi/salmi-di-benedetto-marcello-bergamo/
LOCATION:Chiesa di Santa Grata Inter Vites\, Via Borgo Canale\, 38\, Bergamo\, 24128\, Italia
CATEGORIES:Ensemble Salomone Rossi
ATTACH;FMTTYPE=image/jpeg:https://www.lydiacevidalli.it/wp-content/uploads/2017/05/cattura_locandina_pag.1-1.jpg
END:VEVENT
BEGIN:VEVENT
DTSTART;VALUE=DATE:20141203
DTEND;VALUE=DATE:20141204
DTSTAMP:20260420T182912
CREATED:20170506T172227Z
LAST-MODIFIED:20170506T172227Z
UID:29511-1417564800-1417651199@www.lydiacevidalli.it
SUMMARY:Stellerranti in "Fiabe Ebraiche"
DESCRIPTION:Presenta Sara Ferrari – Stellerranti con Cinzia Bauci\, voce – Pier Gallesi\, fisarmonca – Lydia Cevidalli\, violino
URL:https://www.lydiacevidalli.it/eventi/stellerranti-fiabe-ebraiche/
LOCATION:Biblioteca Comunale di Sorengo\, Via al Laghetto\, 5\, Sorengo\, 6924\, Svizzera
CATEGORIES:Lydia Cevidalli
ATTACH;FMTTYPE=image/jpeg:https://www.lydiacevidalli.it/wp-content/uploads/2017/05/cattura_locandina.jpg
END:VEVENT
BEGIN:VEVENT
DTSTART;VALUE=DATE:20141110
DTEND;VALUE=DATE:20141111
DTSTAMP:20260420T182912
CREATED:20170506T171641Z
LAST-MODIFIED:20170506T171641Z
UID:29507-1415577600-1415663999@www.lydiacevidalli.it
SUMMARY:Letteratura e arti ebraiche tra sogno e surreale
DESCRIPTION:Al convegno intervento musicale con Caterina Trogu Roehrich voce\, Lydia Cevidalli violino e Issei Watanabe violoncello
URL:https://www.lydiacevidalli.it/eventi/letteratura-e-arti-ebraiche-tra-sogno-e-surreale/
LOCATION:Sala Napoleonica – Università degli Studi di Milano\, Via Sant'Antonio\, 12\, Milano\, 20122 \, Italia
CATEGORIES:Lydia Cevidalli
ATTACH;FMTTYPE=image/jpeg:https://www.lydiacevidalli.it/wp-content/uploads/2017/05/cattura_foto_cate.jpg
END:VEVENT
BEGIN:VEVENT
DTSTART;VALUE=DATE:20141109
DTEND;VALUE=DATE:20141110
DTSTAMP:20260420T182912
CREATED:20170506T171208Z
LAST-MODIFIED:20170506T171208Z
UID:29503-1415491200-1415577599@www.lydiacevidalli.it
SUMMARY:L'arte del Dialogo\, il Dialogo dell'Arte
DESCRIPTION:Intervento relativo alla musica
URL:https://www.lydiacevidalli.it/eventi/larte-del-dialogo-il-dialogo-dellarte/
LOCATION:Museo Diocesano\, Corso di Porta Ticinese\, 95\, Milano\, 20123\, Italia
CATEGORIES:Lydia Cevidalli
ATTACH;FMTTYPE=image/jpeg:https://www.lydiacevidalli.it/wp-content/uploads/2017/05/larte_del_dialogo_il_dialogo_dellarte_museo_diocesano_9_novembre.jpg
END:VEVENT
BEGIN:VEVENT
DTSTART;VALUE=DATE:20141013
DTEND;VALUE=DATE:20141014
DTSTAMP:20260420T182912
CREATED:20170506T170704Z
LAST-MODIFIED:20170506T170704Z
UID:29499-1413158400-1413244799@www.lydiacevidalli.it
SUMMARY:Klezsfardit in concerto per il Centro Culturale Naar Israel
DESCRIPTION:Alessandro Nuccio voce\, Anton Dressler clarinetto\, Sergio Scappini fisarmonica\, Lydia Cevidalli Alessio ed Elisa Cavalazzi violini\, Andrea Cavalazzi violoncello
URL:https://www.lydiacevidalli.it/eventi/klezsfardit-concerto-per-il-centro-culturale-naar-israel/
LOCATION:Sala dei Pilastri del Castello Sforzesco\, Piazza Castello\, Milano\, 20121\, Italia
CATEGORIES:Lydia Cevidalli
ATTACH;FMTTYPE=image/jpeg:https://www.lydiacevidalli.it/wp-content/uploads/2017/05/tutti_ok.jpg
END:VEVENT
BEGIN:VEVENT
DTSTART;VALUE=DATE:20141007
DTEND;VALUE=DATE:20141008
DTSTAMP:20260420T182912
CREATED:20170506T170138Z
LAST-MODIFIED:20170506T170138Z
UID:29497-1412640000-1412726399@www.lydiacevidalli.it
SUMMARY:Voci innamorate dell'ebraismo
DESCRIPTION:Marina Bassani attrice\, Lydia Cevidalli violino\, Sergio Scappini fisarmonica
URL:https://www.lydiacevidalli.it/eventi/voci-innamorate-dellebraismo/
LOCATION:Libreria Claudiana\, Via Francesco Sforza\, 12/A\, Milano\, 20122\, Italia
CATEGORIES:Lydia Cevidalli
ATTACH;FMTTYPE=image/jpeg:https://www.lydiacevidalli.it/wp-content/uploads/2017/05/20140507-068.jpg
END:VEVENT
BEGIN:VEVENT
DTSTART;VALUE=DATE:20140916
DTEND;VALUE=DATE:20140917
DTSTAMP:20260420T182912
CREATED:20170506T165905Z
LAST-MODIFIED:20170506T165905Z
UID:29494-1410825600-1410911999@www.lydiacevidalli.it
SUMMARY:Ascolta Chagall
DESCRIPTION:Concerto di chiusura del Festival Jewish and the City\, seconda edizione 2014\nIn occasione dell’apertura della mostra dedicata a Marc Chagall a Palazzo Reale\nCon Uri Chameides
URL:https://www.lydiacevidalli.it/eventi/ascolta-chagall/
LOCATION:Palazzo Reale\, Piazza del Duomo\, 12\, Milano\, 20122
CATEGORIES:Lydia Cevidalli
END:VEVENT
BEGIN:VEVENT
DTSTART;VALUE=DATE:20140717
DTEND;VALUE=DATE:20140718
DTSTAMP:20260420T182912
CREATED:20170506T165155Z
LAST-MODIFIED:20170506T165356Z
UID:29490-1405555200-1405641599@www.lydiacevidalli.it
SUMMARY:La scelta di Etty Hillesum
DESCRIPTION:Per la XXXIII Settimana Biblica del Monastero di Camaldoli\nSpettacolo con Marina Bassani
URL:https://www.lydiacevidalli.it/eventi/la-scelta-di-etty-hillesum-4/
LOCATION:Comunità Monastica di Camaldoli\, Località Camaldoli\, 14\, Camaldoli\, AR\, 52014\, Italia
CATEGORIES:Lydia Cevidalli
ATTACH;FMTTYPE=image/jpeg:https://www.lydiacevidalli.it/wp-content/uploads/2017/05/camaldoli_programma.jpg
END:VEVENT
BEGIN:VEVENT
DTSTART;VALUE=DATE:20140714
DTEND;VALUE=DATE:20140719
DTSTAMP:20260420T182912
CREATED:20170506T164509Z
LAST-MODIFIED:20170506T164709Z
UID:29487-1405296000-1405727999@www.lydiacevidalli.it
SUMMARY:Masterclass
DESCRIPTION:Madesimo Music Festival organizza una Masterclass completamente gratuita;\nConcerto finale dei partecipanti il 18 luglio alle 21\, al Teatro La Baita
URL:https://www.lydiacevidalli.it/eventi/masterclass/
CATEGORIES:Lydia Cevidalli
ATTACH;FMTTYPE=image/jpeg:https://www.lydiacevidalli.it/wp-content/uploads/2017/05/libretto_pag_mc.jpg
END:VEVENT
BEGIN:VEVENT
DTSTART;VALUE=DATE:20140713
DTEND;VALUE=DATE:20140714
DTSTAMP:20260420T182912
CREATED:20170506T101759Z
LAST-MODIFIED:20170506T101759Z
UID:29350-1405209600-1405295999@www.lydiacevidalli.it
SUMMARY:I Salmi di Benedetto Marcello
DESCRIPTION:Madesimo Music Festival – Gloria Banditelli\, mezzosoprano – Veronika Kralova\, soprano – Alessandro Nuccio\, baritono – Lydia Cevidalli\, violino – Issei Watanabe\, violoncello – Giovanni Togni\, clavicembalo – Salmo 8 e Salmo 15 – Sonata per violino e basso continuo; ascolta registrazione dal concerto; Salmo 8\nAscolta intervista a Radio Classica; Leggi recensione su Musica
URL:https://www.lydiacevidalli.it/eventi/salmi-di-benedetto-marcello/
LOCATION:Chiesa dei SS. Pietro e Paolo\, Piazza Bertacchi\, 6\, Madesimo\, SO\, 23024\, Italia
CATEGORIES:Ensemble Salomone Rossi
ATTACH;FMTTYPE=image/jpeg:https://www.lydiacevidalli.it/wp-content/uploads/2017/05/libretto_pag_ensemble-1.jpg
END:VEVENT
BEGIN:VEVENT
DTSTART;VALUE=DATE:20140623
DTEND;VALUE=DATE:20140624
DTSTAMP:20260420T182912
CREATED:20170506T164144Z
LAST-MODIFIED:20170506T164144Z
UID:29484-1403481600-1403567999@www.lydiacevidalli.it
SUMMARY:Stellerranti al Festival di musica religiosa
DESCRIPTION:Cinzia Bauci voce\, Lydia Cevidalli violino\, Pierantonio Gallesi fisarmonica
URL:https://www.lydiacevidalli.it/eventi/stellerranti-al-festival-di-musica-religiosa/
LOCATION:Chiostri dell Umanitaria\, via San Barnaba\, 48\, Milano\, Italia
CATEGORIES:Stellerranti
ATTACH;FMTTYPE=image/jpeg:https://www.lydiacevidalli.it/wp-content/uploads/2017/05/milano_26.1.14.jpg
END:VEVENT
BEGIN:VEVENT
DTSTART;VALUE=DATE:20140615
DTEND;VALUE=DATE:20140616
DTSTAMP:20260420T182912
CREATED:20170506T101147Z
LAST-MODIFIED:20170506T101147Z
UID:29349-1402790400-1402876799@www.lydiacevidalli.it
SUMMARY:Codici e pergamene - Da molti luoghi e tempi frammenti di memoria ritrovata
DESCRIPTION:Convegno sulle pergamene riscoperte alla Biblioteca Palatina di Parma; concerto di chiusura\, entrata aperta a tutti e gratuita\nCon Caterina Trogu Roehrich\, soprano – Lydia Cevidalli\, violino – Marlise Goidanich\, violoncello – Diego Cantalupi\, tiorba\nMusiche di S. Rossi\, A. Caceres e B. Marcello\nAscolta: registrazione del concerto
URL:https://www.lydiacevidalli.it/eventi/codici-e-pergamene-da-molti-luoghi-e-tempi-frammenti-di-memoria-ritrovata/
LOCATION:Biblioteca Palatina – Sala Maria Luigia\, Strada alla Pilotta\, 3\, Parma\, 43100\, Italia
CATEGORIES:Ensemble Salomone Rossi
ATTACH;FMTTYPE=image/jpeg:https://www.lydiacevidalli.it/wp-content/uploads/2017/05/img_1631-1.jpg
END:VEVENT
BEGIN:VEVENT
DTSTART;VALUE=DATE:20140507
DTEND;VALUE=DATE:20140508
DTSTAMP:20260420T182912
CREATED:20170506T163233Z
LAST-MODIFIED:20170506T163233Z
UID:29479-1399420800-1399507199@www.lydiacevidalli.it
SUMMARY:Klezmer Jazz Night
DESCRIPTION:Link al live recording della seconda parte del concerto\nGabriele Coen clarinetto\, saxofono; Sergio Scappini fisarmonica Klezmer jazz night è un progetto nato nel 2012 da un incontro fra il clarinettista\, sassofonista jazz e compositore Gabriele Coen\, quotato nelle top ten dei jazzisti italiani e Sergio Scappini\, virtuoso della fisarmonica e fra i più apprezzati interpreti a livello mondiale. Il repertorio è quello klezmer e sefardita rivisitato in chiave jazz\, del folk dal nord Europa al Mediterraneo\, condito di jazz\, improvvisazione\, virtuosismi funambolici e trascinanti; spettacolo che coinvolge il pubblico e lo trascina perfino sul palcoscenico\, con sorprese di volta in volta diverse. Ospite molto gradita: Lydia Cevidalli\, affermata violinista e studiosa di musica ebraica.
URL:https://www.lydiacevidalli.it/eventi/klezmer-jazz-night/
LOCATION:Scimmie\, Via Ascanio Sforza\, 49\, Milano\, 20123\, Italia
CATEGORIES:Lydia Cevidalli
ATTACH;FMTTYPE=image/jpeg:https://www.lydiacevidalli.it/wp-content/uploads/2017/05/gabriele_clarinetto_e_f._bigoni.jpg
END:VEVENT
BEGIN:VEVENT
DTSTART;VALUE=DATE:20140501
DTEND;VALUE=DATE:20140502
DTSTAMP:20260420T182912
CREATED:20170506T163536Z
LAST-MODIFIED:20170506T164841Z
UID:29482-1398902400-1398902400@www.lydiacevidalli.it
SUMMARY:Intervista Radio Popolare
DESCRIPTION:Claudio Ricordi intervista; gli argomenti saranno il Seminario di Musica Klemzer\, il concerto alle Scimmie Infine il ricordo di Leone Sinigaglia\, nell’anniversario dei 70 anni dalla scomparsa\, il 16 maggio 1944.
URL:https://www.lydiacevidalli.it/eventi/intervista-radio-popolare/
CATEGORIES:Lydia Cevidalli
ATTACH;FMTTYPE=image/jpeg:https://www.lydiacevidalli.it/wp-content/uploads/2017/05/low_res.-20140127-046.jpg
END:VEVENT
BEGIN:VEVENT
DTSTART;VALUE=DATE:20140329
DTEND;VALUE=DATE:20140330
DTSTAMP:20260420T182912
CREATED:20170506T175633Z
LAST-MODIFIED:20170506T175633Z
UID:29531-1396051200-1396137599@www.lydiacevidalli.it
SUMMARY:Stellerranti a Milano
DESCRIPTION:Piazza Napoli 35 – Milano\nLa notte della libertà\ncon Cinzia Bauci\, voce – Lydia Cevidalli\, violino – Pier Gallesi\, fisarmonica
URL:https://www.lydiacevidalli.it/eventi/stellerranti-a-milano/
CATEGORIES:Stellerranti
ATTACH;FMTTYPE=image/jpeg:https://www.lydiacevidalli.it/wp-content/uploads/2017/05/cattura_meglio_3_a_colori.jpg
END:VEVENT
END:VCALENDAR