BEGIN:VCALENDAR
VERSION:2.0
PRODID:-//Lydia Cevidalli - Musicista - ECPv6.15.20//NONSGML v1.0//EN
CALSCALE:GREGORIAN
METHOD:PUBLISH
X-ORIGINAL-URL:https://www.lydiacevidalli.it
X-WR-CALDESC:Eventi per Lydia Cevidalli - Musicista
REFRESH-INTERVAL;VALUE=DURATION:PT1H
X-Robots-Tag:noindex
X-PUBLISHED-TTL:PT1H
BEGIN:VTIMEZONE
TZID:Europe/Rome
BEGIN:DAYLIGHT
TZOFFSETFROM:+0100
TZOFFSETTO:+0200
TZNAME:CEST
DTSTART:20020331T010000
END:DAYLIGHT
BEGIN:STANDARD
TZOFFSETFROM:+0200
TZOFFSETTO:+0100
TZNAME:CET
DTSTART:20021027T010000
END:STANDARD
BEGIN:DAYLIGHT
TZOFFSETFROM:+0100
TZOFFSETTO:+0200
TZNAME:CEST
DTSTART:20030330T010000
END:DAYLIGHT
BEGIN:STANDARD
TZOFFSETFROM:+0200
TZOFFSETTO:+0100
TZNAME:CET
DTSTART:20031026T010000
END:STANDARD
BEGIN:DAYLIGHT
TZOFFSETFROM:+0100
TZOFFSETTO:+0200
TZNAME:CEST
DTSTART:20040328T010000
END:DAYLIGHT
BEGIN:STANDARD
TZOFFSETFROM:+0200
TZOFFSETTO:+0100
TZNAME:CET
DTSTART:20041031T010000
END:STANDARD
BEGIN:DAYLIGHT
TZOFFSETFROM:+0100
TZOFFSETTO:+0200
TZNAME:CEST
DTSTART:20050327T010000
END:DAYLIGHT
BEGIN:STANDARD
TZOFFSETFROM:+0200
TZOFFSETTO:+0100
TZNAME:CET
DTSTART:20051030T010000
END:STANDARD
BEGIN:DAYLIGHT
TZOFFSETFROM:+0100
TZOFFSETTO:+0200
TZNAME:CEST
DTSTART:20060326T010000
END:DAYLIGHT
BEGIN:STANDARD
TZOFFSETFROM:+0200
TZOFFSETTO:+0100
TZNAME:CET
DTSTART:20061029T010000
END:STANDARD
BEGIN:DAYLIGHT
TZOFFSETFROM:+0100
TZOFFSETTO:+0200
TZNAME:CEST
DTSTART:20070325T010000
END:DAYLIGHT
BEGIN:STANDARD
TZOFFSETFROM:+0200
TZOFFSETTO:+0100
TZNAME:CET
DTSTART:20071028T010000
END:STANDARD
BEGIN:DAYLIGHT
TZOFFSETFROM:+0100
TZOFFSETTO:+0200
TZNAME:CEST
DTSTART:20080330T010000
END:DAYLIGHT
BEGIN:STANDARD
TZOFFSETFROM:+0200
TZOFFSETTO:+0100
TZNAME:CET
DTSTART:20081026T010000
END:STANDARD
BEGIN:DAYLIGHT
TZOFFSETFROM:+0100
TZOFFSETTO:+0200
TZNAME:CEST
DTSTART:20090329T010000
END:DAYLIGHT
BEGIN:STANDARD
TZOFFSETFROM:+0200
TZOFFSETTO:+0100
TZNAME:CET
DTSTART:20091025T010000
END:STANDARD
BEGIN:DAYLIGHT
TZOFFSETFROM:+0100
TZOFFSETTO:+0200
TZNAME:CEST
DTSTART:20100328T010000
END:DAYLIGHT
BEGIN:STANDARD
TZOFFSETFROM:+0200
TZOFFSETTO:+0100
TZNAME:CET
DTSTART:20101031T010000
END:STANDARD
BEGIN:DAYLIGHT
TZOFFSETFROM:+0100
TZOFFSETTO:+0200
TZNAME:CEST
DTSTART:20110327T010000
END:DAYLIGHT
BEGIN:STANDARD
TZOFFSETFROM:+0200
TZOFFSETTO:+0100
TZNAME:CET
DTSTART:20111030T010000
END:STANDARD
BEGIN:DAYLIGHT
TZOFFSETFROM:+0100
TZOFFSETTO:+0200
TZNAME:CEST
DTSTART:20120325T010000
END:DAYLIGHT
BEGIN:STANDARD
TZOFFSETFROM:+0200
TZOFFSETTO:+0100
TZNAME:CET
DTSTART:20121028T010000
END:STANDARD
END:VTIMEZONE
BEGIN:VEVENT
DTSTART;VALUE=DATE:20110414
DTEND;VALUE=DATE:20110415
DTSTAMP:20260421T000125
CREATED:20170506T112135Z
LAST-MODIFIED:20170506T112135Z
UID:29362-1302739200-1302825599@www.lydiacevidalli.it
SUMMARY:Klezmer\, Sefardì and Songs
DESCRIPTION:
URL:https://www.lydiacevidalli.it/eventi/klezmer-sefardi-songs/
LOCATION:Istituto Italiano di Cultura\, Rue de Livourne 38\, Bruxelles\, 1000 \, Belgio
CATEGORIES:Ensemble Salomone Rossi,Lydia Cevidalli
END:VEVENT
BEGIN:VEVENT
DTSTART;VALUE=DATE:20110326
DTEND;VALUE=DATE:20110327
DTSTAMP:20260421T000125
CREATED:20170506T110119Z
LAST-MODIFIED:20170506T110119Z
UID:29359-1301097600-1301183999@www.lydiacevidalli.it
SUMMARY:Il violino nella cultura ebraica\, conferenza prima parte
DESCRIPTION:Conferenza sul ruolo del violino e della musica nella cultura ebraica: Rinascimento e Barocco
URL:https://www.lydiacevidalli.it/eventi/il-violino-nella-cultura-ebraica-conferenza-prima-parte/
LOCATION:Museo Civico Ala Ponzone\, via Ugolani Dati\, 4\, Cremona\, 26100\, Italia
CATEGORIES:Ensemble Salomone Rossi,Lydia Cevidalli
END:VEVENT
BEGIN:VEVENT
DTSTART;VALUE=DATE:20110325
DTEND;VALUE=DATE:20110326
DTSTAMP:20260421T000125
CREATED:20170506T105452Z
LAST-MODIFIED:20170506T105452Z
UID:29358-1301011200-1301097599@www.lydiacevidalli.it
SUMMARY:intervista a Radio3 Suite\, ore 22
DESCRIPTION:
URL:https://www.lydiacevidalli.it/eventi/intervista-radio3-suite-ore-22/
CATEGORIES:Lydia Cevidalli
END:VEVENT
BEGIN:VEVENT
DTSTART;VALUE=DATE:20110313
DTEND;VALUE=DATE:20110314
DTSTAMP:20260421T000125
CREATED:20170506T093412Z
LAST-MODIFIED:20170506T093412Z
UID:29333-1299974400-1300060799@www.lydiacevidalli.it
SUMMARY:Balli\, canti e divertimenti di Este e Gonzaga "Il violinista sul tetto - voci ebraiche del barocco musicale"
DESCRIPTION:Bergamasche\, Canzonette\, Balletti\, “Divertimenti per i grandi”: storia delle corti di Mantova e Ferrara.\nMusiche di Claudio Monteverdi\, Salomone Rossi\, Gian Giacomo Gastoldi\, Carlo Grossi\, Filippo Azzaiolo\, Ghirardo da Panico Bolognese
URL:https://www.lydiacevidalli.it/eventi/balli-canti-e-divertimenti-di-este-e-gonzaga-il-violinista-sul-tetto-voci-ebraiche-del-barocco-musicale/
LOCATION:Museo Civico Ala Ponzone\, via Ugolani Dati\, 4\, Cremona\, 26100\, Italia
CATEGORIES:Ensemble Salomone Rossi
ATTACH;FMTTYPE=image/jpeg:https://www.lydiacevidalli.it/wp-content/uploads/2017/05/dscf0408_0-1.jpg
END:VEVENT
BEGIN:VEVENT
DTSTART;VALUE=DATE:20091119
DTEND;VALUE=DATE:20091120
DTSTAMP:20260421T000125
CREATED:20170506T092034Z
LAST-MODIFIED:20170506T092034Z
UID:29330-1258588800-1258675199@www.lydiacevidalli.it
SUMMARY:Rai 3\, programma Piazzaverdi
DESCRIPTION:Presentazione del Cd “Jewish Baroque Music”\, con esecuzione in diretta ed interviste
URL:https://www.lydiacevidalli.it/eventi/rai-3-programma-piazzaverdi/
CATEGORIES:Ensemble Salomone Rossi
ATTACH;FMTTYPE=image/jpeg:https://www.lydiacevidalli.it/wp-content/uploads/2017/05/dscn4838-1.jpg
END:VEVENT
BEGIN:VEVENT
DTSTART;VALUE=DATE:20090506
DTEND;VALUE=DATE:20090507
DTSTAMP:20260421T000125
CREATED:20170506T092540Z
LAST-MODIFIED:20170506T113454Z
UID:29332-1241568000-1241654399@www.lydiacevidalli.it
SUMMARY:Cd "Jewish Baroque Music"
DESCRIPTION:C.G.Lidarti\, A.Cáceres\, S.Rossi\, C.Grossi\, G.F.Haendel\nMusica barocca ebraica
URL:https://www.lydiacevidalli.it/eventi/cd-jewish-baroque-music/
CATEGORIES:Ensemble Salomone Rossi
ATTACH;FMTTYPE=image/jpeg:https://www.lydiacevidalli.it/wp-content/uploads/2017/05/immagine_cd_1-1.jpg
END:VEVENT
BEGIN:VEVENT
DTSTART;VALUE=DATE:20090120
DTEND;VALUE=DATE:20090121
DTSTAMP:20260421T000125
CREATED:20170506T092308Z
LAST-MODIFIED:20170506T092308Z
UID:29331-1232409600-1232495999@www.lydiacevidalli.it
SUMMARY:Cd "Jewish Baroque Music" presentazione novità mondiale
DESCRIPTION:Radio Classica\, ore 16\,30\nPresentazione del Cd  “Jewish Baroque Music”\, novità mondiale nel campo della discografia: con brani inediti\, prime registrazioni assolute – Edito da Concerto Classics
URL:https://www.lydiacevidalli.it/eventi/cd-jewish-baroque-music-presentazione-novita-mondiale/
CATEGORIES:Ensemble Salomone Rossi
ATTACH;FMTTYPE=image/jpeg:https://www.lydiacevidalli.it/wp-content/uploads/2017/05/immagine_cd_1-1.jpg
END:VEVENT
BEGIN:VEVENT
DTSTART;VALUE=DATE:20081129
DTEND;VALUE=DATE:20081130
DTSTAMP:20260421T000125
CREATED:20170506T082844Z
LAST-MODIFIED:20170508T143017Z
UID:29311-1227916800-1228003199@www.lydiacevidalli.it
SUMMARY:Musicisti di Teatro e di Corte
DESCRIPTION:Presentazione del Cd “Jewish Baroque Music”\, edito da Concerto\nArie dal “Giustino” di A. Vivaldi\, dall’Oratorio “Ester” di C.G. Lidarti; S. Rossi e A. Caceres
URL:https://www.lydiacevidalli.it/eventi/musicisti-di-teatro-e-di-corte/
LOCATION:Palazzo Deodato Laffranchi\, via Deodato Laffranchi\, Carpenedolo\, BS\, 25013
CATEGORIES:Ensemble Salomone Rossi
ATTACH;FMTTYPE=image/jpeg:https://www.lydiacevidalli.it/wp-content/uploads/2017/05/ensemble__0-1.jpg
END:VEVENT
BEGIN:VEVENT
DTSTART;VALUE=DATE:20081115
DTEND;VALUE=DATE:20081116
DTSTAMP:20260421T000125
CREATED:20170506T084012Z
LAST-MODIFIED:20170506T084219Z
UID:29315-1226707200-1226793599@www.lydiacevidalli.it
SUMMARY:Musicisti di Teatro e di Corte
DESCRIPTION:Presentazione del Cd “Jewish Baroque Music” edito da Concerto\nArie dal “Giustino” di A. Vivaldi\, dall’Oratorio “Ester” di C.G. Lidarti; S. Rossi e A. Caceres
URL:https://www.lydiacevidalli.it/eventi/musicisti-di-teatro-e-di-corte-2/
LOCATION:Palazzetto dei Nobili\, Piazza Santa Margherita\, 2\, L'Aquila\, 67100
CATEGORIES:Ensemble Salomone Rossi
ATTACH;FMTTYPE=image/jpeg:https://www.lydiacevidalli.it/wp-content/uploads/2017/05/aquila_palazzetto_dei_nobili_0-1.jpg
END:VEVENT
BEGIN:VEVENT
DTSTART;VALUE=DATE:20081026
DTEND;VALUE=DATE:20081027
DTSTAMP:20260421T000125
CREATED:20170506T083529Z
LAST-MODIFIED:20170508T144227Z
UID:29313-1224979200-1225065599@www.lydiacevidalli.it
SUMMARY:Fare ricerca con Israele
DESCRIPTION:Sesta Giornata di Studi dell’Associazione Italiana Amici dell’Università di Gerusalemme\nCollaborazione tra Università e Centri di Ricerca
URL:https://www.lydiacevidalli.it/eventi/fare-ricerca-con-israele-2/
LOCATION:Sala di Rappresentanza del Rettorato\, Via Festa del Perdono\, 7\, Milano\, 20122
CATEGORIES:Ensemble Salomone Rossi
ATTACH;FMTTYPE=image/jpeg:https://www.lydiacevidalli.it/wp-content/uploads/2017/05/it-is_vi_giornata_08_035-1.jpg
END:VEVENT
BEGIN:VEVENT
DTSTART;VALUE=DATE:20080405
DTEND;VALUE=DATE:20080406
DTSTAMP:20260421T000125
CREATED:20170506T085856Z
LAST-MODIFIED:20170506T085856Z
UID:29321-1207353600-1207439999@www.lydiacevidalli.it
SUMMARY:Concerto finale del workshop - Compositori Italiani del 1900
DESCRIPTION:An evening of Italian Music: Ensemble Salomone Rossi with Calì School Faculty and Students – A.Corelli\, Sonata in re minore – A.Vivaldi\, concerto per quattro violini – A. Vivaldi\, Recitativi e Arie dal “Giustino” – G. Rossini\, G. Puccini\, A. Casella\, V. Rieti
URL:https://www.lydiacevidalli.it/eventi/concerto-finale-del-workshop-compositori-italiani-del-1900/
LOCATION:Jed Leshowitz Recital Hall\, 1 Normal Ave\, Montclair\, New Jersey \, 07043\, Stati Uniti
CATEGORIES:Ensemble Salomone Rossi
ATTACH;FMTTYPE=image/jpeg:https://www.lydiacevidalli.it/wp-content/uploads/2017/05/concerto_5_april_2008_montaclair_5-1.jpg
END:VEVENT
BEGIN:VEVENT
DTSTART;VALUE=DATE:20080403
DTEND;VALUE=DATE:20080404
DTSTAMP:20260421T000125
CREATED:20170506T090300Z
LAST-MODIFIED:20170506T090457Z
UID:29323-1207180800-1207267199@www.lydiacevidalli.it
SUMMARY:Splendor of Italian Music under the Star of David
DESCRIPTION:Salmi di S. Rossi\, Cantata di C. Grossi\, Aria di Ester dall’Oratorio “Ester” di C.G. Lidarti\n“L’Infinito” di M. Castelnuovo-Tedesco\, “Intermezzo” di L. Sinigaglia\, Lieder di A. Finzi
URL:https://www.lydiacevidalli.it/eventi/splendor-italian-music-star-david/
LOCATION:Alexander Kasser Theater\, 1 Normal Ave\, Montclair\, New Jersey\, 07043\, Stati Uniti
CATEGORIES:Ensemble Salomone Rossi
ATTACH;FMTTYPE=image/jpeg:https://www.lydiacevidalli.it/wp-content/uploads/2017/05/concerto_kassel_theatre_2-2.jpg
END:VEVENT
BEGIN:VEVENT
DTSTART;VALUE=DATE:20080401
DTEND;VALUE=DATE:20080402
DTSTAMP:20260421T000125
CREATED:20170506T090914Z
LAST-MODIFIED:20170506T121123Z
UID:29326-1207008000-1207094399@www.lydiacevidalli.it
SUMMARY:Conferenza - Montclair State University
DESCRIPTION:Jewish Musical Activity in Northern Italy Renaissance/Baroque Era and 20th century Jewish Music within the Historical and Cultural Context of Time\, Place and Identity
URL:https://www.lydiacevidalli.it/eventi/conferenza-montclair-state-university/
LOCATION:University Hall Room 1030\, 1 Normal Ave\, Montclair\, New Jersey\, 07043\, Stati Uniti
CATEGORIES:Ensemble Salomone Rossi
ATTACH;FMTTYPE=image/jpeg:https://www.lydiacevidalli.it/wp-content/uploads/2017/05/concerto_5_april_2008_montaclair_8-1.jpg
END:VEVENT
BEGIN:VEVENT
DTSTART;VALUE=DATE:20080316
DTEND;VALUE=DATE:20080317
DTSTAMP:20260421T000125
CREATED:20170506T091822Z
LAST-MODIFIED:20170506T091822Z
UID:29328-1205625600-1205711999@www.lydiacevidalli.it
SUMMARY:Percorsi Europei del Barocco Musicale
DESCRIPTION:A. Vivaldi\, Arie e Duetti dall’opera “Giustino”\nC.G. Lidarti\, Arie e Duetti dall’Oratorio “Ester”
URL:https://www.lydiacevidalli.it/eventi/percorsi-europei-del-barocco-musicale/
LOCATION:Collegio israelitico Foa di Vercelli\, Vercelli\, Italia
CATEGORIES:Ensemble Salomone Rossi
ATTACH;FMTTYPE=image/jpeg:https://www.lydiacevidalli.it/wp-content/uploads/2017/05/vercelli16marzo_189-1.jpg
END:VEVENT
BEGIN:VEVENT
DTSTART;VALUE=DATE:20070907
DTEND;VALUE=DATE:20070908
DTSTAMP:20260421T000125
CREATED:20170506T085227Z
LAST-MODIFIED:20170506T085227Z
UID:29319-1189123200-1189209599@www.lydiacevidalli.it
SUMMARY:Musica e Parole - IX Giornata Europea della Cultura Ebraica
DESCRIPTION:Musica sacra nelle Sinagoghe Italiane del XVIII secolo\nEnsemble Salomone Rossi\nLuigi Pagliarini\, tenore\nAlberto Campagnano\, direttore
URL:https://www.lydiacevidalli.it/eventi/musica-e-parole-ix-giornata-europea-della-cultura-ebraica-2/
LOCATION:Galleria Parmeggiani\, Corso Benedetto Cairoli\, 2\, Reggio Emilia\, 42121
CATEGORIES:Ensemble Salomone Rossi
END:VEVENT
BEGIN:VEVENT
DTSTART;VALUE=DATE:20070907
DTEND;VALUE=DATE:20070908
DTSTAMP:20260421T000125
CREATED:20170506T084530Z
LAST-MODIFIED:20170506T084947Z
UID:29317-1189123200-1189209599@www.lydiacevidalli.it
SUMMARY:Musica e Parole - IX Giornata Europea della Cultura Ebraica
DESCRIPTION:Musica sacra nelle Sinagoghe Italiane del XVIII secolo\nEnsemble Salomone Rossi\nLuigi Pagliarini\, tenore\nAlberto Campagnano\, direttore
URL:https://www.lydiacevidalli.it/eventi/musica-e-parole-ix-giornata-europea-della-cultura-ebraica/
LOCATION:Tempio israelitico di Modena\, Piazza Giuseppe Mazzini\, Modena\, 41121
CATEGORIES:Ensemble Salomone Rossi
ATTACH;FMTTYPE=image/jpeg:https://www.lydiacevidalli.it/wp-content/uploads/2017/05/mg_0208_0-1.jpg
END:VEVENT
BEGIN:VEVENT
DTSTART;VALUE=DATE:20070903
DTEND;VALUE=DATE:20070904
DTSTAMP:20260421T000125
CREATED:20170506T080620Z
LAST-MODIFIED:20170508T141635Z
UID:29306-1188777600-1188863999@www.lydiacevidalli.it
SUMMARY:VIII Giornata Europea della Cultura Ebraica 2007
DESCRIPTION:Ester\, storia di una regina: Arie dagli Oratori “Ester” di Haendel e Lidarti
URL:https://www.lydiacevidalli.it/eventi/viii-giornata-europea-della-cultura-ebraica-2007/
LOCATION:Circolo Filologico Milanese\, Via Clerici\, 10\, Milano\, 20121
CATEGORIES:Ensemble Salomone Rossi
ATTACH;FMTTYPE=image/jpeg:https://www.lydiacevidalli.it/wp-content/uploads/2017/05/img_5967_1-1.jpg
END:VEVENT
BEGIN:VEVENT
DTSTART;VALUE=DATE:20070902
DTEND;VALUE=DATE:20070903
DTSTAMP:20260421T000125
CREATED:20170506T080910Z
LAST-MODIFIED:20170508T142006Z
UID:29308-1188691200-1188777599@www.lydiacevidalli.it
SUMMARY:Ester\, storia di una regina
DESCRIPTION:VIII Giornata della Cultura Ebraica\nMusiche di C.G. Lidarti\, G.F. Haendel\, A. Caceres e S. Rossi
URL:https://www.lydiacevidalli.it/eventi/ester-storia-di-una-regina-2/
LOCATION:Sinagoga di Vercelli\, Via E. Foa\, 56/58\, Vercelli\, 13100
CATEGORIES:Ensemble Salomone Rossi
ATTACH;FMTTYPE=image/jpeg:https://www.lydiacevidalli.it/wp-content/uploads/2017/05/vercelli_2.9.07-1.jpg
END:VEVENT
BEGIN:VEVENT
DTSTART;VALUE=DATE:20070518
DTEND;VALUE=DATE:20070519
DTSTAMP:20260421T000125
CREATED:20170506T082154Z
LAST-MODIFIED:20170508T142245Z
UID:29309-1179446400-1179532799@www.lydiacevidalli.it
SUMMARY:Musica sacra ebraica di compositori italiani
DESCRIPTION:Arie di Lidarti dall’Oratorio “Ester”; Salmi\, Sinfonie e Gagliarde di S. Rossi; Sinfonia dalla Cantata di Casale Monferrato; Arie di Caceres
URL:https://www.lydiacevidalli.it/eventi/musica-sacra-ebraica-di-compositori-italiani/
LOCATION:Pozzuolo Martesana\, Milano
CATEGORIES:Ensemble Salomone Rossi
ATTACH;FMTTYPE=image/jpeg:https://www.lydiacevidalli.it/wp-content/uploads/2017/05/dscf2802.jpg
END:VEVENT
BEGIN:VEVENT
DTSTART;VALUE=DATE:20061112
DTEND;VALUE=DATE:20061113
DTSTAMP:20260421T000125
CREATED:20170506T074754Z
LAST-MODIFIED:20170508T140440Z
UID:29299-1163289600-1163375999@www.lydiacevidalli.it
SUMMARY:Oratorio "Ester" di C.G. Lidarti
DESCRIPTION:Festival Lodoviciano 2006\nPrima esecuzione italiana e completa\, in tempi moderni; composizione ispirata all’oratorio “Ester” di G.F. Händel. Testo di Rafael Saraval – rappresentato in forma teatrale a Mantova nel 1774
URL:https://www.lydiacevidalli.it/eventi/oratorio-ester-di-c-g-lidarti/
LOCATION:Teatro Bibiena\, Via Accademia\, 47\, Mantova\, 46100
CATEGORIES:Ensemble Salomone Rossi
ATTACH;FMTTYPE=image/jpeg:https://www.lydiacevidalli.it/wp-content/uploads/2017/05/img_5998-1.jpg
END:VEVENT
BEGIN:VEVENT
DTSTART;VALUE=DATE:20060621
DTEND;VALUE=DATE:20060622
DTSTAMP:20260421T000125
CREATED:20170506T075528Z
LAST-MODIFIED:20170506T075558Z
UID:29304-1150848000-1150934399@www.lydiacevidalli.it
SUMMARY:Ministero per i Beni e le Attività Culturali - Festa Europea della Musica 2006
DESCRIPTION:Musica e Tradizione nell’Ebraismo Italiano dal Barocco al Novecento\nMusiche di S. Rossi\, C.G. Lidarti e A. Finzi
URL:https://www.lydiacevidalli.it/eventi/ministero-per-beni-e-le-attivita-culturali-festa-europea-della-musica-2006/
LOCATION:Sinagoga di Vercelli\, Via E. Foa\, 56/58\, Vercelli\, 13100
CATEGORIES:Ensemble Salomone Rossi
END:VEVENT
BEGIN:VEVENT
DTSTART;VALUE=DATE:20060429
DTEND;VALUE=DATE:20060430
DTSTAMP:20260421T000125
CREATED:20170506T075230Z
LAST-MODIFIED:20170508T141233Z
UID:29302-1146268800-1146355199@www.lydiacevidalli.it
SUMMARY:Festival di musica sacra italiana
DESCRIPTION:Istituto Italiano di Cultura di Madrid e Radio Nacional de Espana\, Ciclo Radio Clasica\nTrasmissione in diretta nazionale del concerto\nCon Gloria Banditelli\, Caterina Trogu Roerich\, Luigi Pagliarini\, Davide Benetti
URL:https://www.lydiacevidalli.it/eventi/festival-di-musica-sacra-italiana/
LOCATION:Real Academia de Bellas Artes de San Fernando\, Calle de Alcalá\, 13\, Madrid\, 28014\, Spagna
CATEGORIES:Ensemble Salomone Rossi
ATTACH;FMTTYPE=image/jpeg:https://www.lydiacevidalli.it/wp-content/uploads/2017/05/madrid_2006_0-1.jpg
END:VEVENT
BEGIN:VEVENT
DTSTART;VALUE=DATE:20050826
DTEND;VALUE=DATE:20050827
DTSTAMP:20260421T000125
CREATED:20170505T143437Z
LAST-MODIFIED:20170508T140115Z
UID:29231-1125014400-1125100799@www.lydiacevidalli.it
SUMMARY:Festival ViviMontichiari
DESCRIPTION:“Esther\, Storia di una regina” da Racine a Haendel\nArie e Recitativi dagli oratori “Ester” di G.F. Haendel e C.G. Lidarti\nPieve di San Pancrazio\nEntusiasta si è dimostrato il pubblico presente alla serata\, a dimostrazione dell’ottima prova complessiva dei nove musicisti dell’Ensemble. \nF. Migliorati
URL:https://www.lydiacevidalli.it/eventi/festival-vivimontichiari/
LOCATION:Pieve di San Pancrazio\, Montichiari\, 25018
CATEGORIES:Ensemble Salomone Rossi
ATTACH;FMTTYPE=image/jpeg:https://www.lydiacevidalli.it/wp-content/uploads/2017/05/copertina_cattura.jpg
END:VEVENT
BEGIN:VEVENT
DTSTART;VALUE=DATE:20050209
DTEND;VALUE=DATE:20050210
DTSTAMP:20260421T000125
CREATED:20170505T140528Z
LAST-MODIFIED:20170508T134235Z
UID:29228-1107907200-1107993599@www.lydiacevidalli.it
SUMMARY:Shoah - Lezione concerto
DESCRIPTION:Per mantenere vivo il ricordo delle persecuzioni\, presentazione di M. Pezzetti
URL:https://www.lydiacevidalli.it/eventi/shoah-lezione-concerto/
LOCATION:I.T.C.G. E Pacle L. Pacioli\, Via Dogali\, Crema\, 26013\, Italia
CATEGORIES:Ensemble Salomone Rossi
ATTACH;FMTTYPE=image/jpeg:https://www.lydiacevidalli.it/wp-content/uploads/2017/05/copertina_cattura_2.jpg
END:VEVENT
BEGIN:VEVENT
DTSTART;VALUE=DATE:20041003
DTEND;VALUE=DATE:20041004
DTSTAMP:20260421T000125
CREATED:20170505T130811Z
LAST-MODIFIED:20170508T134036Z
UID:29222-1096761600-1096847999@www.lydiacevidalli.it
SUMMARY:Festival Lodoviciano
DESCRIPTION:Splendori del Barocco musicale sotto la Stella di David
URL:https://www.lydiacevidalli.it/eventi/festival-lodoviciano/
LOCATION:Teatro all’Antica\, Via Teatro\, Sabbioneta \, 46018 
CATEGORIES:Ensemble Salomone Rossi
ATTACH;FMTTYPE=image/jpeg:https://www.lydiacevidalli.it/wp-content/uploads/2017/05/1_sabbioneta.jpg
END:VEVENT
BEGIN:VEVENT
DTSTART;VALUE=DATE:20040905
DTEND;VALUE=DATE:20040906
DTSTAMP:20260421T000125
CREATED:20170505T130517Z
LAST-MODIFIED:20170508T133831Z
UID:29219-1094342400-1094428799@www.lydiacevidalli.it
SUMMARY:V Giornata della Cultura Ebraica
DESCRIPTION:Rav alberto Sermoneta\, cantore – Lydia Cevidalli\, violino – Alessandra Milesi\, violoncello – Giorgio Ferraris\, tiorba\n“Inizi l’anno con le sue benedizioni”
URL:https://www.lydiacevidalli.it/eventi/v-giornata-della-cultura-ebraica/
LOCATION:Palazzo Comunale – Palazzo d’Accursio\, Piazza Maggiore\, 6\, Bologna\, 40121 \, Italia
CATEGORIES:Ensemble Salomone Rossi
ATTACH;FMTTYPE=image/jpeg:https://www.lydiacevidalli.it/wp-content/uploads/2017/05/002-11.06.13.jpg
END:VEVENT
BEGIN:VEVENT
DTSTART;VALUE=DATE:20031029
DTEND;VALUE=DATE:20031030
DTSTAMP:20260421T000125
CREATED:20170505T125545Z
LAST-MODIFIED:20170508T132054Z
UID:29213-1067385600-1067471999@www.lydiacevidalli.it
SUMMARY:Festival Europalia\, Belgio
DESCRIPTION:Fiori musicali dal Barocco Ebraico\nFestival organizzato dal governo Italiano per la presidenza dell’Europa Unita
URL:https://www.lydiacevidalli.it/eventi/festival-europalia-belgio/
LOCATION:Château de Chimay\, Rue du Chateau 14\, Chimay \, 6460\, Belgio
CATEGORIES:Ensemble Salomone Rossi
ATTACH;FMTTYPE=image/jpeg:https://www.lydiacevidalli.it/wp-content/uploads/2017/05/chimay_concerto.jpg
END:VEVENT
BEGIN:VEVENT
DTSTART;VALUE=DATE:20031023
DTEND;VALUE=DATE:20031024
DTSTAMP:20260421T000125
CREATED:20170505T130100Z
LAST-MODIFIED:20170508T132923Z
UID:29216-1066867200-1066953599@www.lydiacevidalli.it
SUMMARY:Festival Europalia - Bruges
DESCRIPTION:Fiori musicali dal Barocco Ebraico\, con Gloria Banditelli e Caterina Trogu Roerich\nFestival organizzato dal governo Italiano per la presidenza dell’Europa Unita
URL:https://www.lydiacevidalli.it/eventi/festival-europalia-bruges/
LOCATION:Concertgebouw\, Het Zand 34\,\, Brugge\, 8000 \, Belgio
CATEGORIES:Ensemble Salomone Rossi
ATTACH;FMTTYPE=image/jpeg:https://www.lydiacevidalli.it/wp-content/uploads/2017/05/bruxelles__2003_001.jpg
END:VEVENT
BEGIN:VEVENT
DTSTART;VALUE=DATE:20030911
DTEND;VALUE=DATE:20030912
DTSTAMP:20260421T000125
CREATED:20170505T125141Z
LAST-MODIFIED:20170508T131129Z
UID:29211-1063238400-1063324799@www.lydiacevidalli.it
SUMMARY:IV Giornata Europea della Cultura Ebraica 2003
DESCRIPTION:Fiori Musicali dal Barocco Ebraico\nMelodie e Arie provenienti dalle Comunità Ebraiche del XVII e XVIII secolo
URL:https://www.lydiacevidalli.it/eventi/iv-giornata-europea-della-cultura-ebraica-2003-2/
LOCATION:Conservatorio di Verona – Sala Montemezzi\, Via Abramo Massalongo\, 2\, Verona\, 37121 \, Italia
CATEGORIES:Ensemble Salomone Rossi
ATTACH;FMTTYPE=image/jpeg:https://www.lydiacevidalli.it/wp-content/uploads/2017/05/verona_11_sett_03_cattura.jpg
END:VEVENT
BEGIN:VEVENT
DTSTART;VALUE=DATE:20030601
DTEND;VALUE=DATE:20030602
DTSTAMP:20260421T000125
CREATED:20170505T122831Z
LAST-MODIFIED:20170508T130326Z
UID:29203-1054425600-1054511999@www.lydiacevidalli.it
SUMMARY:Vicino a Gerusalemme\, Giornata di Cultura Ebraica
DESCRIPTION:L’incasso sarà devoluto al restauro dell’antico cimitero ebraico di Vittorio Veneto
URL:https://www.lydiacevidalli.it/eventi/vicino-gerusalemme-giornata-di-cultura-ebraica/
LOCATION:Ex Magazzino del Ghetto Ebraico\, Via Daniele Manin\, Vittorio Veneto\, 31029
CATEGORIES:Ensemble Salomone Rossi
ATTACH;FMTTYPE=image/jpeg:https://www.lydiacevidalli.it/wp-content/uploads/2017/05/invito_cattura_0.jpg
END:VEVENT
END:VCALENDAR