BEGIN:VCALENDAR
VERSION:2.0
PRODID:-//Lydia Cevidalli - Musicista - ECPv6.15.20//NONSGML v1.0//EN
CALSCALE:GREGORIAN
METHOD:PUBLISH
X-WR-CALNAME:Lydia Cevidalli - Musicista
X-ORIGINAL-URL:https://www.lydiacevidalli.it
X-WR-CALDESC:Eventi per Lydia Cevidalli - Musicista
REFRESH-INTERVAL;VALUE=DURATION:PT1H
X-Robots-Tag:noindex
X-PUBLISHED-TTL:PT1H
BEGIN:VTIMEZONE
TZID:Europe/Rome
BEGIN:DAYLIGHT
TZOFFSETFROM:+0100
TZOFFSETTO:+0200
TZNAME:CEST
DTSTART:19900325T010000
END:DAYLIGHT
BEGIN:STANDARD
TZOFFSETFROM:+0200
TZOFFSETTO:+0100
TZNAME:CET
DTSTART:19900930T010000
END:STANDARD
BEGIN:DAYLIGHT
TZOFFSETFROM:+0100
TZOFFSETTO:+0200
TZNAME:CEST
DTSTART:19910331T010000
END:DAYLIGHT
BEGIN:STANDARD
TZOFFSETFROM:+0200
TZOFFSETTO:+0100
TZNAME:CET
DTSTART:19910929T010000
END:STANDARD
BEGIN:DAYLIGHT
TZOFFSETFROM:+0100
TZOFFSETTO:+0200
TZNAME:CEST
DTSTART:19920329T010000
END:DAYLIGHT
BEGIN:STANDARD
TZOFFSETFROM:+0200
TZOFFSETTO:+0100
TZNAME:CET
DTSTART:19920927T010000
END:STANDARD
BEGIN:DAYLIGHT
TZOFFSETFROM:+0100
TZOFFSETTO:+0200
TZNAME:CEST
DTSTART:19930328T010000
END:DAYLIGHT
BEGIN:STANDARD
TZOFFSETFROM:+0200
TZOFFSETTO:+0100
TZNAME:CET
DTSTART:19930926T010000
END:STANDARD
BEGIN:DAYLIGHT
TZOFFSETFROM:+0100
TZOFFSETTO:+0200
TZNAME:CEST
DTSTART:19940327T010000
END:DAYLIGHT
BEGIN:STANDARD
TZOFFSETFROM:+0200
TZOFFSETTO:+0100
TZNAME:CET
DTSTART:19940925T010000
END:STANDARD
BEGIN:DAYLIGHT
TZOFFSETFROM:+0100
TZOFFSETTO:+0200
TZNAME:CEST
DTSTART:19950326T010000
END:DAYLIGHT
BEGIN:STANDARD
TZOFFSETFROM:+0200
TZOFFSETTO:+0100
TZNAME:CET
DTSTART:19950924T010000
END:STANDARD
BEGIN:DAYLIGHT
TZOFFSETFROM:+0100
TZOFFSETTO:+0200
TZNAME:CEST
DTSTART:19960331T010000
END:DAYLIGHT
BEGIN:STANDARD
TZOFFSETFROM:+0200
TZOFFSETTO:+0100
TZNAME:CET
DTSTART:19961027T010000
END:STANDARD
BEGIN:DAYLIGHT
TZOFFSETFROM:+0100
TZOFFSETTO:+0200
TZNAME:CEST
DTSTART:19970330T010000
END:DAYLIGHT
BEGIN:STANDARD
TZOFFSETFROM:+0200
TZOFFSETTO:+0100
TZNAME:CET
DTSTART:19971026T010000
END:STANDARD
BEGIN:DAYLIGHT
TZOFFSETFROM:+0100
TZOFFSETTO:+0200
TZNAME:CEST
DTSTART:19980329T010000
END:DAYLIGHT
BEGIN:STANDARD
TZOFFSETFROM:+0200
TZOFFSETTO:+0100
TZNAME:CET
DTSTART:19981025T010000
END:STANDARD
BEGIN:DAYLIGHT
TZOFFSETFROM:+0100
TZOFFSETTO:+0200
TZNAME:CEST
DTSTART:19990328T010000
END:DAYLIGHT
BEGIN:STANDARD
TZOFFSETFROM:+0200
TZOFFSETTO:+0100
TZNAME:CET
DTSTART:19991031T010000
END:STANDARD
BEGIN:DAYLIGHT
TZOFFSETFROM:+0100
TZOFFSETTO:+0200
TZNAME:CEST
DTSTART:20000326T010000
END:DAYLIGHT
BEGIN:STANDARD
TZOFFSETFROM:+0200
TZOFFSETTO:+0100
TZNAME:CET
DTSTART:20001029T010000
END:STANDARD
BEGIN:DAYLIGHT
TZOFFSETFROM:+0100
TZOFFSETTO:+0200
TZNAME:CEST
DTSTART:20010325T010000
END:DAYLIGHT
BEGIN:STANDARD
TZOFFSETFROM:+0200
TZOFFSETTO:+0100
TZNAME:CET
DTSTART:20011028T010000
END:STANDARD
BEGIN:DAYLIGHT
TZOFFSETFROM:+0100
TZOFFSETTO:+0200
TZNAME:CEST
DTSTART:20020331T010000
END:DAYLIGHT
BEGIN:STANDARD
TZOFFSETFROM:+0200
TZOFFSETTO:+0100
TZNAME:CET
DTSTART:20021027T010000
END:STANDARD
BEGIN:DAYLIGHT
TZOFFSETFROM:+0100
TZOFFSETTO:+0200
TZNAME:CEST
DTSTART:20030330T010000
END:DAYLIGHT
BEGIN:STANDARD
TZOFFSETFROM:+0200
TZOFFSETTO:+0100
TZNAME:CET
DTSTART:20031026T010000
END:STANDARD
BEGIN:DAYLIGHT
TZOFFSETFROM:+0100
TZOFFSETTO:+0200
TZNAME:CEST
DTSTART:20040328T010000
END:DAYLIGHT
BEGIN:STANDARD
TZOFFSETFROM:+0200
TZOFFSETTO:+0100
TZNAME:CET
DTSTART:20041031T010000
END:STANDARD
BEGIN:DAYLIGHT
TZOFFSETFROM:+0100
TZOFFSETTO:+0200
TZNAME:CEST
DTSTART:20050327T010000
END:DAYLIGHT
BEGIN:STANDARD
TZOFFSETFROM:+0200
TZOFFSETTO:+0100
TZNAME:CET
DTSTART:20051030T010000
END:STANDARD
BEGIN:DAYLIGHT
TZOFFSETFROM:+0100
TZOFFSETTO:+0200
TZNAME:CEST
DTSTART:20060326T010000
END:DAYLIGHT
BEGIN:STANDARD
TZOFFSETFROM:+0200
TZOFFSETTO:+0100
TZNAME:CET
DTSTART:20061029T010000
END:STANDARD
BEGIN:DAYLIGHT
TZOFFSETFROM:+0100
TZOFFSETTO:+0200
TZNAME:CEST
DTSTART:20070325T010000
END:DAYLIGHT
BEGIN:STANDARD
TZOFFSETFROM:+0200
TZOFFSETTO:+0100
TZNAME:CET
DTSTART:20071028T010000
END:STANDARD
BEGIN:DAYLIGHT
TZOFFSETFROM:+0100
TZOFFSETTO:+0200
TZNAME:CEST
DTSTART:20080330T010000
END:DAYLIGHT
BEGIN:STANDARD
TZOFFSETFROM:+0200
TZOFFSETTO:+0100
TZNAME:CET
DTSTART:20081026T010000
END:STANDARD
BEGIN:DAYLIGHT
TZOFFSETFROM:+0100
TZOFFSETTO:+0200
TZNAME:CEST
DTSTART:20090329T010000
END:DAYLIGHT
BEGIN:STANDARD
TZOFFSETFROM:+0200
TZOFFSETTO:+0100
TZNAME:CET
DTSTART:20091025T010000
END:STANDARD
BEGIN:DAYLIGHT
TZOFFSETFROM:+0100
TZOFFSETTO:+0200
TZNAME:CEST
DTSTART:20100328T010000
END:DAYLIGHT
BEGIN:STANDARD
TZOFFSETFROM:+0200
TZOFFSETTO:+0100
TZNAME:CET
DTSTART:20101031T010000
END:STANDARD
BEGIN:DAYLIGHT
TZOFFSETFROM:+0100
TZOFFSETTO:+0200
TZNAME:CEST
DTSTART:20110327T010000
END:DAYLIGHT
BEGIN:STANDARD
TZOFFSETFROM:+0200
TZOFFSETTO:+0100
TZNAME:CET
DTSTART:20111030T010000
END:STANDARD
BEGIN:DAYLIGHT
TZOFFSETFROM:+0100
TZOFFSETTO:+0200
TZNAME:CEST
DTSTART:20120325T010000
END:DAYLIGHT
BEGIN:STANDARD
TZOFFSETFROM:+0200
TZOFFSETTO:+0100
TZNAME:CET
DTSTART:20121028T010000
END:STANDARD
END:VTIMEZONE
BEGIN:VEVENT
DTSTART;VALUE=DATE:20111108
DTEND;VALUE=DATE:20111109
DTSTAMP:20260421T191141
CREATED:20170506T132412Z
LAST-MODIFIED:20170506T132412Z
UID:29385-1320710400-1320796799@www.lydiacevidalli.it
SUMMARY:Dies Academicus
DESCRIPTION:La Biblioteca Ambrosiana organizza il Dies Academicus: le conferenze verranno intervallate da momenti musicali; Rav Elia Richetti\, voce – Lydia Cevidalli\, violino – Marlise Goidanich\, violoncello interpretano brani liturgici e musica sacra dal repertorio ebraico
URL:https://www.lydiacevidalli.it/eventi/dies-academicus-2/
LOCATION:Biblioteca Ambrosiana\, Piazza Pio XI\, 2\, Milano\, Italia
CATEGORIES:Lydia Cevidalli
ATTACH;FMTTYPE=image/jpeg:https://www.lydiacevidalli.it/wp-content/uploads/2017/05/ambrosiana_immagine.jpg
END:VEVENT
BEGIN:VEVENT
DTSTART;VALUE=DATE:20110721
DTEND;VALUE=DATE:20110722
DTSTAMP:20260421T191141
CREATED:20170506T131754Z
LAST-MODIFIED:20170506T131754Z
UID:29380-1311206400-1311292799@www.lydiacevidalli.it
SUMMARY:Aspettando Bacco e Bach - Una pausa di gusto in Monferrato
DESCRIPTION:Festival Internazionale Musica Classica e Vino\nAleksandra Koreneva\, clavicembalo; Anna Kondrashina\, flauto traverso; Lydia Cevidalli\, Daniel Fradkin\, Hila Lifshitz\, violini; Daniel Tanchelson\, viola; Gabriele Fioritti\, violoncello\nJ.S. Bach: Concerto Italiano\, Sonata per flauto e bc\, Trio sonate 1038 e 1039\, Concerto Brandeburghese n.5
URL:https://www.lydiacevidalli.it/eventi/aspettando-bacco-e-bach-una-pausa-di-gusto-monferrato/
LOCATION:Locanda dell’Arte\, Via Asilo Manacorda\, 3\, \, Solonghello\, AL\, 15020\, Italia
CATEGORIES:Lydia Cevidalli
ATTACH;FMTTYPE=image/jpeg:https://www.lydiacevidalli.it/wp-content/uploads/2017/05/cattura_bach.jpg
END:VEVENT
BEGIN:VEVENT
DTSTART;VALUE=DATE:20110719
DTEND;VALUE=DATE:20110720
DTSTAMP:20260421T191141
CREATED:20170506T130941Z
LAST-MODIFIED:20170506T130941Z
UID:29376-1311033600-1311119999@www.lydiacevidalli.it
SUMMARY:Gruppo vocale e strumentale MusicaNova
DESCRIPTION:Musiche di Bellini\, Schubert\, Mozart\, Viviani e Gounod
URL:https://www.lydiacevidalli.it/eventi/gruppo-vocale-e-strumentale-musicanova/
LOCATION:Chiesa di Sant’Andrea\, Levanto\, SP\, 19015 \, Italia
CATEGORIES:Lydia Cevidalli
ATTACH;FMTTYPE=image/jpeg:https://www.lydiacevidalli.it/wp-content/uploads/2017/05/dscf0231.jpg
END:VEVENT
BEGIN:VEVENT
DTSTART;VALUE=DATE:20110507
DTEND;VALUE=DATE:20110508
DTSTAMP:20260421T191141
CREATED:20170506T124531Z
LAST-MODIFIED:20170506T124531Z
UID:29367-1304726400-1304812799@www.lydiacevidalli.it
SUMMARY:Il violino nella cultura ebraica\, conferenza - parte seconda
DESCRIPTION:Il ruolo del violino e della musica nella cultura ebraica dell’ Europa orientale: dall’Illuminismo al Novecento
URL:https://www.lydiacevidalli.it/eventi/il-violino-nella-cultura-ebraica-conferenza-parte-seconda/
LOCATION:Museo Civico Ala Ponzone\, via Ugolani Dati\, 4\, Cremona\, 26100\, Italia
CATEGORIES:Lydia Cevidalli
END:VEVENT
BEGIN:VEVENT
DTSTART;VALUE=DATE:20110428
DTEND;VALUE=DATE:20110430
DTSTAMP:20260421T191141
CREATED:20170506T112847Z
LAST-MODIFIED:20170506T113051Z
UID:29364-1303948800-1304121599@www.lydiacevidalli.it
SUMMARY:Master class
DESCRIPTION:Master class di violino barocco
URL:https://www.lydiacevidalli.it/eventi/master-class/
LOCATION:Jāzeps Vītols Latvian Academy of Music\, Krišjāņa Barona iela 1\, Rīga\, LV-1050\, Lettonia
CATEGORIES:Lydia Cevidalli
ATTACH;FMTTYPE=image/jpeg:https://www.lydiacevidalli.it/wp-content/uploads/2017/05/dscf0147.jpg
END:VEVENT
BEGIN:VEVENT
DTSTART;VALUE=DATE:20110414
DTEND;VALUE=DATE:20110415
DTSTAMP:20260421T191141
CREATED:20170506T112135Z
LAST-MODIFIED:20170506T112135Z
UID:29362-1302739200-1302825599@www.lydiacevidalli.it
SUMMARY:Klezmer\, Sefardì and Songs
DESCRIPTION:
URL:https://www.lydiacevidalli.it/eventi/klezmer-sefardi-songs/
LOCATION:Istituto Italiano di Cultura\, Rue de Livourne 38\, Bruxelles\, 1000 \, Belgio
CATEGORIES:Ensemble Salomone Rossi,Lydia Cevidalli
END:VEVENT
BEGIN:VEVENT
DTSTART;VALUE=DATE:20110326
DTEND;VALUE=DATE:20110327
DTSTAMP:20260421T191141
CREATED:20170506T110119Z
LAST-MODIFIED:20170506T110119Z
UID:29359-1301097600-1301183999@www.lydiacevidalli.it
SUMMARY:Il violino nella cultura ebraica\, conferenza prima parte
DESCRIPTION:Conferenza sul ruolo del violino e della musica nella cultura ebraica: Rinascimento e Barocco
URL:https://www.lydiacevidalli.it/eventi/il-violino-nella-cultura-ebraica-conferenza-prima-parte/
LOCATION:Museo Civico Ala Ponzone\, via Ugolani Dati\, 4\, Cremona\, 26100\, Italia
CATEGORIES:Ensemble Salomone Rossi,Lydia Cevidalli
END:VEVENT
BEGIN:VEVENT
DTSTART;VALUE=DATE:20110325
DTEND;VALUE=DATE:20110326
DTSTAMP:20260421T191141
CREATED:20170506T105452Z
LAST-MODIFIED:20170506T105452Z
UID:29358-1301011200-1301097599@www.lydiacevidalli.it
SUMMARY:intervista a Radio3 Suite\, ore 22
DESCRIPTION:
URL:https://www.lydiacevidalli.it/eventi/intervista-radio3-suite-ore-22/
LOCATION:SP
CATEGORIES:Lydia Cevidalli
END:VEVENT
BEGIN:VEVENT
DTSTART;VALUE=DATE:19910616
DTEND;VALUE=DATE:19910617
DTSTAMP:20260421T191141
CREATED:20170504T150743Z
LAST-MODIFIED:20170508T105038Z
UID:29157-677030400-677116799@www.lydiacevidalli.it
SUMMARY:Cinquecento anni dalla diaspora spagnola
DESCRIPTION:Prima esecuzione in Italia in tempi moderni del repertorio proveniente dalle Comunità ebraiche italiane ed europee dei secoli XVII e XVIII.\nX edizione di “Concerti in Sinagoga”\, a cura della Comunità Ebraica di Parma e “Famiglia Soragnese”; con il sostegno di Banca del Monte di Parma e Publitalia ’80.
URL:https://www.lydiacevidalli.it/eventi/cinquecento-anni-dalla-diaspora-spagnola/
LOCATION:Sinagoga di Soragna\, Via Camillo Benso Conte di Cavour\, 43\, Soragna\, 43019\, Italia
CATEGORIES:Ensemble Salomone Rossi,Lydia Cevidalli
ATTACH;FMTTYPE=image/jpeg:https://www.lydiacevidalli.it/wp-content/uploads/2017/05/soragna_cattura_1.jpg
END:VEVENT
END:VCALENDAR